BEGIN:VCALENDAR
VERSION:2.0
PRODID:-//Classic Cooking Academy - An Arizona Culinary School - ECPv6.15.20//NONSGML v1.0//EN
CALSCALE:GREGORIAN
METHOD:PUBLISH
X-WR-CALNAME:Classic Cooking Academy - An Arizona Culinary School
X-ORIGINAL-URL:https://www.ccacademy.edu
X-WR-CALDESC:Events for Classic Cooking Academy - An Arizona Culinary School
REFRESH-INTERVAL;VALUE=DURATION:PT1H
X-Robots-Tag:noindex
X-PUBLISHED-TTL:PT1H
BEGIN:VTIMEZONE
TZID:UTC
BEGIN:STANDARD
TZOFFSETFROM:+0000
TZOFFSETTO:+0000
TZNAME:UTC
DTSTART:20250101T000000
END:STANDARD
END:VTIMEZONE
BEGIN:VEVENT
DTSTART;TZID=UTC:20260425T180000
DTEND;TZID=UTC:20260425T200000
DTSTAMP:20260425T153322
CREATED:20260115T200017Z
LAST-MODIFIED:20260408T224909Z
UID:31320-1777140000-1777147200@www.ccacademy.edu
SUMMARY:Saturday Wine Dinner (04/25/26)
DESCRIPTION:Saturday Wine Dinner – Menu:\n\nCaramelized Carrot and Ginger Soup\, Orange Crisp\nSeared Mahi\, Lemon Basil Beurre Blanc\, Mushroom and Spinach in Phyllo\nFlat Iron au Poivre\, Red Wine Jus\, Butter Whipped Potatoes\, Grilled Asparagus\nChocolate Budino with Orange Biscotti\n\nAbout:\nA delicious spin on wine tastings. Our Wine Dinners are one of our few offers that do not incorporate hands-on cooking. Instead\, guests sit down\, meet our lead chef\, and enjoy a four course dinner with specially paired wines. With each course\, our staff will talk about the food as well as discussing the wine’s taste\, variety\, background\, and vintage. For a food and wine pairing\, you’d be hard pressed to find a tastier option. \nSaturday Wine Dinner – More Info:\n\nCOST: $80 per person. Gratuity is not included in the class price.\n\nTips for our staff for this evening are not expected but are greatly appreciated. All gratuities are evenly distributed amongst our staff members.\nIf your party has six or more guests\, you can still reserve spots for any recreational class or event if you do not wish to do a private party. However\, we will charge your group an 18% service fee at the time of your reservation. With this in mind\, it is preferred that you register your entire party all at once to avoid scheduling complications.\n\n\nTo make a reservation\, use the PayPal button below. If the PayPal button has been removed or you wish to pay another way\, please call 480-502-0177 or email info@ccacademy.edu.\nWine Dinners are held on select Saturdays\, 6:00 – 8:00pm. Attendees must be 21 years or older to consume any alcohol.\nThis class is not a cooking class. There is no portion of the class that is hands-on or demonstrative – our wine dinners are food and wine tastings featuring deliciously paired courses.\nWe have a 72-hour cancellation policy. This means that you have three days before the class starts to cancel or change your reservation.\n\n If you have to cancel within this time period\, you will only receive a credit to apply towards a different event. We do not issue monetary refunds.\n\n\nNo dietary restrictions or allergies will be accommodated for this class. If one or more items on tonight’s menu conflicts with your needs\, please reserve spots for an alternative Wine Dinner.\nVisit our website calendar for all future and upcoming Wine Dinners!\n\nFor a more flexible option on food and wine pairings\, consider scheduling your own Private Wine Dinner.\n\n\nClass size is limited to 36 people. Reservations are based on a ‘first come-first serve’ basis.\nDinner starts at 6:00pm sharp. Please be here at least 10 minutes early wearing comfortable and appropriate clothing.\nThis Scottsdale Wine Dinner is hosted at our original Arizona location.\nTake a look at our staff and instructors page to get an idea on who may be teaching this class.\nTo view some dishes from prior Wine Dinners\, visit our Instagram page!\n\nREGISTER HERE:\n\n \n\n\n\n\nNumber of People\n\n\n1 Person $80.00 USD2 People $160.00 USD3 People $240.00 USD4 People $320.00 USD5 People $400.00 USD6 People $480.00 USD\n\n\n\nName\n\n\n\n\n\n\nPhone Number
URL:https://www.ccacademy.edu/calendar/saturday-wine-dinner-04-25-26/
CATEGORIES:Wine Dinner
ATTACH;FMTTYPE=image/png:https://www.ccacademy.edu/wp-content/uploads/2025/11/Saturday-Wine-Dinner-Featured-Image-1.png
END:VEVENT
END:VCALENDAR