BEGIN:VCALENDAR
VERSION:2.0
PRODID:-//Classic Cooking Academy - An Arizona Culinary School - ECPv6.15.20//NONSGML v1.0//EN
CALSCALE:GREGORIAN
METHOD:PUBLISH
X-WR-CALNAME:Classic Cooking Academy - An Arizona Culinary School
X-ORIGINAL-URL:https://www.ccacademy.edu
X-WR-CALDESC:Events for Classic Cooking Academy - An Arizona Culinary School
REFRESH-INTERVAL;VALUE=DURATION:PT1H
X-Robots-Tag:noindex
X-PUBLISHED-TTL:PT1H
BEGIN:VTIMEZONE
TZID:UTC
BEGIN:STANDARD
TZOFFSETFROM:+0000
TZOFFSETTO:+0000
TZNAME:UTC
DTSTART:20250101T000000
END:STANDARD
END:VTIMEZONE
BEGIN:VEVENT
DTSTART;TZID=UTC:20260517T160000
DTEND;TZID=UTC:20260517T183000
DTSTAMP:20260425T133600
CREATED:20260324T232513Z
LAST-MODIFIED:20260325T025035Z
UID:32064-1779033600-1779042600@www.ccacademy.edu
SUMMARY:Mediterranean Class – Return to Italy (05/17/26)
DESCRIPTION:Menu – Return to Italy:\n\nCaprese Bruschetta\nFour-Cheese & Herb Ravioli\nChicken Saltimbocca with Parmesan Polenta\nSeasonal Vegetables\nItalian Cheesecake Strudel\n\nAbout:\nMediterranean cuisine doesn’t belong to a single country — it’s a living tapestry of flavors woven across three continents and hundreds of cultures\, from the sun-drenched coasts of southern Europe to the spice-rich markets of North Africa and the Middle East\, and in this class\, we bring the very best of that world together in one unforgettable evening. In our Mediterranean Class\, you’ll arrive to complimentary beverages\, get acquainted with your chef\, and walk through a curated menu before splitting into groups to cook the dish that calls your name — then gather at the end of the night to share and savor everything you’ve made together. \nAll Mediterranean Classes include complimentary wine\, beer\, soda\, and soft drinks! \nMore Info:\n\nTo make a reservation\, please use the PayPal button below. If you wish to pay via a different method\, call 480-502-0177. \nCOST: $80 per person. Gratuity is not included in the class price.\n\nTips for our staff for this evening are not expected but are greatly appreciated. All gratuities are evenly distributed amongst our staff members.\n\n\nMediterranean Cooking Classes are held on select Sundays\, 4:00 – 6:30pm. Attendees must be 21 years or older to consume any alcohol.\nWe have a 72-hour cancellation policy. This means that you have three days before the class starts to cancel or change your reservation.\n\nIf you have to cancel within this time period\, you are subject to forfeiture of any payments made to this class.\n\n\nNo dietary restrictions or allergies will be accommodated for this class. If one or more items on tonight’s menu conflicts with your needs\, please reserve spots for an alternative Cooking Class.\nClass size is limited to 20 people. Reservations are based on a ‘first come-first serve’ basis.\nClass starts at 4:00pm sharp. Please be here at least 10 minutes early wearing comfortable clothes and closed-toed shoes. If you have long hair\, be sure to tie it behind your head.\nStudents will receive a full copy of all recipes for use at home.\nTake a look at our staff and instructors page to get a feel over who may be teaching this class.\nClick here to visit our website calendar to view all of our other upcoming classes and events.\n\nIf you would like to use any Mediterranean Class menu for a Private Cooking Party\, contact our staff and we will accommodate you!\n\n\nVisit our Instagram page to see how prior Mediterranean Classes looked like!\n\nREGISTER HERE:\n\n \n\n\n\n\nNumber of People\n\n\n1 Person $80.00 USD2 People $160.00 USD3 People $240.00 USD4 People $320.00 USD5 People $400.00 USD6 People $480.00 USD\n\n\n\nName\n\n\n\n\n\n\nPhone Number
URL:https://www.ccacademy.edu/calendar/mediterranean-class-return-to-italy-05-17-26/
CATEGORIES:Sunday Supper
ATTACH;FMTTYPE=image/jpeg:https://www.ccacademy.edu/wp-content/uploads/2026/03/Mediterranean-Class-Featured-Image-NEW.jpg
END:VEVENT
END:VCALENDAR