BEGIN:VCALENDAR
VERSION:2.0
PRODID:-//Classic Cooking Academy - An Arizona Culinary School - ECPv6.15.20//NONSGML v1.0//EN
CALSCALE:GREGORIAN
METHOD:PUBLISH
X-ORIGINAL-URL:https://www.ccacademy.edu
X-WR-CALDESC:Events for Classic Cooking Academy - An Arizona Culinary School
REFRESH-INTERVAL;VALUE=DURATION:PT1H
X-Robots-Tag:noindex
X-PUBLISHED-TTL:PT1H
BEGIN:VTIMEZONE
TZID:UTC
BEGIN:STANDARD
TZOFFSETFROM:+0000
TZOFFSETTO:+0000
TZNAME:UTC
DTSTART:20250101T000000
END:STANDARD
END:VTIMEZONE
BEGIN:VEVENT
DTSTART;TZID=UTC:20260611T183000
DTEND;TZID=UTC:20260611T210000
DTSTAMP:20260425T163950
CREATED:20260202T204832Z
LAST-MODIFIED:20260202T205121Z
UID:31492-1781202600-1781211600@www.ccacademy.edu
SUMMARY:Practical Series – Week 11 (06/11/26)
DESCRIPTION:Practical Series – Topic:\n\nVegetables\n\nGrilled – Eggplant with Goat Cheese\nStewed – Ratatouille\n\n\n\nAbout:\nThe Practical Series is Classic Cooking Academy’s flagship program. Spanning 24 weeks\, this series will educate you around the logistics of the kitchen one step at a time. In each class\, students will first learn their weekly topic(s) from the chef’s lecture before heading into the kitchen to cook dishes on what they’ve just learned. By the end of the course\, students will have a full understanding of nearly every facet of cooking. Don’t be hesitant if you think you’re not up to the task – this class is open for any and all skill levels. \nCosts:\nLump Sum Cost of Practical Series – $2\,500.00. \nPayment Plan of Practical Series – Deposit of $550.00 and then six payments of $325.00 on the first class of each month. \nChef Jacket Fee – $45 (automatically allocated into the deposit).  \n*NOTE*: If you already have a Classic Cooking chef jacket from a prior program and still wish to attend the Practical Series\, please call our staff to register. \nRegister:\nClick here to register on the main Practical Series webpage. \nMore Info:\n\nStudents will be learning techniques of cooking rather than looking at recipes.\n\nAs a result\, bring your own notes and a writing utensil.\n\n\nClass starts at 6:30pm (Thursday Evening sessions) or 1:00pm (Friday Afternoon sessions) sharp. Please be here at least 5 minutes early wearing your chef jacket.\n\nIf you know you will be late or absent entirely for this class\, please notify us beforehand. Our phone number is 480-502-0177 and our email is info@ccacademy.edu.\n\n\nIf you need to make up this class from a previous session\, please notify us beforehand. Our phone number is 480-502-0177 and our email is info@ccacademy.edu.\nTo view the overall curriculum of the this program\, click here.\nTo see how prior sessions looked like\, click here to visit our Instagram page!
URL:https://www.ccacademy.edu/calendar/practical-series-week-11-06-11-26/
CATEGORIES:Practical Series
ATTACH;FMTTYPE=image/jpeg:https://www.ccacademy.edu/wp-content/uploads/2018/05/Ratatouille.jpg
END:VEVENT
END:VCALENDAR