BEGIN:VCALENDAR
VERSION:2.0
PRODID:-//Classic Cooking Academy - An Arizona Culinary School - ECPv6.15.20//NONSGML v1.0//EN
CALSCALE:GREGORIAN
METHOD:PUBLISH
X-ORIGINAL-URL:https://www.ccacademy.edu
X-WR-CALDESC:Events for Classic Cooking Academy - An Arizona Culinary School
REFRESH-INTERVAL;VALUE=DURATION:PT1H
X-Robots-Tag:noindex
X-PUBLISHED-TTL:PT1H
BEGIN:VTIMEZONE
TZID:UTC
BEGIN:STANDARD
TZOFFSETFROM:+0000
TZOFFSETTO:+0000
TZNAME:UTC
DTSTART:20250101T000000
END:STANDARD
END:VTIMEZONE
BEGIN:VEVENT
DTSTART;TZID=UTC:20260501T130000
DTEND;TZID=UTC:20260501T153000
DTSTAMP:20260425T131009
CREATED:20260203T180902Z
LAST-MODIFIED:20260203T181049Z
UID:31530-1777640400-1777649400@www.ccacademy.edu
SUMMARY:Practical Series – Week 5 (05/01/26)
DESCRIPTION:Practical Series – Topic:\n\nSauces\n\nDemi-Glace\nSmall Sauces\nRoux\nBéchamel\n\n\n\nAbout:\nThe Practical Series is Classic Cooking Academy’s flagship program. Spanning 24 weeks\, this series will educate you around the logistics of the kitchen one step at a time. In each class\, students will first learn their weekly topic(s) from the chef’s lecture before heading into the kitchen to cook dishes on what they’ve just learned. By the end of the course\, students will have a full understanding of nearly every facet of cooking. Don’t be hesitant if you think you’re not up to the task – this class is open for any and all skill levels. \nCosts:\nLump Sum Cost of Practical Series – $2\,500.00. \nPayment Plan of Practical Series – Deposit of $550.00 and then six payments of $325.00 on the first class of each month. \nChef Jacket Fee – $45 (automatically allocated into the deposit).  \n*NOTE*: If you already have a Classic Cooking chef jacket from a prior program and still wish to attend the Practical Series\, please call our staff to register. \nRegister:\nClick here to register on the main Practical Series webpage. \nMore Info:\n\nStudents will be learning techniques of cooking rather than looking at recipes.\n\nAs a result\, bring your own notes and a writing utensil.\n\n\nClass starts at 6:30pm (Thursday Evening sessions) or 1:00pm (Friday Afternoon sessions) sharp. Please be here at least 5 minutes early wearing your chef jacket.\n\nIf you know you will be late or absent entirely for this class\, please notify us beforehand. Our phone number is 480-502-0177 and our email is info@ccacademy.edu.\n\n\nIf you need to make up this class from a previous session\, please notify us beforehand. Our phone number is 480-502-0177 and our email is info@ccacademy.edu.\nTo view the overall curriculum of the this program\, click here.\nTo see how prior sessions looked like\, click here to visit our Instagram page!
URL:https://www.ccacademy.edu/calendar/practical-series-week-5-05-01-26/
CATEGORIES:Practical Series
ATTACH;FMTTYPE=image/jpeg:https://www.ccacademy.edu/wp-content/uploads/2018/05/Demi-Glace.jpg
END:VEVENT
BEGIN:VEVENT
DTSTART;TZID=UTC:20260507T183000
DTEND;TZID=UTC:20260507T210000
DTSTAMP:20260425T131009
CREATED:20260202T202712Z
LAST-MODIFIED:20260202T202817Z
UID:31482-1778178600-1778187600@www.ccacademy.edu
SUMMARY:Practical Series – Week 6 (05/07/26)
DESCRIPTION:Practical Series – Topic:\n\nEggs\n\nScrambled\nOmelette\nPoached\nHollandaise\n\n\n\nAbout:\nThe Practical Series is Classic Cooking Academy’s flagship program. Spanning 24 weeks\, this series will educate you around the logistics of the kitchen one step at a time. In each class\, students will first learn their weekly topic(s) from the chef’s lecture before heading into the kitchen to cook dishes on what they’ve just learned. By the end of the course\, students will have a full understanding of nearly every facet of cooking. Don’t be hesitant if you think you’re not up to the task – this class is open for any and all skill levels. \nCosts:\nLump Sum Cost of Practical Series – $2\,500.00. \nPayment Plan of Practical Series – Deposit of $550.00 and then six payments of $325.00 on the first class of each month. \nChef Jacket Fee – $45 (automatically allocated into the deposit).  \n*NOTE*: If you already have a Classic Cooking chef jacket from a prior program and still wish to attend the Practical Series\, please call our staff to register. \nRegister:\nClick here to register on the main Practical Series webpage. \nMore Info:\n\nStudents will be learning techniques of cooking rather than looking at recipes.\n\nAs a result\, bring your own notes and a writing utensil.\n\n\nClass starts at 6:30pm (Thursday Evening sessions) or 1:00pm (Friday Afternoon sessions) sharp. Please be here at least 5 minutes early wearing your chef jacket.\n\nIf you know you will be late or absent entirely for this class\, please notify us beforehand. Our phone number is 480-502-0177 and our email is info@ccacademy.edu.\n\n\nIf you need to make up this class from a previous session\, please notify us beforehand. Our phone number is 480-502-0177 and our email is info@ccacademy.edu.\nTo view the overall curriculum of the this program\, click here.\nTo see how prior sessions looked like\, click here to visit our Instagram page!
URL:https://www.ccacademy.edu/calendar/practical-series-week-6-05-07-26/
CATEGORIES:Practical Series
ATTACH;FMTTYPE=image/jpeg:https://www.ccacademy.edu/wp-content/uploads/2018/05/Hollandaise.jpeg
END:VEVENT
BEGIN:VEVENT
DTSTART;TZID=UTC:20260508T130000
DTEND;TZID=UTC:20260508T153000
DTSTAMP:20260425T131009
CREATED:20260203T181635Z
LAST-MODIFIED:20260203T181939Z
UID:31532-1778245200-1778254200@www.ccacademy.edu
SUMMARY:Practical Series – Week 6 (05/08/26)
DESCRIPTION:Practical Series – Topic:\n\nEggs\n\nScrambled\nOmelette\nPoached\nHollandaise\n\n\n\nAbout:\nThe Practical Series is Classic Cooking Academy’s flagship program. Spanning 24 weeks\, this series will educate you around the logistics of the kitchen one step at a time. In each class\, students will first learn their weekly topic(s) from the chef’s lecture before heading into the kitchen to cook dishes on what they’ve just learned. By the end of the course\, students will have a full understanding of nearly every facet of cooking. Don’t be hesitant if you think you’re not up to the task – this class is open for any and all skill levels. \nCosts:\nLump Sum Cost of Practical Series – $2\,500.00. \nPayment Plan of Practical Series – Deposit of $550.00 and then six payments of $325.00 on the first class of each month. \nChef Jacket Fee – $45 (automatically allocated into the deposit).  \n*NOTE*: If you already have a Classic Cooking chef jacket from a prior program and still wish to attend the Practical Series\, please call our staff to register. \nRegister:\nClick here to register on the main Practical Series webpage. \nMore Info:\n\nStudents will be learning techniques of cooking rather than looking at recipes.\n\nAs a result\, bring your own notes and a writing utensil.\n\n\nClass starts at 6:30pm (Thursday Evening sessions) or 1:00pm (Friday Afternoon sessions) sharp. Please be here at least 5 minutes early wearing your chef jacket.\n\nIf you know you will be late or absent entirely for this class\, please notify us beforehand. Our phone number is 480-502-0177 and our email is info@ccacademy.edu.\n\n\nIf you need to make up this class from a previous session\, please notify us beforehand. Our phone number is 480-502-0177 and our email is info@ccacademy.edu.\nTo view the overall curriculum of the this program\, click here.\nTo see how prior sessions looked like\, click here to visit our Instagram page!
URL:https://www.ccacademy.edu/calendar/practical-series-week-6-05-08-26/
CATEGORIES:Practical Series
ATTACH;FMTTYPE=image/jpeg:https://www.ccacademy.edu/wp-content/uploads/2018/05/Hollandaise.jpeg
END:VEVENT
BEGIN:VEVENT
DTSTART;TZID=UTC:20260514T183000
DTEND;TZID=UTC:20260514T210000
DTSTAMP:20260425T131009
CREATED:20260202T202958Z
LAST-MODIFIED:20260202T203101Z
UID:31484-1778783400-1778792400@www.ccacademy.edu
SUMMARY:Practical Series – Week 7 (05/14/26)
DESCRIPTION:Practical Series – Topic:\n\nEggs\n\nCustard\nCrème Caramel\nCrème Brûlée\nPie Crust\n\n\n\nAbout:\nThe Practical Series is Classic Cooking Academy’s flagship program. Spanning 24 weeks\, this series will educate you around the logistics of the kitchen one step at a time. In each class\, students will first learn their weekly topic(s) from the chef’s lecture before heading into the kitchen to cook dishes on what they’ve just learned. By the end of the course\, students will have a full understanding of nearly every facet of cooking. Don’t be hesitant if you think you’re not up to the task – this class is open for any and all skill levels. \nCosts:\nLump Sum Cost of Practical Series – $2\,500.00. \nPayment Plan of Practical Series – Deposit of $550.00 and then six payments of $325.00 on the first class of each month. \nChef Jacket Fee – $45 (automatically allocated into the deposit).  \n*NOTE*: If you already have a Classic Cooking chef jacket from a prior program and still wish to attend the Practical Series\, please call our staff to register. \nRegister:\nClick here to register on the main Practical Series webpage. \nMore Info:\n\nStudents will be learning techniques of cooking rather than looking at recipes.\n\nAs a result\, bring your own notes and a writing utensil.\n\n\nClass starts at 6:30pm (Thursday Evening sessions) or 1:00pm (Friday Afternoon sessions) sharp. Please be here at least 5 minutes early wearing your chef jacket.\n\nIf you know you will be late or absent entirely for this class\, please notify us beforehand. Our phone number is 480-502-0177 and our email is info@ccacademy.edu.\n\n\nIf you need to make up this class from a previous session\, please notify us beforehand. Our phone number is 480-502-0177 and our email is info@ccacademy.edu.\nTo view the overall curriculum of the this program\, click here.\nTo see how prior sessions looked like\, click here to visit our Instagram page!
URL:https://www.ccacademy.edu/calendar/practical-series-week-7-05-14-26/
CATEGORIES:Practical Series
ATTACH;FMTTYPE=image/jpeg:https://www.ccacademy.edu/wp-content/uploads/2018/05/creme-brulee.jpg
END:VEVENT
BEGIN:VEVENT
DTSTART;TZID=UTC:20260515T130000
DTEND;TZID=UTC:20260515T153000
DTSTAMP:20260425T131009
CREATED:20260203T182400Z
LAST-MODIFIED:20260203T182454Z
UID:31535-1778850000-1778859000@www.ccacademy.edu
SUMMARY:Practical Series – Week 7 (05/15/26)
DESCRIPTION:Practical Series – Topic:\n\nEggs\n\nCustard\nCrème Caramel\nCrème Brûlée\nPie Crust\n\n\n\nAbout:\nThe Practical Series is Classic Cooking Academy’s flagship program. Spanning 24 weeks\, this series will educate you around the logistics of the kitchen one step at a time. In each class\, students will first learn their weekly topic(s) from the chef’s lecture before heading into the kitchen to cook dishes on what they’ve just learned. By the end of the course\, students will have a full understanding of nearly every facet of cooking. Don’t be hesitant if you think you’re not up to the task – this class is open for any and all skill levels. \nCosts:\nLump Sum Cost of Practical Series – $2\,500.00. \nPayment Plan of Practical Series – Deposit of $550.00 and then six payments of $325.00 on the first class of each month. \nChef Jacket Fee – $45 (automatically allocated into the deposit).  \n*NOTE*: If you already have a Classic Cooking chef jacket from a prior program and still wish to attend the Practical Series\, please call our staff to register. \nRegister:\nClick here to register on the main Practical Series webpage. \nMore Info:\n\nStudents will be learning techniques of cooking rather than looking at recipes.\n\nAs a result\, bring your own notes and a writing utensil.\n\n\nClass starts at 6:30pm (Thursday Evening sessions) or 1:00pm (Friday Afternoon sessions) sharp. Please be here at least 5 minutes early wearing your chef jacket.\n\nIf you know you will be late or absent entirely for this class\, please notify us beforehand. Our phone number is 480-502-0177 and our email is info@ccacademy.edu.\n\n\nIf you need to make up this class from a previous session\, please notify us beforehand. Our phone number is 480-502-0177 and our email is info@ccacademy.edu.\nTo view the overall curriculum of the this program\, click here.\nTo see how prior sessions looked like\, click here to visit our Instagram page!
URL:https://www.ccacademy.edu/calendar/practical-series-week-7-05-15-26/
CATEGORIES:Practical Series
ATTACH;FMTTYPE=image/jpeg:https://www.ccacademy.edu/wp-content/uploads/2018/05/creme-brulee.jpg
END:VEVENT
BEGIN:VEVENT
DTSTART;TZID=UTC:20260521T183000
DTEND;TZID=UTC:20260521T210000
DTSTAMP:20260425T131009
CREATED:20260202T203324Z
LAST-MODIFIED:20260202T203731Z
UID:31486-1779388200-1779397200@www.ccacademy.edu
SUMMARY:Practical Series – Week 8 (05/21/26)
DESCRIPTION:Practical Series – Topic:\n\nSoufflés\n\nDessert & Savory\n\n\n\nAbout:\nThe Practical Series is Classic Cooking Academy’s flagship program. Spanning 24 weeks\, this series will educate you around the logistics of the kitchen one step at a time. In each class\, students will first learn their weekly topic(s) from the chef’s lecture before heading into the kitchen to cook dishes on what they’ve just learned. By the end of the course\, students will have a full understanding of nearly every facet of cooking. Don’t be hesitant if you think you’re not up to the task – this class is open for any and all skill levels. \nCosts:\nLump Sum Cost of Practical Series – $2\,500.00. \nPayment Plan of Practical Series – Deposit of $550.00 and then six payments of $325.00 on the first class of each month. \nChef Jacket Fee – $45 (automatically allocated into the deposit).  \n*NOTE*: If you already have a Classic Cooking chef jacket from a prior program and still wish to attend the Practical Series\, please call our staff to register. \nRegister:\nClick here to register on the main Practical Series webpage. \nMore Info:\n\nStudents will be learning techniques of cooking rather than looking at recipes.\n\nAs a result\, bring your own notes and a writing utensil.\n\n\nClass starts at 6:30pm (Thursday Evening sessions) or 1:00pm (Friday Afternoon sessions) sharp. Please be here at least 5 minutes early wearing your chef jacket.\n\nIf you know you will be late or absent entirely for this class\, please notify us beforehand. Our phone number is 480-502-0177 and our email is info@ccacademy.edu.\n\n\nIf you need to make up this class from a previous session\, please notify us beforehand. Our phone number is 480-502-0177 and our email is info@ccacademy.edu.\nTo view the overall curriculum of the this program\, click here.\nTo see how prior sessions looked like\, click here to visit our Instagram page!
URL:https://www.ccacademy.edu/calendar/practical-series-week-8-05-21-26/
CATEGORIES:Practical Series
ATTACH;FMTTYPE=image/jpeg:https://www.ccacademy.edu/wp-content/uploads/2018/05/Souffle.jpg
END:VEVENT
BEGIN:VEVENT
DTSTART;TZID=UTC:20260522T130000
DTEND;TZID=UTC:20260522T153000
DTSTAMP:20260425T131009
CREATED:20260203T182613Z
LAST-MODIFIED:20260203T182820Z
UID:31537-1779454800-1779463800@www.ccacademy.edu
SUMMARY:Practical Series – Week 8 (05/22/26)
DESCRIPTION:Practical Series – Topic:\n\nSoufflés\n\nDessert & Savory\n\n\n\nAbout:\nThe Practical Series is Classic Cooking Academy’s flagship program. Spanning 24 weeks\, this series will educate you around the logistics of the kitchen one step at a time. In each class\, students will first learn their weekly topic(s) from the chef’s lecture before heading into the kitchen to cook dishes on what they’ve just learned. By the end of the course\, students will have a full understanding of nearly every facet of cooking. Don’t be hesitant if you think you’re not up to the task – this class is open for any and all skill levels. \nCosts:\nLump Sum Cost of Practical Series – $2\,500.00. \nPayment Plan of Practical Series – Deposit of $550.00 and then six payments of $325.00 on the first class of each month. \nChef Jacket Fee – $45 (automatically allocated into the deposit).  \n*NOTE*: If you already have a Classic Cooking chef jacket from a prior program and still wish to attend the Practical Series\, please call our staff to register. \nRegister:\nClick here to register on the main Practical Series webpage. \nMore Info:\n\nStudents will be learning techniques of cooking rather than looking at recipes.\n\nAs a result\, bring your own notes and a writing utensil.\n\n\nClass starts at 6:30pm (Thursday Evening sessions) or 1:00pm (Friday Afternoon sessions) sharp. Please be here at least 5 minutes early wearing your chef jacket.\n\nIf you know you will be late or absent entirely for this class\, please notify us beforehand. Our phone number is 480-502-0177 and our email is info@ccacademy.edu.\n\n\nIf you need to make up this class from a previous session\, please notify us beforehand. Our phone number is 480-502-0177 and our email is info@ccacademy.edu.\nTo view the overall curriculum of the this program\, click here.\nTo see how prior sessions looked like\, click here to visit our Instagram page!
URL:https://www.ccacademy.edu/calendar/practical-series-week-8-05-22-26/
CATEGORIES:Practical Series
ATTACH;FMTTYPE=image/jpeg:https://www.ccacademy.edu/wp-content/uploads/2018/05/Souffle.jpg
END:VEVENT
BEGIN:VEVENT
DTSTART;TZID=UTC:20260528T183000
DTEND;TZID=UTC:20260528T210000
DTSTAMP:20260425T131009
CREATED:20260202T204341Z
LAST-MODIFIED:20260202T204432Z
UID:31488-1779993000-1780002000@www.ccacademy.edu
SUMMARY:Practical Series – Week 9 (05/28/26)
DESCRIPTION:Practical Series – Topic:\n\nVegetables\n\nBlanched\nSautéed\nBraised\nRoasted\n\n\n\nAbout:\nThe Practical Series is Classic Cooking Academy’s flagship program. Spanning 24 weeks\, this series will educate you around the logistics of the kitchen one step at a time. In each class\, students will first learn their weekly topic(s) from the chef’s lecture before heading into the kitchen to cook dishes on what they’ve just learned. By the end of the course\, students will have a full understanding of nearly every facet of cooking. Don’t be hesitant if you think you’re not up to the task – this class is open for any and all skill levels. \nCosts:\nLump Sum Cost of Practical Series – $2\,500.00. \nPayment Plan of Practical Series – Deposit of $550.00 and then six payments of $325.00 on the first class of each month. \nChef Jacket Fee – $45 (automatically allocated into the deposit).  \n*NOTE*: If you already have a Classic Cooking chef jacket from a prior program and still wish to attend the Practical Series\, please call our staff to register. \nRegister:\nClick here to register on the main Practical Series webpage. \nMore Info:\n\nStudents will be learning techniques of cooking rather than looking at recipes.\n\nAs a result\, bring your own notes and a writing utensil.\n\n\nClass starts at 6:30pm (Thursday Evening sessions) or 1:00pm (Friday Afternoon sessions) sharp. Please be here at least 5 minutes early wearing your chef jacket.\n\nIf you know you will be late or absent entirely for this class\, please notify us beforehand. Our phone number is 480-502-0177 and our email is info@ccacademy.edu.\n\n\nIf you need to make up this class from a previous session\, please notify us beforehand. Our phone number is 480-502-0177 and our email is info@ccacademy.edu.\nTo view the overall curriculum of the this program\, click here.\nTo see how prior sessions looked like\, click here to visit our Instagram page!
URL:https://www.ccacademy.edu/calendar/practical-series-week-9-05-28-26/
CATEGORIES:Practical Series
ATTACH;FMTTYPE=image/jpeg:https://www.ccacademy.edu/wp-content/uploads/2018/05/Vegetables.jpg
END:VEVENT
BEGIN:VEVENT
DTSTART;TZID=UTC:20260529T130000
DTEND;TZID=UTC:20260529T153000
DTSTAMP:20260425T131009
CREATED:20260203T182920Z
LAST-MODIFIED:20260203T183008Z
UID:31539-1780059600-1780068600@www.ccacademy.edu
SUMMARY:Practical Series – Week 9 (05/29/26)
DESCRIPTION:Practical Series – Topic:\n\nVegetables\n\nBlanched\nSautéed\nBraised\nRoasted\n\n\n\nAbout:\nThe Practical Series is Classic Cooking Academy’s flagship program. Spanning 24 weeks\, this series will educate you around the logistics of the kitchen one step at a time. In each class\, students will first learn their weekly topic(s) from the chef’s lecture before heading into the kitchen to cook dishes on what they’ve just learned. By the end of the course\, students will have a full understanding of nearly every facet of cooking. Don’t be hesitant if you think you’re not up to the task – this class is open for any and all skill levels. \nCosts:\nLump Sum Cost of Practical Series – $2\,500.00. \nPayment Plan of Practical Series – Deposit of $550.00 and then six payments of $325.00 on the first class of each month. \nChef Jacket Fee – $45 (automatically allocated into the deposit).  \n*NOTE*: If you already have a Classic Cooking chef jacket from a prior program and still wish to attend the Practical Series\, please call our staff to register. \nRegister:\nClick here to register on the main Practical Series webpage. \nMore Info:\n\nStudents will be learning techniques of cooking rather than looking at recipes.\n\nAs a result\, bring your own notes and a writing utensil.\n\n\nClass starts at 6:30pm (Thursday Evening sessions) or 1:00pm (Friday Afternoon sessions) sharp. Please be here at least 5 minutes early wearing your chef jacket.\n\nIf you know you will be late or absent entirely for this class\, please notify us beforehand. Our phone number is 480-502-0177 and our email is info@ccacademy.edu.\n\n\nIf you need to make up this class from a previous session\, please notify us beforehand. Our phone number is 480-502-0177 and our email is info@ccacademy.edu.\nTo view the overall curriculum of the this program\, click here.\nTo see how prior sessions looked like\, click here to visit our Instagram page!
URL:https://www.ccacademy.edu/calendar/practical-series-week-9-05-29-26/
CATEGORIES:Practical Series
ATTACH;FMTTYPE=image/jpeg:https://www.ccacademy.edu/wp-content/uploads/2018/05/Vegetables.jpg
END:VEVENT
END:VCALENDAR