BEGIN:VCALENDAR
VERSION:2.0
PRODID:-//Classic Cooking Academy - An Arizona Culinary School - ECPv6.15.20//NONSGML v1.0//EN
CALSCALE:GREGORIAN
METHOD:PUBLISH
X-ORIGINAL-URL:https://www.ccacademy.edu
X-WR-CALDESC:Events for Classic Cooking Academy - An Arizona Culinary School
REFRESH-INTERVAL;VALUE=DURATION:PT1H
X-Robots-Tag:noindex
X-PUBLISHED-TTL:PT1H
BEGIN:VTIMEZONE
TZID:UTC
BEGIN:STANDARD
TZOFFSETFROM:+0000
TZOFFSETTO:+0000
TZNAME:UTC
DTSTART:20250101T000000
END:STANDARD
END:VTIMEZONE
BEGIN:VEVENT
DTSTART;TZID=UTC:20260305T183000
DTEND;TZID=UTC:20260305T210000
DTSTAMP:20260425T125949
CREATED:20250909T175130Z
LAST-MODIFIED:20250909T175338Z
UID:30015-1772735400-1772744400@www.ccacademy.edu
SUMMARY:Practical Series – Week 21 (03/05/26)
DESCRIPTION:Practical Series – Topic:\n\nGrains\n\nRice\nRisotto\nPolenta\nQuinoa\n\n\n\nAbout:\nThe Practical Series is Classic Cooking Academy’s flagship program. Spanning 24 weeks\, this series will educate you around the logistics of the kitchen one step at a time. In each class\, students will first learn their weekly topic(s) from the chef’s lecture before heading into the kitchen to cook dishes on what they’ve just learned. By the end of the course\, students will have a full understanding of nearly every facet of cooking. Don’t be hesitant if you think you’re not up to the task – this class is open for any and all skill levels. \nCosts:\nLump Sum Cost of Practical Series – $2\,500.00. \nPayment Plan of Practical Series – Deposit of $550.00 and then six payments of $325.00 on the first class of each month. \nChef Jacket Fee – $45 (automatically allocated into the deposit).  \n*NOTE*: If you already have a Classic Cooking chef jacket from a prior program and still wish to attend the Practical Series\, please call our staff to register. \nRegister:\nVisit our Practical Series webpage for the step-by-step process on how to officially register. \nMore Info:\n\nStudents will be learning techniques of cooking rather than looking at recipes.\n\nAs a result\, bring your own notes and a writing utensil.\n\n\nClass starts at 6:30pm (Thursday Evening sessions) or 9:00am (Friday Afternoon sessions) sharp. Please be here at least 5 minutes early wearing your chef jacket.\n\nIf you know you will be late or absent entirely for this class\, please notify us beforehand. Our phone number is 480-502-0177 and our email is info@ccacademy.edu.\n\n\nIf you need to make up this class from a previous Practical Series session\, please notify us beforehand. Our phone number is 480-502-0177 and our email is info@ccacademy.edu.\nTo check the overall curriculum of the this program\, click here.
URL:https://www.ccacademy.edu/calendar/practical-series-week-21-03-05-26/
CATEGORIES:Practical Series
ATTACH;FMTTYPE=image/jpeg:https://www.ccacademy.edu/wp-content/uploads/2018/05/Rice.jpg
END:VEVENT
BEGIN:VEVENT
DTSTART;TZID=UTC:20260306T130000
DTEND;TZID=UTC:20260306T153000
DTSTAMP:20260425T125949
CREATED:20250909T175621Z
LAST-MODIFIED:20250909T175710Z
UID:30017-1772802000-1772811000@www.ccacademy.edu
SUMMARY:Practical Series – Week 21 (03/06/26)
DESCRIPTION:Practical Series – Topic:\n\nGrains\n\nRice\nRisotto\nPolenta\nQuinoa\n\n\n\nAbout:\nThe Practical Series is Classic Cooking Academy’s flagship program. Spanning 24 weeks\, this series will educate you around the logistics of the kitchen one step at a time. In each class\, students will first learn their weekly topic(s) from the chef’s lecture before heading into the kitchen to cook dishes on what they’ve just learned. By the end of the course\, students will have a full understanding of nearly every facet of cooking. Don’t be hesitant if you think you’re not up to the task – this class is open for any and all skill levels. \nCosts:\nLump Sum Cost of Practical Series – $2\,500.00. \nPayment Plan of Practical Series – Deposit of $550.00 and then six payments of $325.00 on the first class of each month. \nChef Jacket Fee – $45 (automatically allocated into the deposit).  \n*NOTE*: If you already have a Classic Cooking chef jacket from a prior program and still wish to attend the Practical Series\, please call our staff to register. \nRegister:\nVisit our Practical Series webpage for the step-by-step process on how to officially register. \nMore Info:\n\nStudents will be learning techniques of cooking rather than looking at recipes.\n\nAs a result\, bring your own notes and a writing utensil.\n\n\nClass starts at 6:30pm (Thursday Evening sessions) or 9:00am (Friday Afternoon sessions) sharp. Please be here at least 5 minutes early wearing your chef jacket.\n\nIf you know you will be late or absent entirely for this class\, please notify us beforehand. Our phone number is 480-502-0177 and our email is info@ccacademy.edu.\n\n\nIf you need to make up this class from a previous Practical Series session\, please notify us beforehand. Our phone number is 480-502-0177 and our email is info@ccacademy.edu.\nTo check the overall curriculum of the this program\, click here.
URL:https://www.ccacademy.edu/calendar/practical-series-week-21-03-06-26/
CATEGORIES:Practical Series
ATTACH;FMTTYPE=image/jpeg:https://www.ccacademy.edu/wp-content/uploads/2018/05/Rice.jpg
END:VEVENT
BEGIN:VEVENT
DTSTART;TZID=UTC:20260312T183000
DTEND;TZID=UTC:20260312T210000
DTSTAMP:20260425T125949
CREATED:20250909T175857Z
LAST-MODIFIED:20250909T180039Z
UID:30019-1773340200-1773349200@www.ccacademy.edu
SUMMARY:Practical Series – Week 22 (03/12/26)
DESCRIPTION:Practical Series – Topic:\n\nYeast & Dough\n\nPizza\nRolls\n\n\n\nAbout:\nThe Practical Series is Classic Cooking Academy’s flagship program. Spanning 24 weeks\, this series will educate you around the logistics of the kitchen one step at a time. In each class\, students will first learn their weekly topic(s) from the chef’s lecture before heading into the kitchen to cook dishes on what they’ve just learned. By the end of the course\, students will have a full understanding of nearly every facet of cooking. Don’t be hesitant if you think you’re not up to the task – this class is open for any and all skill levels. \nCosts:\nLump Sum Cost of Practical Series – $2\,500.00. \nPayment Plan of Practical Series – Deposit of $550.00 and then six payments of $325.00 on the first class of each month. \nChef Jacket Fee – $45 (automatically allocated into the deposit).  \n*NOTE*: If you already have a Classic Cooking chef jacket from a prior program and still wish to attend the Practical Series\, please call our staff to register. \nRegister:\nVisit our Practical Series webpage for the step-by-step process on how to officially register. \nMore Info:\n\nStudents will be learning techniques of cooking rather than looking at recipes.\n\nAs a result\, bring your own notes and a writing utensil.\n\n\nClass starts at 6:30pm (Thursday Evening sessions) or 1:00pm (Friday Afternoon sessions) sharp. Please be here at least 5 minutes early wearing your chef jacket.\n\nIf you know you will be late or absent entirely for this class\, please notify us beforehand. Our phone number is 480-502-0177 and our email is info@ccacademy.edu.\n\n\nIf you need to make up this class from a previous Practical Series session\, please notify us beforehand. Our phone number is 480-502-0177 and our email is info@ccacademy.edu.\nTo check the overall curriculum of the this program\, click here.
URL:https://www.ccacademy.edu/calendar/practical-series-week-22-03-12-26/
CATEGORIES:Practical Series
ATTACH;FMTTYPE=image/jpeg:https://www.ccacademy.edu/wp-content/uploads/2022/01/Pizza-Dough.jpeg
END:VEVENT
BEGIN:VEVENT
DTSTART;TZID=UTC:20260313T130000
DTEND;TZID=UTC:20260313T153000
DTSTAMP:20260425T125949
CREATED:20250909T180409Z
LAST-MODIFIED:20250909T180703Z
UID:30021-1773406800-1773415800@www.ccacademy.edu
SUMMARY:Practical Series – Week 22 (03/13/26)
DESCRIPTION:Practical Series – Topic:\n\nYeast & Dough\n\nPizza\nRolls\n\n\n\nAbout:\nThe Practical Series is Classic Cooking Academy’s flagship program. Spanning 24 weeks\, this series will educate you around the logistics of the kitchen one step at a time. In each class\, students will first learn their weekly topic(s) from the chef’s lecture before heading into the kitchen to cook dishes on what they’ve just learned. By the end of the course\, students will have a full understanding of nearly every facet of cooking. Don’t be hesitant if you think you’re not up to the task – this class is open for any and all skill levels. \nCosts:\nLump Sum Cost of Practical Series – $2\,500.00. \nPayment Plan of Practical Series – Deposit of $550.00 and then six payments of $325.00 on the first class of each month. \nChef Jacket Fee – $45 (automatically allocated into the deposit).  \n*NOTE*: If you already have a Classic Cooking chef jacket from a prior program and still wish to attend the Practical Series\, please call our staff to register. \nRegister:\nVisit our Practical Series webpage for the step-by-step process on how to officially register. \nMore Info:\n\nStudents will be learning techniques of cooking rather than looking at recipes.\n\nAs a result\, bring your own notes and a writing utensil.\n\n\nClass starts at 6:30pm (Thursday Evening sessions) or 1:00pm (Friday Afternoon sessions) sharp. Please be here at least 5 minutes early wearing your chef jacket.\n\nIf you know you will be late or absent entirely for this class\, please notify us beforehand. Our phone number is 480-502-0177 and our email is info@ccacademy.edu.\n\n\nIf you need to make up this class from a previous Practical Series session\, please notify us beforehand. Our phone number is 480-502-0177 and our email is info@ccacademy.edu.\nTo check the overall curriculum of the this program\, click here.
URL:https://www.ccacademy.edu/calendar/practical-series-week-22-03-13-26/
CATEGORIES:Practical Series
ATTACH;FMTTYPE=image/jpeg:https://www.ccacademy.edu/wp-content/uploads/2022/01/Pizza-Dough.jpeg
END:VEVENT
BEGIN:VEVENT
DTSTART;TZID=UTC:20260319T183000
DTEND;TZID=UTC:20260319T210000
DTSTAMP:20260425T125949
CREATED:20250909T180922Z
LAST-MODIFIED:20250909T181026Z
UID:30023-1773945000-1773954000@www.ccacademy.edu
SUMMARY:Practical Series – Week 23 (03/19/26)
DESCRIPTION:Practical Series – Topic:\n\nAsian\n\nSushi\nEgg Rolls\n\n\n\nAbout:\nThe Practical Series is Classic Cooking Academy’s flagship program. Spanning 24 weeks\, this series will educate you around the logistics of the kitchen one step at a time. In each class\, students will first learn their weekly topic(s) from the chef’s lecture before heading into the kitchen to cook dishes on what they’ve just learned. By the end of the course\, students will have a full understanding of nearly every facet of cooking. Don’t be hesitant if you think you’re not up to the task – this class is open for any and all skill levels. \nCosts:\nLump Sum Cost of Practical Series – $2\,500.00. \nPayment Plan of Practical Series – Deposit of $550.00 and then six payments of $325.00 on the first class of each month. \nChef Jacket Fee – $45 (automatically allocated into the deposit).  \n*NOTE*: If you already have a Classic Cooking chef jacket from a prior program and still wish to attend the Practical Series\, please call our staff to register. \nRegister:\nVisit our Practical Series webpage for the step-by-step process on how to officially register. \nMore Info:\n\nStudents will be learning techniques of cooking rather than looking at recipes.\n\nAs a result\, bring your own notes and a writing utensil.\n\n\nClass starts at 6:30pm (Thursday Evening sessions) or 1:00pm (Friday Afternoon sessions) sharp. Please be here at least 5 minutes early wearing your chef jacket.\n\nIf you know you will be late or absent entirely for this class\, please notify us beforehand. Our phone number is 480-502-0177 and our email is info@ccacademy.edu.\n\n\nIf you need to make up this class from a previous Practical Series session\, please notify us beforehand. Our phone number is 480-502-0177 and our email is info@ccacademy.edu.\nTo check the overall curriculum of the this program\, click here.
URL:https://www.ccacademy.edu/calendar/practical-series-week-23-03-19-26/
CATEGORIES:Practical Series
ATTACH;FMTTYPE=image/jpeg:https://www.ccacademy.edu/wp-content/uploads/2018/05/Sushi.jpg
END:VEVENT
BEGIN:VEVENT
DTSTART;TZID=UTC:20260320T130000
DTEND;TZID=UTC:20260320T153000
DTSTAMP:20260425T125949
CREATED:20250909T181255Z
LAST-MODIFIED:20250909T181404Z
UID:30025-1774011600-1774020600@www.ccacademy.edu
SUMMARY:Practical Series – Week 23 (03/20/26)
DESCRIPTION:Practical Series – Topic:\n\nAsian\n\nSushi\nEgg Rolls\n\n\n\nAbout:\nThe Practical Series is Classic Cooking Academy’s flagship program. Spanning 24 weeks\, this series will educate you around the logistics of the kitchen one step at a time. In each class\, students will first learn their weekly topic(s) from the chef’s lecture before heading into the kitchen to cook dishes on what they’ve just learned. By the end of the course\, students will have a full understanding of nearly every facet of cooking. Don’t be hesitant if you think you’re not up to the task – this class is open for any and all skill levels. \nCosts:\nLump Sum Cost of Practical Series – $2\,500.00. \nPayment Plan of Practical Series – Deposit of $550.00 and then six payments of $325.00 on the first class of each month. \nChef Jacket Fee – $45 (automatically allocated into the deposit).  \n*NOTE*: If you already have a Classic Cooking chef jacket from a prior program and still wish to attend the Practical Series\, please call our staff to register. \nRegister:\nVisit our Practical Series webpage for the step-by-step process on how to officially register. \nMore Info:\n\nStudents will be learning techniques of cooking rather than looking at recipes.\n\nAs a result\, bring your own notes and a writing utensil.\n\n\nClass starts at 6:30pm (Thursday Evening sessions) or 1:00pm (Friday Afternoon sessions) sharp. Please be here at least 5 minutes early wearing your chef jacket.\n\nIf you know you will be late or absent entirely for this class\, please notify us beforehand. Our phone number is 480-502-0177 and our email is info@ccacademy.edu.\n\n\nIf you need to make up this class from a previous Practical Series session\, please notify us beforehand. Our phone number is 480-502-0177 and our email is info@ccacademy.edu.\nTo check the overall curriculum of the this program\, click here.
URL:https://www.ccacademy.edu/calendar/practical-series-week-23-03-20-26/
CATEGORIES:Practical Series
ATTACH;FMTTYPE=image/jpeg:https://www.ccacademy.edu/wp-content/uploads/2018/05/Sushi.jpg
END:VEVENT
BEGIN:VEVENT
DTSTART;TZID=UTC:20260326T183000
DTEND;TZID=UTC:20260326T210000
DTSTAMP:20260425T125949
CREATED:20250909T181548Z
LAST-MODIFIED:20250909T181643Z
UID:30027-1774549800-1774558800@www.ccacademy.edu
SUMMARY:Practical Series – Week 24 (03/26/26)
DESCRIPTION:Practical Series – Topic:\n\nIndian\n\nTikka Masala\nSaag Paneer\nMango Lassi\n\n\n\nAbout:\nThe Practical Series is Classic Cooking Academy’s flagship program. Spanning 24 weeks\, this series will educate you around the logistics of the kitchen one step at a time. In each class\, students will first learn their weekly topic(s) from the chef’s lecture before heading into the kitchen to cook dishes on what they’ve just learned. By the end of the course\, students will have a full understanding of nearly every facet of cooking. Don’t be hesitant if you think you’re not up to the task – this class is open for any and all skill levels. \nCosts:\nLump Sum Cost of Practical Series – $2\,500.00. \nPayment Plan of Practical Series – Deposit of $550.00 and then six payments of $325.00 on the first class of each month. \nChef Jacket Fee – $45 (automatically allocated into the deposit).  \n*NOTE*: If you already have a Classic Cooking chef jacket from a prior program and still wish to attend the Practical Series\, please call our staff to register. \nRegister:\nVisit our Practical Series webpage for the step-by-step process on how to officially register. \nMore Info:\n\nStudents will be learning techniques of cooking rather than looking at recipes.\n\nAs a result\, bring your own notes and a writing utensil.\n\n\nClass starts at 6:30pm (Thursday Evening sessions) or 1:00pm (Friday Afternoon sessions) sharp. Please be here at least 5 minutes early wearing your chef jacket.\n\nIf you know you will be late or absent entirely for this class\, please notify us beforehand. Our phone number is 480-502-0177 and our email is info@ccacademy.edu.\n\n\nIf you need to make up this class from a previous Practical Series session\, please notify us beforehand. Our phone number is 480-502-0177 and our email is info@ccacademy.edu.\nTo check the overall curriculum of the this program\, click here.
URL:https://www.ccacademy.edu/calendar/practical-series-week-24-03-26-26/
CATEGORIES:Practical Series
END:VEVENT
BEGIN:VEVENT
DTSTART;TZID=UTC:20260327T130000
DTEND;TZID=UTC:20260327T153000
DTSTAMP:20260425T125949
CREATED:20250909T181827Z
LAST-MODIFIED:20250909T181827Z
UID:30029-1774616400-1774625400@www.ccacademy.edu
SUMMARY:Practical Series – Week 24 (03/27/26)
DESCRIPTION:Practical Series – Topic:\n\nIndian\n\nTikka Masala\nSaag Paneer\nMango Lassi\n\n\n\nAbout:\nThe Practical Series is Classic Cooking Academy’s flagship program. Spanning 24 weeks\, this series will educate you around the logistics of the kitchen one step at a time. In each class\, students will first learn their weekly topic(s) from the chef’s lecture before heading into the kitchen to cook dishes on what they’ve just learned. By the end of the course\, students will have a full understanding of nearly every facet of cooking. Don’t be hesitant if you think you’re not up to the task – this class is open for any and all skill levels. \nCosts:\nLump Sum Cost of Practical Series – $2\,500.00. \nPayment Plan of Practical Series – Deposit of $550.00 and then six payments of $325.00 on the first class of each month. \nChef Jacket Fee – $45 (automatically allocated into the deposit).  \n*NOTE*: If you already have a Classic Cooking chef jacket from a prior program and still wish to attend the Practical Series\, please call our staff to register. \nRegister:\nVisit our Practical Series webpage for the step-by-step process on how to officially register. \nMore Info:\n\nStudents will be learning techniques of cooking rather than looking at recipes.\n\nAs a result\, bring your own notes and a writing utensil.\n\n\nClass starts at 6:30pm (Thursday Evening sessions) or 1:00pm (Friday Afternoon sessions) sharp. Please be here at least 5 minutes early wearing your chef jacket.\n\nIf you know you will be late or absent entirely for this class\, please notify us beforehand. Our phone number is 480-502-0177 and our email is info@ccacademy.edu.\n\n\nIf you need to make up this class from a previous Practical Series session\, please notify us beforehand. Our phone number is 480-502-0177 and our email is info@ccacademy.edu.\nTo check the overall curriculum of the this program\, click here.
URL:https://www.ccacademy.edu/calendar/practical-series-week-24-03-27-26/
CATEGORIES:Practical Series
END:VEVENT
END:VCALENDAR