BEGIN:VCALENDAR
VERSION:2.0
PRODID:-//Classic Cooking Academy - An Arizona Culinary School - ECPv6.15.20//NONSGML v1.0//EN
CALSCALE:GREGORIAN
METHOD:PUBLISH
X-ORIGINAL-URL:https://www.ccacademy.edu
X-WR-CALDESC:Events for Classic Cooking Academy - An Arizona Culinary School
REFRESH-INTERVAL;VALUE=DURATION:PT1H
X-Robots-Tag:noindex
X-PUBLISHED-TTL:PT1H
BEGIN:VTIMEZONE
TZID:UTC
BEGIN:STANDARD
TZOFFSETFROM:+0000
TZOFFSETTO:+0000
TZNAME:UTC
DTSTART:20250101T000000
END:STANDARD
END:VTIMEZONE
BEGIN:VEVENT
DTSTART;TZID=UTC:20260304T183000
DTEND;TZID=UTC:20260304T210000
DTSTAMP:20260425T163114
CREATED:20251020T234054Z
LAST-MODIFIED:20251023T175007Z
UID:30533-1772649000-1772658000@www.ccacademy.edu
SUMMARY:Pastry Series – Week 7 (03/04/26)
DESCRIPTION:Pastry Series Weekly Topic – Mousses/Gelatin\n\n\n\nFruit Mousse\nChocolate Mousse\nBavarian (Charlotte Russe)\nLemon Curd\n\n\n\nAbout:\nConsider yourself a chef with a sweet tooth? Put your skills to the test in our 12-week Pastry Series! With topics covering cakes\, pies\, tarts\, breads\, creams\, chocolates\, and so much more\, this class is as tantalizing as it is appetizing. Hosted by Chef Susan Kolman\, you will get a professional look inside the pastry world. \nCosts:\nLump Sum Cost of Pastry Series – $1\,250.00 \nPayment Plan of Pastry Series – Deposit of $275.00 and then three payments of $325.00 on the first class of each month. \n**NOTE**: In the event of cancellation\, please refer to our Enrollment Agreement for a complete breakdown of our cancellation policy. We do not issue refunds for the $50 enrollment fee or the $45 Chef Jacket. \nRegister:\nVisit our Pastry Series page here for more info on how to register. \nMore Info:\n\nThis class is part of a 12 week series\, and classes cannot be registered for individually. No vouchers accepted for registration.\nStudents will be learning both techniques of cooking and the specificities of adhering to pastry recipes. As a result\, bring your own notes and a writing utensil. We will provide cooking equipment and recipes for all respective dishes.\nClass starts at 6:30pm sharp. Please be here at least 10 minutes early wearing your chef jacket.\n\nIf you know you will be late or absent entirely for this class\, please notify us beforehand. If you need to make up this class from a previous Pastry Series session\, please notify us beforehand.  Our phone number is 480-502-0177 and our email is info@ccacademy.edu. If you miss one or multiple Pastry Series classes\, you can make them up in either a concurrent Pastry Series session or a future Pastry Series session.\n\n\nTo view the overall curriculum of the this program\, click here.
URL:https://www.ccacademy.edu/calendar/pastry-series-week-7-03-04-26/
CATEGORIES:Pastry Series
ATTACH;FMTTYPE=image/jpeg:https://www.ccacademy.edu/wp-content/uploads/2018/07/Week-7-Chocolate-Mousse.jpg
END:VEVENT
BEGIN:VEVENT
DTSTART;TZID=UTC:20260311T183000
DTEND;TZID=UTC:20260311T210000
DTSTAMP:20260425T163114
CREATED:20251020T234726Z
LAST-MODIFIED:20251023T174651Z
UID:30535-1773253800-1773262800@www.ccacademy.edu
SUMMARY:Pastry Series – Week 8 (03/11/26)
DESCRIPTION:Pastry Series Weekly Topic – Flaky Pastries\n\n\n\nPalmiers\nCheese Straws\nNapoleon\n\n\n\nAbout:\nConsider yourself a chef with a sweet tooth? Put your skills to the test in our 12-week Pastry Series! With topics covering cakes\, pies\, tarts\, breads\, creams\, chocolates\, and so much more\, this class is as tantalizing as it is appetizing. Hosted by Chef Susan Kolman\, you will get a professional look inside the pastry world. \nCosts:\nLump Sum Cost of Pastry Series – $1\,250.00 \nPayment Plan of Pastry Series – Deposit of $275.00 and then three payments of $325.00 on the first class of each month. \n**NOTE**: In the event of cancellation\, please refer to our Enrollment Agreement for a complete breakdown of our cancellation policy. We do not issue refunds for the $50 enrollment fee or the $45 Chef’s Jacket. \nRegister:\nVisit our Pastry Series page here for more info on how to register. \nMore Info:\n\nThis class is part of a 12 week series\, and classes cannot be registered for individually. No vouchers accepted for registration.\nStudents will be learning both techniques of cooking and the specificities of adhering to pastry recipes. As a result\, bring your own notes and a writing utensil. We will provide cooking equipment and recipes for all respective dishes.\nClass starts at 6:30pm sharp. Please be here at least 10 minutes early wearing your chef jacket.\n\nIf you know you will be late or absent entirely for this class\, please notify us beforehand. If you need to make up this class from a previous Pastry Series session\, please notify us beforehand.  Our phone number is 480-502-0177 and our email is info@ccacademy.edu. If you miss one or multiple Pastry Series classes\, you can make them up in either a concurrent Pastry Series session or a future Pastry Series session.\n\n\nTo view the overall curriculum of the this program\, click here.
URL:https://www.ccacademy.edu/calendar/pastry-series-week-8-03-11-26/
CATEGORIES:Pastry Series
ATTACH;FMTTYPE=image/jpeg:https://www.ccacademy.edu/wp-content/uploads/2018/07/Week-8-Napoleon.jpg
END:VEVENT
BEGIN:VEVENT
DTSTART;TZID=UTC:20260318T183000
DTEND;TZID=UTC:20260318T210000
DTSTAMP:20260425T163114
CREATED:20251021T000222Z
LAST-MODIFIED:20251023T174453Z
UID:30537-1773858600-1773867600@www.ccacademy.edu
SUMMARY:Pastry Series – Week 9 (03/18/26)
DESCRIPTION:Pastry Series Weekly Topic – Large Cakes\n\n\n\nQueen of Sheba\nMarjolaine\n\n\n\nAbout:\nConsider yourself a chef with a sweet tooth? Put your skills to the test in our 12-week Pastry Series! With topics covering cakes\, pies\, tarts\, breads\, creams\, chocolates\, and so much more\, this class is as tantalizing as it is appetizing. Hosted by Chef Susan Kolman\, you will get a professional look inside the pastry world. \nCosts:\nLump Sum Cost of Pastry Series – $1\,250.00 \nPayment Plan of Pastry Series – Deposit of $275.00 and then three payments of $325.00 on the first class of each month. \n**NOTE**: In the event of cancellation\, please refer to our Enrollment Agreement for a complete breakdown of our cancellation policy. We do not issue refunds for the $50 enrollment fee or the $45 Chef Jacket. \nRegister:\nVisit our Pastry Series page here for more info on how to register. \nMore Info:\n\nThis class is part of a 12 week series\, and classes cannot be registered for individually. No vouchers accepted for registration.\nStudents will be learning both techniques of cooking and the specificities of adhering to pastry recipes. As a result\, bring your own notes and a writing utensil. We will provide cooking equipment and recipes for all respective dishes.\nClass starts at 6:30pm sharp. Please be here at least 10 minutes early wearing your chef jacket.\n\nIf you know you will be late or absent entirely for this class\, please notify us beforehand. If you need to make up this class from a previous Pastry Series session\, please notify us beforehand.  Our phone number is 480-502-0177 and our email is info@ccacademy.edu. If you miss one or multiple Pastry Series classes\, you can make them up in either a concurrent Pastry Series session or a future Pastry Series session.\n\n\nTo view the overall curriculum of the this program\, click here.
URL:https://www.ccacademy.edu/calendar/pastry-series-week-9-03-18-26/
CATEGORIES:Pastry Series
ATTACH;FMTTYPE=image/jpeg:https://www.ccacademy.edu/wp-content/uploads/2018/07/Week-9-Marjolaine-Cake.jpg
END:VEVENT
BEGIN:VEVENT
DTSTART;TZID=UTC:20260325T183000
DTEND;TZID=UTC:20260325T210000
DTSTAMP:20260425T163114
CREATED:20251021T000938Z
LAST-MODIFIED:20251023T174354Z
UID:30539-1774463400-1774472400@www.ccacademy.edu
SUMMARY:Pastry Series – Week 10 (03/25/26)
DESCRIPTION:Pastry Series Weekly Topic – Yeast Dough\n\n\n\n\nButtermilk Rolls\nCinnamon Rolls\n\n\n\nAbout:\nConsider yourself a chef with a sweet tooth? Put your skills to the test in our 12-week Pastry Series! With topics covering cakes\, pies\, tarts\, breads\, creams\, chocolates\, and so much more\, this class is as tantalizing as it is appetizing. Hosted by Chef Susan Kolman\, you will get a professional look inside the pastry world. \nCosts:\nLump Sum Cost of Pastry Series – $1\,250.00 \nPayment Plan of Pastry Series – Deposit of $275.00 and then three payments of $325.00 on the first class of each month. \n**NOTE**: In the event of cancellation\, please refer to our Enrollment Agreement for a complete breakdown of our cancellation policy. We do not issue refunds for the $50 enrollment fee or the $45 Chef Jacket. \nRegister:\nVisit our Pastry Series page here for more info on how to register. \nMore Info:\n\nThis class is part of a 12 week series\, and classes cannot be registered for individually. No vouchers accepted for registration.\nStudents will be learning both techniques of cooking and the specificities of adhering to pastry recipes. As a result\, bring your own notes and a writing utensil. We will provide cooking equipment and recipes for all respective dishes.\nClass starts at 6:30pm sharp. Please be here at least 10 minutes early wearing your chef jacket.\n\nIf you know you will be late or absent entirely for this class\, please notify us beforehand. If you need to make up this class from a previous Pastry Series session\, please notify us beforehand.  Our phone number is 480-502-0177 and our email is info@ccacademy.edu. If you miss one or multiple Pastry Series classes\, you can make them up in either a concurrent Pastry Series session or a future Pastry Series session.\n\n\nTo view the overall curriculum of the this program\, click here.
URL:https://www.ccacademy.edu/calendar/pastry-series-week-10-03-25-26/
CATEGORIES:Pastry Series
ATTACH;FMTTYPE=image/jpeg:https://www.ccacademy.edu/wp-content/uploads/2018/07/Week-10-Cinnamon-Rolls.jpg
END:VEVENT
END:VCALENDAR