BEGIN:VCALENDAR
VERSION:2.0
PRODID:-//Classic Cooking Academy - An Arizona Culinary School - ECPv6.15.20//NONSGML v1.0//EN
CALSCALE:GREGORIAN
METHOD:PUBLISH
X-WR-CALNAME:Classic Cooking Academy - An Arizona Culinary School
X-ORIGINAL-URL:https://www.ccacademy.edu
X-WR-CALDESC:Events for Classic Cooking Academy - An Arizona Culinary School
REFRESH-INTERVAL;VALUE=DURATION:PT1H
X-Robots-Tag:noindex
X-PUBLISHED-TTL:PT1H
BEGIN:VTIMEZONE
TZID:UTC
BEGIN:STANDARD
TZOFFSETFROM:+0000
TZOFFSETTO:+0000
TZNAME:UTC
DTSTART:20160101T000000
END:STANDARD
END:VTIMEZONE
BEGIN:VEVENT
DTSTART;TZID=UTC:20170422T100000
DTEND;TZID=UTC:20170422T130000
DTSTAMP:20260424T184136
CREATED:20170223T195051Z
LAST-MODIFIED:20170316T213335Z
UID:1304-1492855200-1492866000@www.ccacademy.edu
SUMMARY:Chocolate Pastries
DESCRIPTION:3 hour hands-on pastry class with Sharon Lunardi.  Make a variety of delicious pastries\, focusing on everyone’s favorite ingredient – chocolate! \nChocolate Pastries\nChai Chocolate Custard w/ Cardamom Whipped Cream\nAncho Chocolate Cookies\nDouble Chocolate Cupcake w/ Coffee Buttercream\nTo make a reservation call 480.502.0177 or e-mail info@ccacademy.edu\nCancellation must be made at least 72 hours in advance. \n$100 per person. Call to inquire about seasonal discounts. \nWHAT TO EXPECT \nThe class will begin with a Chef demonstration. The Chef Instructor will go over each aspect of the menu. You will work in pairs. Each pair will work together to complete different aspects of the menu.\nPlease wear close-toed shoes\, and tie long hair back\nGratuity is not included in the class price. If you would like to leave our staff a tip\, they will split all gratuity left among the instructor\, assistants\, server\, and dish washer. \nREGISTER/PAY HERE!  HALF-OFF SPECIAL! \n\n \n\n\n\n# of People\n\n\n1 person $50.00 USD2 people $100.00 USD3 people $150.00 USD4 people $200.00 USD
URL:https://www.ccacademy.edu/calendar/chocolate-pastries/
CATEGORIES:Pastry Class (Stand-Alone)
END:VEVENT
BEGIN:VEVENT
DTSTART;TZID=UTC:20170311T100000
DTEND;TZID=UTC:20170311T130000
DTSTAMP:20260424T184136
CREATED:20170111T214255Z
LAST-MODIFIED:20170302T202113Z
UID:787-1489226400-1489237200@www.ccacademy.edu
SUMMARY:Spring Pastries
DESCRIPTION:3 hour hands-on pastry class with Sharon Lunardi. Learn to make beautiful tarts and pastries using the best produce that Spring has to offer! \nSpring Pastries & Tarts\nFresh Fruit and Lemon Custard in Tuile Cups\nFresh Fruit Tarts\nApricot Frangipane Tarts \nWHAT TO EXPECT \nThe class will begin with a Chef demonstration. The Chef Instructor will go over each aspect of the menu. You will work in pairs. Each pair will work together to complete different aspects of the menu.\nPlease wear close-toed shoes\, and tie long hair back\nGratuity is not included in the class price. If you would like to leave our staff a tip\, they will split all gratuity left among the instructor\, assistants\, server\, and dish washer. \nTo make a reservation call 480.502.0177 or e-mail info@ccacademy.edu \n$100 per person. Call to inquire about seasonal discounts.Cancellation must be made at least 72 hours in advance. \nREGISTER/PAY HERE. HALF-OFF SPECIAL! \n\n \n\n\n\n# of People\n\n\n1 person $50.00 USD2 people $100.00 USD3 people $150.00 USD4 people $200.00 USD\n\n\n\n\n\n \n\nv
URL:https://www.ccacademy.edu/calendar/spring-pastries/
CATEGORIES:Pastry Class (Stand-Alone)
END:VEVENT
BEGIN:VEVENT
DTSTART;TZID=UTC:20170225T100000
DTEND;TZID=UTC:20170225T130000
DTSTAMP:20260424T184136
CREATED:20161227T215135Z
LAST-MODIFIED:20170214T212541Z
UID:210-1488016800-1488027600@www.ccacademy.edu
SUMMARY:Cream Puffs & Eclairs
DESCRIPTION:Sharon Lunardi will teach you how to make pate a choux\, pastry cream\, ganache\, and more so that you can make the perfect cream puffs and eclairs in this fun hands-on class! \nPlease call 480 502-0177 or e-mail  info@ccacademy.edu to register.\n$100 per person.  Call to inquire about seasonal discounts.\n72 hour notice must be given in case of cancellation. \nWHAT TO EXPECT \n\nThe class will begin with a Chef demonstration. The Chef Instructor will go over each aspect of the menu.  You will work in pairs.  Each pair will work together to complete different aspects of the menu.\nPlease wear close-toed shoes\, and tie long hair back\nGratuity is not included in the class price. If you would like to leave our staff a tip\, they will split all gratuity left among the instructor\, assistants\, server\, and dish washer.
URL:https://www.ccacademy.edu/calendar/cream-puffs-eclairs/
CATEGORIES:Pastry Class (Stand-Alone)
ATTACH;FMTTYPE=image/jpeg:https://www.ccacademy.edu/wp-content/uploads/2016/12/cream-puffs-427181_1920.jpg
END:VEVENT
BEGIN:VEVENT
DTSTART;TZID=UTC:20170211T100000
DTEND;TZID=UTC:20170211T130000
DTSTAMP:20260424T184136
CREATED:20161227T210912Z
LAST-MODIFIED:20170206T191616Z
UID:189-1486807200-1486818000@www.ccacademy.edu
SUMMARY:Chocolate Pastries Class (SOLD OUT)
DESCRIPTION:Sorry\, this class is FULL \n3 hour hands-on pastry class with Sharon Lunardi.  Learn to make decadent chocolate desserts\, just in time for Valentine’s Day! \nChocolate Lover’s Pastries\nDouble Chocolate Lava Cake\nMini Chocolate Eclairs\nChocolate Crème Brulee \nTo make a reservation call 480.502.0177 or e-mail info@ccacademy.edu\nCancellation must be made at least 72 hours in advance. \n$100 per person.  Call to inquire about seasonal discounts. \n  \n  \n \n \n\nWHAT TO EXPECT \n\nThe class will begin with a Chef demonstration. The Chef Instructor will go over each aspect of the menu.  You will work in pairs.  Each pair will make everything on the menu.\nPlease wear close-toed shoes\, and tie long hair back\nGratuity is not included in the class price. If you would like to leave our staff a tip\, they will split all gratuity left among the instructor\, assistants\, server\, and dish washer
URL:https://www.ccacademy.edu/calendar/chocolate-pastries-class/
CATEGORIES:Pastry Class (Stand-Alone)
END:VEVENT
END:VCALENDAR