BEGIN:VCALENDAR
VERSION:2.0
PRODID:-//Classic Cooking Academy - An Arizona Culinary School - ECPv6.15.20//NONSGML v1.0//EN
CALSCALE:GREGORIAN
METHOD:PUBLISH
X-ORIGINAL-URL:https://www.ccacademy.edu
X-WR-CALDESC:Events for Classic Cooking Academy - An Arizona Culinary School
REFRESH-INTERVAL;VALUE=DURATION:PT1H
X-Robots-Tag:noindex
X-PUBLISHED-TTL:PT1H
BEGIN:VTIMEZONE
TZID:UTC
BEGIN:STANDARD
TZOFFSETFROM:+0000
TZOFFSETTO:+0000
TZNAME:UTC
DTSTART:20250101T000000
END:STANDARD
END:VTIMEZONE
BEGIN:VEVENT
DTSTART;TZID=UTC:20260412T100000
DTEND;TZID=UTC:20260412T130000
DTSTAMP:20260423T202249
CREATED:20260317T220412Z
LAST-MODIFIED:20260317T224419Z
UID:31961-1775988000-1775998800@www.ccacademy.edu
SUMMARY:Pastry Class – Spring Macarons (04/12/26)
DESCRIPTION:Macarons Class – Menu:\n\nLemon Macarons with Homemade Lemon Curd and Lemon-Kissed Buttercream\nRobin’s Egg Blue Macarons with Cadbury Mini Egg Ganache\n\nAbout:\n\n\n\n\n\n\n\n\n\n\n\nFrom batter to bliss – master the macaron! Join us for this Specialty Hands-On Pastry Class and learn the techniques behind the famous French Macaron. This spring\, you’ll pipe delicate meringue shells\, craft luscious fillings\, and assemble two charming seasonal creations: bright and elegant Lemon Macarons filled with silky homemade lemon curd and lemon-kissed buttercream\, and whimsical Robin’s Egg Macarons — soft blue shells decorated to mimic a robin’s egg and filled with a dreamy Cadbury Mini Egg ganache. Each student will make their own macarons from start to finish to eat or take home! \n\n\n\n\n\n\n\n\n\n\n\n(If you would like to take your food home with you\, please bring your own to-go containers.) \nMore Info:\n\nTo make a reservation\, please use the PayPal button below. If the button has been removed or you wish to pay via a different method\, please call 480-502-0177 or email info@ccacademy.edu. \nCOST: $80 per person.  Gratuity is not included in the class price.\n\nTips for our staff for this evening are not expected but are greatly appreciated. All gratuities are evenly distributed amongst our staff members.\nIf your party has six or more guests\, you can still reserve spots for any recreational class or event if you do not wish to do a private party. However\, we will charge your group an 18% service fee at the time of your reservation. With this in mind\, it is preferred that you register your entire guest count all at once.\n\n\nThis Pastry Class is held from 10am – 1:00pm. Attendees must be 21 years or older to consume any alcohol.\nWe have a 72-hour cancellation policy. This means that you have three days before the class starts to cancel or change your reservation.\n\n If you have to cancel within this time period\, you will not receive a credit to apply towards a different event. We do not issue monetary refunds.\n\n\nNo dietary restrictions or allergies will be accommodated for this class. If one or more items on today’s menu conflicts with your needs\, please reserve spots for an alternative Cooking Class.\nClass size is limited to 20 people. Reservations are based on a ‘first come-first serve’ basis.\nClass starts at 10am sharp. Please be here at least 10 minutes early wearing comfortable clothes and closed-toed shoes. If you have long hair\, be sure to tie it behind your head.\nStudents will receive a full copy of all recipes for use at home.\nChildren 12 years old or younger are welcome to attend as long as they are accompanied by a parent or guardian. This is one of our more intensive pastry classes.\nView our website calendar to see all of our other scheduled classes and events.\nTake a look at our staff and instructors page to get an idea on who may be teaching this class.\nTo view some dishes from our prior classes and events\, visit our Instagram page!\n\nREGISTER HERE:\n\n \n\n\n\n\nNumber of People\n\n\n1 Person $80.00 USD2 People $160.00 USD3 People $240.00 USD4 People $320.00 USD5 People $400.00 USD6 People $480.00 USD\n\n\n\nName\n\n\n\n\n\n\nPhone Number
URL:https://www.ccacademy.edu/calendar/pastry-class-spring-macarons-04-12-26/
CATEGORIES:Pastry Class (Stand-Alone)
ATTACH;FMTTYPE=image/jpeg:https://www.ccacademy.edu/wp-content/uploads/2026/03/Pastry-Class-Spring-Macarons-Featured-Image.jpg
END:VEVENT
END:VCALENDAR