BEGIN:VCALENDAR
VERSION:2.0
PRODID:-//Classic Cooking Academy - An Arizona Culinary School - ECPv6.15.20//NONSGML v1.0//EN
CALSCALE:GREGORIAN
METHOD:PUBLISH
X-ORIGINAL-URL:https://www.ccacademy.edu
X-WR-CALDESC:Events for Classic Cooking Academy - An Arizona Culinary School
REFRESH-INTERVAL;VALUE=DURATION:PT1H
X-Robots-Tag:noindex
X-PUBLISHED-TTL:PT1H
BEGIN:VTIMEZONE
TZID:UTC
BEGIN:STANDARD
TZOFFSETFROM:+0000
TZOFFSETTO:+0000
TZNAME:UTC
DTSTART:20250101T000000
END:STANDARD
END:VTIMEZONE
BEGIN:VEVENT
DTSTART;TZID=UTC:20260214T100000
DTEND;TZID=UTC:20260214T130000
DTSTAMP:20260423T233253
CREATED:20260113T170127Z
LAST-MODIFIED:20260211T232513Z
UID:31254-1771063200-1771074000@www.ccacademy.edu
SUMMARY:Pastry Class - Valentine Chocolates (TWO SPOTS LEFT!)
DESCRIPTION:ONLY TWO SPOTS LEFT! CALL OR EMAIL TO REGISTER.\nONLINE REGISTRATION HAS BEEN REMOVED TO AVOID OVERBOOKING.\nValentine Chocolates Class – Menu:\n\nChocolate Lava Cake with Chocolate Ganache\nAssorted Chocolate Truffles\nGluten-Free Chocolate Mesquite Cake\n\nAbout:\n\n\n\n\n\n\n\n\n\n\n\n\n\n\n\n\nThis Valentine’s Day\, skip the roses—choose chocolate. Celebrate the most romantic day of the year with a decadent\, hands-on Valentine Chocolates class designed for true cocoa lovers. In this special cooking and baking class\, you’ll learn to create three irresistible desserts: a rich Chocolate Lava Cake with silky chocolate ganache\, an assortment of handcrafted chocolate truffles\, and a moist\, deeply flavored gluten-free chocolate mesquite cake. Guided step by step\, you’ll explore essential chocolate techniques\, flavor balancing\, and finishing touches that turn simple ingredients into show-stopping sweets. Whether you’re coming with a partner\, a friend\, or treating yourself\, this class is all about indulgence\, creativity\, and sharing something made with love—perfect for a sweet and memorable Valentine’s Day. \n\n\n\n\n\n\n\n\n\n\n\n\n\n\n\n\n(If applicable\, feel free to bring your own to-go containers!) \nMore Info:\n\nTo make a reservation\, please use the PayPal button below. If the PayPal button has been removed or you wish to register by phone\, call 480-502-0177 or email info@ccacademy.edu. \nCOST: $80 per person.  Gratuity is not included in the class price.\n\nTips for our staff for this evening are not expected but are greatly appreciated. All gratuities are evenly distributed amongst our staff members.\nIf your party has eight or more guests\, you can still reserve spots for any recreational class or event if you do not wish to do a private party. However\, we will charge your group an 18% service fee at the time of your reservation. With this in mind\, it is preferred that you register your entire guest count all at once.\n\n\nThis Pastry Class is held from 10:00am – 1:00pm. Attendees must be 21 years or older to consume any alcohol.\nWe have a 72-hour cancellation policy. This means that you have three days before the class starts to cancel or change your reservation.\n\n If you have to cancel within this time period\, you will not receive a credit to apply towards a different event. We do not issue monetary refunds.\n\n\nNo dietary restrictions or allergies will be accommodated for this class. If one or more items on today’s menu conflicts with your needs\, please reserve spots for an alternative Cooking Class.\nClass size is limited to 20 people. Reservations are based on a ‘first come-first serve’ basis.\nClass starts at 10:00am sharp. Please be here at least 10 minutes early wearing comfortable clothes and closed-toed shoes. If you have long hair\, be sure to tie it behind your head.\nStudents will receive a full copy of all recipes for use at home.\nVisit our website calendar to see our other classes and events that we have scheduled!\nTake a look at our staff and instructors page to get an idea on who may be teaching this class.\nTo see how our prior Pastry Classes looked like\, visit our Instagram page!
URL:https://www.ccacademy.edu/calendar/pastry-class-valentine-chocolates-02-14-26/
CATEGORIES:Pastry Class (Stand-Alone)
ATTACH;FMTTYPE=image/png:https://www.ccacademy.edu/wp-content/uploads/2026/01/Pastry-Class-Valentine-Chocolates-2026-Featured-Image.png
END:VEVENT
END:VCALENDAR