BEGIN:VCALENDAR
VERSION:2.0
PRODID:-//Classic Cooking Academy - An Arizona Culinary School - ECPv6.15.20//NONSGML v1.0//EN
CALSCALE:GREGORIAN
METHOD:PUBLISH
X-ORIGINAL-URL:https://www.ccacademy.edu
X-WR-CALDESC:Events for Classic Cooking Academy - An Arizona Culinary School
REFRESH-INTERVAL;VALUE=DURATION:PT1H
X-Robots-Tag:noindex
X-PUBLISHED-TTL:PT1H
BEGIN:VTIMEZONE
TZID:UTC
BEGIN:STANDARD
TZOFFSETFROM:+0000
TZOFFSETTO:+0000
TZNAME:UTC
DTSTART:20240101T000000
END:STANDARD
END:VTIMEZONE
BEGIN:VEVENT
DTSTART;TZID=UTC:20251220T100000
DTEND;TZID=UTC:20251220T130000
DTSTAMP:20260424T022324
CREATED:20250417T215113Z
LAST-MODIFIED:20251214T001719Z
UID:28892-1766224800-1766235600@www.ccacademy.edu
SUMMARY:Holiday Cookie Exchange (SOLD OUT)
DESCRIPTION:SOLD OUT\n*Note: All of the December 2025 Holiday Cookie Exchanges feature the same menu.\nHoliday Cookie Exchange – Menu:\n\n\nHoliday Pignoli Cookies\nPeanut Butter Thumbprint Cookies\nBasic Spritz Cookies\nChocolate Crinkle Cookies\nRaspberry Walnut Christmas Cookies\nOrange Ginger Molasses Cookies\nSnowball Cookies (Pecan Butter Balls)\nWhite Chocolate Chip Christmas Cookies\n\n\nAbout:\nA sweet way to celebrate the season. This class is a team effort in fun and\, lots of cookies to take home! You will work in groups up to four on two different cookie recipes. As the cookies are completed they will be equally distributed to all\, on a giant cookie table! Once class is over\, you can fill your containers with the bounty of cookies that will appear! No stress at home\, get your baking done in three hours and go home with dozens and dozens of a variety of cookies! Class will start with a brief instructional review of the recipes. Be prepared to take some pictures and enjoy some refreshments when you are finished! The class is best enjoyed with some prior baking knowledge.\nMore Info:\n\nCOST: $90 per person. This is a Specialty Class. \nTo register\, use the below PayPal button below. If the PayPal button has been removed to avoid overbooking or you wish to pay via a separate method\, call us at (480) 502-0177.\nWe have a 72-hour cancellation policy. This means that you have three days before the class starts to cancel or change your reservation.\n\n If you have to cancel within this time period\, you will not receive a credit to apply towards a different event. We do not issue monetary refunds.\n\n\nThe Cookie Exchange Class is held on Saturday\, 10:00am – 1:00pm. Attendees must be 21 years or older to consume any alcohol.\nNo dietary restrictions or allergies will be accommodated for this class. If one or more items on the menu conflicts with your needs\, please reserve spots for an alternative cooking class or event.\nClass size is limited to 20 people. Reservations are based on a ‘first come-first serve’ basis.\nClass starts at 10:00am sharp. Please be here at least 10 minutes early wearing comfortable clothes and closed-toed shoes. If you have long hair\, be sure to tie it behind your head.\n\nIf you know you will be late or absent entirely for this class\, please notify us beforehand. Our phone number is 480-502-0177 and our email is info@ccacademy.edu. \n\n\nStudents will receive a full copy of all recipes for use at home.\nTake a look at our staff and instructors page to get a feel over who may be teaching this class.\nTips for our staff are not expected but are greatly appreciated. All gratuities are evenly distributed amongst our staff members.\nTo view other Holiday Cookie Exchange Dates visit:   https://www.ccacademy.edu/calendar\nView our website calendar to explore all of our upcoming classes and events.\nTake a look at our staff and instructors page to get an idea on who may be teaching this class.\nTo view some dishes from our prior classes and events\, visit our Instagram page!
URL:https://www.ccacademy.edu/calendar/holiday-cookie-exchange-12-20-25/
CATEGORIES:Pastry Class (Stand-Alone)
ATTACH;FMTTYPE=image/png:https://www.ccacademy.edu/wp-content/uploads/2025/04/2025-Holiday-Cookie-Exchange-Featured-Image.png
END:VEVENT
END:VCALENDAR