BEGIN:VCALENDAR
VERSION:2.0
PRODID:-//Classic Cooking Academy - An Arizona Culinary School - ECPv6.15.20//NONSGML v1.0//EN
CALSCALE:GREGORIAN
METHOD:PUBLISH
X-WR-CALNAME:Classic Cooking Academy - An Arizona Culinary School
X-ORIGINAL-URL:https://www.ccacademy.edu
X-WR-CALDESC:Events for Classic Cooking Academy - An Arizona Culinary School
REFRESH-INTERVAL;VALUE=DURATION:PT1H
X-Robots-Tag:noindex
X-PUBLISHED-TTL:PT1H
BEGIN:VTIMEZONE
TZID:UTC
BEGIN:STANDARD
TZOFFSETFROM:+0000
TZOFFSETTO:+0000
TZNAME:UTC
DTSTART:20240101T000000
END:STANDARD
END:VTIMEZONE
BEGIN:VEVENT
DTSTART;TZID=UTC:20251207T130000
DTEND;TZID=UTC:20251207T160000
DTSTAMP:20260424T021806
CREATED:20250617T164636Z
LAST-MODIFIED:20251215T230331Z
UID:29340-1765112400-1765123200@www.ccacademy.edu
SUMMARY:Yule Log (Bûche de Noël) Class (TWO SPOTS LEFT!)
DESCRIPTION:ONLY TWO SPOTS LEFT! CALL OR EMAIL TO SIGN UP!\nONLINE REGISTRATION HAS BEEN REMOVED TO AVOID OVERBOOKING.\nMenu:\n\nBûche de Noël (Yule Log)\n\nSponge Cake Roulade\nButtercream Filling\nMeringue Mushrooms\n\n\n\nAbout:\nCraft a Christmas classic! Learn how to make the fanciful and famous Yule Log or Bûche de Noël with Chef Pascal Dionot.  He will take you step-by-step through the preparation of the sponge cake and buttercream filling\, and you’ll finish your sweet roulade with marzipan and mushroom meringue decorations. At the end of class\, everyone will take home their very own Yule Log! This is the perfect opportunity to try your hand at this delectable holiday dessert! \nMore Info:\n\nCOST: $80 per person.  \nTo make a reservation\, please call 480-502-0177 or click on the PayPal link below.\nWe have a 72-hour cancellation policy. This means that you have three days before the class starts to cancel your reservation or change your party size.\n\nIf you have to cancel within this time period\, you are subject to forfeiture of any payments made to this class.\n\n\nNo dietary restrictions or allergies will be accommodated for this class. If one or more items on the menu conflicts with your needs\, please reserve spots for an alternative Cooking Class.\nClass size is limited to 16 people. Reservations are based on a ‘first come-first serve’ basis.\nClass starts at 1:00pm sharp. Please be here at least 10 minutes early wearing comfortable clothes and closed-toed shoes. If you have long hair\, be sure to tie it behind your head.\n\nIf you know you will be late or absent entirely for this class\, please notify us beforehand. Our phone number is 480-502-0177 and our email is info@ccacademy.edu. \n\n\nStudents will receive a full copy of all recipes for use at home.\nTake a look at our staff and instructors page to get a feel over who may be teaching this class.\nTips for our staff are not expected but are greatly appreciated. All gratuities are evenly distributed amongst our staff members.\nView our website calendar to see all of our other scheduled classes and events.\nTake a look at our staff and instructors page to get an idea on who may be teaching this class.\nTo view some dishes from our prior classes and events\, visit our Instagram page!
URL:https://www.ccacademy.edu/calendar/yule-log-buche-de-noel-class-12-07-25/
CATEGORIES:Pastry Class (Stand-Alone)
ATTACH;FMTTYPE=image/png:https://www.ccacademy.edu/wp-content/uploads/2025/06/Yule-Log-Buche-de-Noel-Class-NEW.png
END:VEVENT
END:VCALENDAR