BEGIN:VCALENDAR
VERSION:2.0
PRODID:-//Classic Cooking Academy - An Arizona Culinary School - ECPv6.15.20//NONSGML v1.0//EN
CALSCALE:GREGORIAN
METHOD:PUBLISH
X-ORIGINAL-URL:https://www.ccacademy.edu
X-WR-CALDESC:Events for Classic Cooking Academy - An Arizona Culinary School
REFRESH-INTERVAL;VALUE=DURATION:PT1H
X-Robots-Tag:noindex
X-PUBLISHED-TTL:PT1H
BEGIN:VTIMEZONE
TZID:UTC
BEGIN:STANDARD
TZOFFSETFROM:+0000
TZOFFSETTO:+0000
TZNAME:UTC
DTSTART:20250101T000000
END:STANDARD
END:VTIMEZONE
BEGIN:VEVENT
DTSTART;TZID=UTC:20260509T100000
DTEND;TZID=UTC:20260509T130000
DTSTAMP:20260423T202056
CREATED:20260327T215226Z
LAST-MODIFIED:20260327T220642Z
UID:32142-1778320800-1778331600@www.ccacademy.edu
SUMMARY:Pastry Class – Elegant Tarts (05/09/26)
DESCRIPTION:Elegant Tarts Class – Menu:\n\nChocolate Ganache Raspberry Tartlets\nLemon Blueberry Tartlets\nLemon Curd\n\nAbout:\n\n\n\n\n\n\n\n\nDiscover the art of refined pastry in our Elegant Tarts class\, where classic technique meets modern style. Learn how to create beautifully balanced tart shells\, silky fillings\, and polished finishes using professional methods and high-quality ingredients. Perfect for beginners and aspiring bakers alike\, this hands-on class will guide you step by step to crafting tarts that look as stunning as they taste—ideal for entertaining\, gifting\, or simply elevating your baking skills. \n\n\n\n\n\n\n\n\n(If you would like to take your food home with you\, please bring your own to-go containers.) \nMore Info:\n\nTo make a reservation\, please use the PayPal button below. If the PayPal button has been removed or you wish to register by phone\, call 480-502-0177 or email info@ccacademy.edu. \nCOST: $70 per person.  Gratuity is not included in the class price.\n\nTips for our staff for this evening are not expected but are greatly appreciated. All gratuities are evenly distributed amongst our staff members.\nIf your party has eight or more guests\, you can still reserve spots for any recreational class or event if you do not wish to do a private party. However\, we will charge your group an 18% service fee at the time of your reservation. With this in mind\, it is preferred that you register your entire guest count all at once.\n\n\nThis Pastry Class is held from 10:00am – 1:00pm. Attendees must be 21 years or older to consume any alcohol.\nWe have a 72-hour cancellation policy. This means that you have three days before the class starts to cancel or change your reservation.\n\n If you have to cancel within this time period\, you will not receive a credit to apply towards a different event. We do not issue monetary refunds.\n\n\nNo dietary restrictions or allergies will be accommodated for this class. If one or more items on today’s menu conflicts with your needs\, please reserve spots for an alternative Cooking Class.\nClass size is limited to 20 people. Reservations are based on a ‘first come-first serve’ basis.\nClass starts at 10:00am sharp. Please be here at least 10 minutes early wearing comfortable clothes and closed-toed shoes. If you have long hair\, be sure to tie it behind your head.\nStudents will receive a full copy of all recipes for use at home.\nVisit our website calendar to see our other classes and events that we have scheduled!\nTake a look at our staff and instructors page to get an idea on who may be teaching this class.\nTo see how our prior Pastry Classes looked like\, visit our Instagram page!\n\nREGISTER HERE:\n\n \n\n\n\n\nNumber of People\n\n\n1 Person $70.00 USD2 People $140.00 USD3 People $210.00 USD4 People $280.00 USD5 People $350.00 USD6 People $420.00 USD\n\n\n\nName\n\n\n\n\n\n\nPhone Number
URL:https://www.ccacademy.edu/calendar/pastry-class-elegant-tarts-05-09-26/
CATEGORIES:Pastry Class (Stand-Alone)
ATTACH;FMTTYPE=image/jpeg:https://www.ccacademy.edu/wp-content/uploads/2025/11/Chocolate-Ganache-Raspberry-Tartlet.jpg
END:VEVENT
END:VCALENDAR