BEGIN:VCALENDAR
VERSION:2.0
PRODID:-//Classic Cooking Academy - An Arizona Culinary School - ECPv6.15.20//NONSGML v1.0//EN
CALSCALE:GREGORIAN
METHOD:PUBLISH
X-ORIGINAL-URL:https://www.ccacademy.edu
X-WR-CALDESC:Events for Classic Cooking Academy - An Arizona Culinary School
REFRESH-INTERVAL;VALUE=DURATION:PT1H
X-Robots-Tag:noindex
X-PUBLISHED-TTL:PT1H
BEGIN:VTIMEZONE
TZID:UTC
BEGIN:STANDARD
TZOFFSETFROM:+0000
TZOFFSETTO:+0000
TZNAME:UTC
DTSTART:20250101T000000
END:STANDARD
END:VTIMEZONE
BEGIN:VEVENT
DTSTART;TZID=UTC:20260307T100000
DTEND;TZID=UTC:20260307T130000
DTSTAMP:20260423T202056
CREATED:20260115T225101Z
LAST-MODIFIED:20260302T234342Z
UID:31342-1772877600-1772888400@www.ccacademy.edu
SUMMARY:Pastry Class – Soufflés (03/07/26)
DESCRIPTION:Soufflés Class – Menu:\n\nClassic Orange Soufflé \nLemon Soufflé\nChocolate Soufflé \nCrème Anglaise \nFruit Sauce\nLemon Curd\nChocolate Sauce\n\nAbout:\nWhip it\, fold it\, and let it rise. Learn how to bake any soufflé with crisp edges and perfect height for a sweet end to a delicious meal. Join Chef Pascal Dionot for this hands-on Pastry Class\, and learn the technique to making those famous French Soufflés that everybody adores! Learn how to make the purée base along with the egg white lift. Don’t be afraid of the soufflé – come in and make your own! \nMore Info:\n\nTo make a reservation\, please use the PayPal button below. If the PayPal button has been removed or you wish to register by phone\, call 480-502-0177 or email info@ccacademy.edu. \nCOST: $80 per person.  Gratuity is not included in the class price.\n\nTips for our staff for this evening are not expected but are greatly appreciated. All gratuities are evenly distributed amongst our staff members.\nIf your party has eight or more guests\, you can still reserve spots for any recreational class or event if you do not wish to do a private party. However\, we will charge your group an 18% service fee at the time of your reservation. With this in mind\, it is preferred that you register your entire guest count all at once.\n\n\nThis Pastry Class is held from 10:00am – 1:00pm. Attendees must be 21 years or older to consume any alcohol.\nWe have a 72-hour cancellation policy. This means that you have three days before the class starts to cancel or change your reservation.\n\n If you have to cancel within this time period\, you will not receive a credit to apply towards a different event. We do not issue monetary refunds.\n\n\nNo dietary restrictions or allergies will be accommodated for this class. If one or more items on today’s menu conflicts with your needs\, please reserve spots for an alternative Cooking Class.\nClass size is limited to 16 people. Reservations are based on a ‘first come-first serve’ basis.\nClass starts at 10am sharp. Please be here at least 10 minutes early wearing comfortable clothes and closed-toed shoes. If you have long hair\, be sure to tie it behind your head.\nStudents will receive a full copy of all recipes for use at home.\n\nREGISTER HERE:\n\n \n\n\n\n\nNumber of People\n\n\n1 Person $80.00 USD2 People $160.00 USD3 People $240.00 USD4 People $320.00 USD5 People $400.00 USD6 People $480.00 USD\n\n\n\nName\n\n\n\n\n\n\nPhone Number
URL:https://www.ccacademy.edu/calendar/pastry-class-souffles-03-07-26/
CATEGORIES:Pastry Class (Stand-Alone)
ATTACH;FMTTYPE=image/png:https://www.ccacademy.edu/wp-content/uploads/2026/01/Pastry-Class-Souffles-Featured-Image-NEWEST.png
END:VEVENT
BEGIN:VEVENT
DTSTART;TZID=UTC:20260321T100000
DTEND;TZID=UTC:20260321T130000
DTSTAMP:20260423T202056
CREATED:20260113T235336Z
LAST-MODIFIED:20260115T214354Z
UID:31292-1774087200-1774098000@www.ccacademy.edu
SUMMARY:Pastry Class – Spring Pâtisserie (03/21/26)
DESCRIPTION:Spring Pâtisserie Class – Menu:\n\nClassic Cream Puffs\nFrench Madeleines\nLemon Raspberry and Poppyseed Scones with Lemon Poppyseed Glaze\n\nAbout:\n\n\n\n\n\n\n\n\n\n\n\n\n\n\n\n\nWelcome spring with butter\, citrus\, and classic French charm. Our Spring Pâtisserie pastry class celebrates the fresh\, delicate flavors of the season through a hands-on pastry experience rooted in classic technique. In this class\, you’ll learn to create crisp\, airy cream puffs filled with silky cream\, bake buttery French madeleines with their signature shell shape\, and prepare tender lemon raspberry and poppyseed scones finished with a bright lemon poppyseed glaze. Perfect for welcoming spring\, this workshop highlights light textures\, citrus notes\, and timeless pastries designed to elevate your home baking and delight at any spring gathering. \n\n\n\n\n\n\n\n\n\n\n\n\n\n\n\n\n(If you would like to take your food home with you\, please bring your own to-go containers.) \nMore Info:\n\nTo make a reservation\, please use the PayPal button below. If the PayPal button has been removed or you wish to register by phone\, call 480-502-0177 or email info@ccacademy.edu. \nCOST: $80 per person.  Gratuity is not included in the class price.\n\nTips for our staff for this evening are not expected but are greatly appreciated. All gratuities are evenly distributed amongst our staff members.\nIf your party has eight or more guests\, you can still reserve spots for any recreational class or event if you do not wish to do a private party. However\, we will charge your group an 18% service fee at the time of your reservation. With this in mind\, it is preferred that you register your entire guest count all at once.\n\n\nThis Pastry Class is held from 10:00am – 1:00pm. Attendees must be 21 years or older to consume any alcohol.\nWe have a 72-hour cancellation policy. This means that you have three days before the class starts to cancel or change your reservation.\n\n If you have to cancel within this time period\, you will not receive a credit to apply towards a different event. We do not issue monetary refunds.\n\n\nNo dietary restrictions or allergies will be accommodated for this class. If one or more items on today’s menu conflicts with your needs\, please reserve spots for an alternative Cooking Class.\nClass size is limited to 20 people. Reservations are based on a ‘first come-first serve’ basis.\nClass starts at 10:00am sharp. Please be here at least 10 minutes early wearing comfortable clothes and closed-toed shoes. If you have long hair\, be sure to tie it behind your head.\nStudents will receive a full copy of all recipes for use at home.\nVisit our website calendar to see our other classes and events that we have scheduled!\nTake a look at our staff and instructors page to get an idea on who may be teaching this class.\nTo see how our prior Pastry Classes looked like\, visit our Instagram page!\n\nREGISTER HERE:\n\n \n\n\n\n\nNumber of People\n\n\n1 Person $80.00 USD2 People $160.00 USD3 People $240.00 USD4 People $320.00 USD5 People $400.00 USD6 People $480.00 USD\n\n\n\nName\n\n\n\n\n\n\nPhone Number
URL:https://www.ccacademy.edu/calendar/pastry-class-spring-patisserie-03-21-26/
CATEGORIES:Pastry Class (Stand-Alone)
ATTACH;FMTTYPE=image/png:https://www.ccacademy.edu/wp-content/uploads/2026/01/Pastry-Class-Spring-Patisserie-Featured-Image.png
END:VEVENT
BEGIN:VEVENT
DTSTART;TZID=UTC:20260328T100000
DTEND;TZID=UTC:20260328T130000
DTSTAMP:20260423T202056
CREATED:20260113T162752Z
LAST-MODIFIED:20260115T220256Z
UID:31248-1774692000-1774702800@www.ccacademy.edu
SUMMARY:Pastry Class - French Crêpes (03/28/26)
DESCRIPTION:French Crêpes Class – Menu:\n\nSweet Crêpes:\n\nBuckwheat Crêpes\nLemon Curd with Blueberries\n\n\nSavory Crêpes:\n\nHerbs Crêpes\nChicken in Mushroom Cream Sauce\n\n\n\nAbout:\n\n\n\n\n\n\n\n\n\n\n\n\n\n\n\n\nFrom batter to “bon appétit.” Step into the heart of French culinary tradition with our hands-on French Crêpes class! Guided by our experienced instructor\, you’ll learn the art of creating perfectly thin\, golden crêpes from scratch—mastering the batter\, the pour\, and the flip with confidence. Explore both sweet and savory variations as you work with classic ingredients and elegant fillings\, discovering the techniques that make crêpes a timeless favorite in France. Whether you’re a beginner or a passionate home cook\, this engaging class offers a delicious blend of skill-building\, cultural insight\, and shared enjoyment around the stove. \n\n\n\n\n\n\n\n\n\n\n\n\n\n\n\n\n(If applicable\, feel free to bring your own to-go containers!) \nMore Info:\n\nTo make a reservation\, please use the PayPal button below. If the PayPal button has been removed or you wish to register by phone\, call 480-502-0177 or email info@ccacademy.edu. \nCOST: $80 per person.  Gratuity is not included in the class price.\n\nTips for our staff for this evening are not expected but are greatly appreciated. All gratuities are evenly distributed amongst our staff members.\nIf your party has eight or more guests\, you can still reserve spots for any recreational class or event if you do not wish to do a private party. However\, we will charge your group an 18% service fee at the time of your reservation. With this in mind\, it is preferred that you register your entire guest count all at once.\n\n\nThis Pastry Class is held from 10:00am – 1:00pm. Attendees must be 21 years or older to consume any alcohol.\nWe have a 72-hour cancellation policy. This means that you have three days before the class starts to cancel or change your reservation.\n\n If you have to cancel within this time period\, you will not receive a credit to apply towards a different event. We do not issue monetary refunds.\n\n\nNo dietary restrictions or allergies will be accommodated for this class. If one or more items on today’s menu conflicts with your needs\, please reserve spots for an alternative Cooking Class.\nClass size is limited to 20 people. Reservations are based on a ‘first come-first serve’ basis.\nClass starts at 10:00am sharp. Please be here at least 10 minutes early wearing comfortable clothes and closed-toed shoes. If you have long hair\, be sure to tie it behind your head.\nStudents will receive a full copy of all recipes for use at home.\nVisit our website calendar to see our other classes and events that we have scheduled!\nTake a look at our staff and instructors page to get an idea on who may be teaching this class.\nTo see how our prior Pastry Classes looked like\, visit our Instagram page!\n\nREGISTER HERE:\n\n \n\n\n\n\nNumber of People\n\n\n1 Person $80.00 USD2 People $160.00 USD3 People $240.00 USD4 People $320.00 USD5 People $400.00 USD6 People $480.00 USD\n\n\n\nName\n\n\n\n\n\n\nPhone Number
URL:https://www.ccacademy.edu/calendar/pastry-class-french-crepes-03-28-26/
CATEGORIES:Pastry Class (Stand-Alone)
ATTACH;FMTTYPE=image/png:https://www.ccacademy.edu/wp-content/uploads/2026/01/Pastry-Class-French-Crepes-Featured-Image.png
END:VEVENT
END:VCALENDAR