BEGIN:VCALENDAR
VERSION:2.0
PRODID:-//Classic Cooking Academy - An Arizona Culinary School - ECPv6.15.20//NONSGML v1.0//EN
CALSCALE:GREGORIAN
METHOD:PUBLISH
X-ORIGINAL-URL:https://www.ccacademy.edu
X-WR-CALDESC:Events for Classic Cooking Academy - An Arizona Culinary School
REFRESH-INTERVAL;VALUE=DURATION:PT1H
X-Robots-Tag:noindex
X-PUBLISHED-TTL:PT1H
BEGIN:VTIMEZONE
TZID:UTC
BEGIN:STANDARD
TZOFFSETFROM:+0000
TZOFFSETTO:+0000
TZNAME:UTC
DTSTART:20240101T000000
END:STANDARD
END:VTIMEZONE
BEGIN:VEVENT
DTSTART;TZID=UTC:20251025T100000
DTEND;TZID=UTC:20251025T130000
DTSTAMP:20260424T034040
CREATED:20250616T230430Z
LAST-MODIFIED:20250716T205749Z
UID:29331-1761386400-1761397200@www.ccacademy.edu
SUMMARY:Halloween Cookie Workshop (10/25/25)
DESCRIPTION:Menu:\n\nSugar Cookie Cutouts\nRoyal Icing (Students will learn flooding technique)\n\nAbout:\nLearn how to make delicious pastries that will impress your family and friends during this spooky time of year! Students will work together in groups of 4 during this hands-on class\, led by the instructor. Expect to be standing\, cooking or baking and engaged for most of the class\, following the instructor’s lecture and/or demo. After class\, students will enjoy a generous taste of every dish along with refreshments and will be able to ask questions about the class. Bring to-go containers for any leftover baked goods! \nAvailable to all ages\, but especially fun for kids ages 8+! This is an entertaining and interactive opportunity for parents and children to enjoy October’s signature holiday!\n\nMore Info:\n\nTo make a reservation\, please use the PayPal registration below. If you wish to pay by phone\, please call us at 480-502-0177.\nCOST: $75 per person. Gratuity is not included in the class price.\n\nTips for our staff for this evening are not expected but are greatly appreciated. All gratuities are evenly distributed amongst our staff members.\nIf your party has six or more guests\, you can still reserve spots for any recreational class or event if you do not wish to do a private party. However\, we will charge your group an 18% service fee at the time of your reservation. With this in mind\, it is preferred that you register your entire guest count all at once.\n\n\nPastry Classes are held on select Saturdays\, 10:00am – 1:00pm. Attendees must be 21 years or older to consume any alcohol.\nWe have a 72-hour cancellation policy. This means that you have three days before the class starts to cancel or change your reservation.\n\nIf you have to cancel within this time period\, you will not receive a credit to apply towards a different event. We do not issue monetary refunds.\n\n\nNo dietary restrictions or allergies will be accommodated for this class. If one or more items on today’s menu conflicts with your needs\, please reserve spots for an alternative Pastry Class.\nClass size is limited to 16 people. Reservations are based on a ‘first come-first serve’ basis.\nClass starts at 10:00am sharp. Please be here at least 10 minutes early wearing comfortable clothes and closed-toed shoes. If you have long hair\, be sure to tie it behind your head.\nStudents will receive a full copy of all recipes for use at home.\nThis class will be led by Chef Sharon Lunardi.\nView our website calendar to see all of our other scheduled classes and events.\nTo view some dishes from our prior classes and events\, visit our Instagram page!\n\nREGISTER HERE:\n\n \n\n\n\n\nNumber of People\n\n\n1 Person $75.00 USD2 People $150.00 USD3 People $225.00 USD4 People $300.00 USD5 People $375.00 USD6 People $450.00 USD\n\n\n\nName\n\n\n\n\n\n\nPhone Number
URL:https://www.ccacademy.edu/calendar/halloween-cookie-workshop-10-25-25/
CATEGORIES:Pastry Class (Stand-Alone)
ATTACH;FMTTYPE=image/png:https://www.ccacademy.edu/wp-content/uploads/2024/06/Halloween-Cookie-Workshop-Featured-Image.png
END:VEVENT
END:VCALENDAR