BEGIN:VCALENDAR
VERSION:2.0
PRODID:-//Classic Cooking Academy - An Arizona Culinary School - ECPv6.15.20//NONSGML v1.0//EN
CALSCALE:GREGORIAN
METHOD:PUBLISH
X-ORIGINAL-URL:https://www.ccacademy.edu
X-WR-CALDESC:Events for Classic Cooking Academy - An Arizona Culinary School
REFRESH-INTERVAL;VALUE=DURATION:PT1H
X-Robots-Tag:noindex
X-PUBLISHED-TTL:PT1H
BEGIN:VTIMEZONE
TZID:UTC
BEGIN:STANDARD
TZOFFSETFROM:+0000
TZOFFSETTO:+0000
TZNAME:UTC
DTSTART:20250101T000000
END:STANDARD
END:VTIMEZONE
BEGIN:VEVENT
DTSTART;VALUE=DATE:20260601
DTEND;VALUE=DATE:20260605
DTSTAMP:20260425T115943
CREATED:20260218T195905Z
LAST-MODIFIED:20260219T185548Z
UID:31674-1780272000-1780617599@www.ccacademy.edu
SUMMARY:2026 June Kids Camp Week 1
DESCRIPTION:About:\nStir up summer fun with Classic Cooking! Kids will get to have fun in the kitchen and meet new friends in this delicious and interactive camp session! Campers will learn both novice and advanced culinary techniques\, essential concepts\, and general comprehension as they work in groups to make the daily menus. At the end of class\, students will eat what they make!  \n$280 for 4-day session which meets from 10:00 a.m. – 12:00 p.m. on Monday\, Tuesday\, Wednesday\, and Thursday.  Available to Ages 8-12. \nMenus:\nMonday – Party Food \n\nBaked Buffalo Chicken Fingers with Homemade Ranch Dressing\nSpinach-Artichoke Dip with Tortilla Chips\nRaspberry and Cream Cheese Brownie Bites\n\nTuesday – Rise and Shine \n\nDenver-Style Frittata\nMaple-Glazed Bacon\nBerry Yogurt Parfait with Granola\nOrange Chocolate Chip Scones\n\nWednesday – Caribbean Flare \n\nGrilled Jerk Chicken \nIsland Fried Rice\nGrilled Pineapple with Ice Cream and Orange Glaze\n\nThursday – Pizza Party \n\nHandmade Pizza with Custom Toppings\nCaesar Salad\nLemon Ricotta Cookies with Lemon Glaze\n\nMore Info:\n\nCost: $280 for 4-day session\, Monday-Thursday\, 10:00am – 12:00pm. Reservations are based on First Come-First Serve basis.\nTo register\, please use the PayPal button below. If the button has been removed or you wish to register a different way\, call 480-502-0177 or e-mail info@ccacademy.edu to register.\n\nIf you wish to pay via ESA funding through ClassWallet\, please contact our staff!\n\n\nNO REFUNDS will be given in the event of a cancellation.\nStudents MUST wear close-toed shoes and tie back long hair as per Arizona health code.\nKids Camp is DROP OFF ONLY. Sorry\, no parents allowed!\nPLEASE DROP OFF AND PICK UP KIDS IN A TIMELY MANNER. A late fee will be assessed for each 15 minutes of tardiness\nNo make-up classes are offered. Once registered\, students are expected to commit to the entire week of camp.\nWhile every attempt is made for dietary friendly menus\, we cannot accommodate all dietary restrictions; please review each week’s class menus before enrolling your child or give us a call to discuss any concerns you might have. If the parent/guardian is willing to provide substitutions for some ingredients\, accommodations can be discussed.\nIf a student behaves in a troubling and disruptive manner\, we reserve the right to contact their parent/guardian to pick up their child and remove them from the camp session.\n\nA MEDICAL AUTHORIZATION FORM must be filled out and sent out to us via email (info@ccacademy.edu) for your child to attend. We must receive notice of any allergies or dietary restrictions at least 72 hours prior to the week.\n\n\nREGISTER HERE:\n\n \n\n\n\n\nNumber of Students\n\n\n1 Student $280.00 USD2 Students $560.00 USD3 Students $840.00 USD4 Students $1\,120.00 USD5 Students $1\,400.00 USD6 Students $1\,680.00 USD\n\n\n\nName(s) of Student(s)\n\n\n\n\n\n\nAllergies/Dietary Restrictions?
URL:https://www.ccacademy.edu/calendar/2026-june-kids-camp-week-1/
CATEGORIES:Kids Class/Camp
ATTACH;FMTTYPE=image/png:https://www.ccacademy.edu/wp-content/uploads/2026/02/2026-June-Kids-Cooking-Camp-Event-Photo.png
END:VEVENT
END:VCALENDAR