BEGIN:VCALENDAR
VERSION:2.0
PRODID:-//Classic Cooking Academy - An Arizona Culinary School - ECPv6.15.20//NONSGML v1.0//EN
CALSCALE:GREGORIAN
METHOD:PUBLISH
X-WR-CALNAME:Classic Cooking Academy - An Arizona Culinary School
X-ORIGINAL-URL:https://www.ccacademy.edu
X-WR-CALDESC:Events for Classic Cooking Academy - An Arizona Culinary School
REFRESH-INTERVAL;VALUE=DURATION:PT1H
X-Robots-Tag:noindex
X-PUBLISHED-TTL:PT1H
BEGIN:VTIMEZONE
TZID:UTC
BEGIN:STANDARD
TZOFFSETFROM:+0000
TZOFFSETTO:+0000
TZNAME:UTC
DTSTART:20250101T000000
END:STANDARD
END:VTIMEZONE
BEGIN:VEVENT
DTSTART;TZID=UTC:20260206T183000
DTEND;TZID=UTC:20260206T210000
DTSTAMP:20260425T131044
CREATED:20251110T215659Z
LAST-MODIFIED:20260206T183525Z
UID:30752-1770402600-1770411600@www.ccacademy.edu
SUMMARY:Gourmet Class – Date Night Special (FOUR SPOTS LEFT!)
DESCRIPTION:ONLY FOUR SPOTS LEFT! CALL OR EMAIL TO REGISTER!\nONLINE REGISTRATION HAS BEEN REMOVED TO AVOID OVERBOOKING.\nGourmet Class Menu – Date Night Special:\n\nClassic Steakhouse Wedge Salad with Blue Cheese Buttermilk Dressing\nSeared Flank Steak with Bordelaise Sauce\nSmothered Baked Potatoes with Sautéed Mushrooms\nRoasted Broccoli with Garlic and Lemon\nChocolate Banana Rum Bread Pudding\n\nAbout:\nOur most popular stand-alone cooking class\, this is Classic Cooking Academy’s bread and butter. Guests come in\, find a seat\, have a drink\, and meet the chefs who go over each item on the menu. After our staff covers what each table will be cooking\, guests split up among the tables to prepare one dish of their choosing.  At the end\, our chefs take over the kitchen\, while guests return to the dining room and are served a delectable three-course dinner complete with an appetizer\, entrée\, and dessert. \nEach Gourmet Class includes complimentary wine\, beer\, and soft drinks. Alcoholic beverages will be available until dessert is served. \nMore Info:\n\nTo make a reservation\, please use the PayPal registration below. If the PayPal button has been removed to avoid overbooking or you wish to pay by phone\, please call us at 480-502-0177.\nCOST: $80 per person. Gratuity is not included in the class price.\n\nTips for our staff for this evening are not expected but are greatly appreciated. All gratuities are evenly distributed amongst our staff members.\nIf your party has six or more guests\, you can still reserve spots for any recreational class or event if you do not wish to do a private party. However\, we will charge your group an 18% service fee at the time of your reservation. With this in mind\, it is preferred that you register your entire guest count all at once.\n\n\nGourmet Cooking Classes are held on select Fridays\, 6:30 – 9:00pm. Attendees must be 21 years or older to consume any alcohol.\nWe have a 72-hour cancellation policy. This means that you have three days before the class starts to cancel or change your reservation.\n\n If you have to cancel within this time period\, you will not receive a credit to apply towards a different event. We do not issue monetary refunds.\n\n\nNo dietary restrictions or allergies will be accommodated for this class. If one or more items on tonight’s menu conflicts with your needs\, please reserve spots for an alternative Gourmet Cooking Class.\nClass size is limited to 20 people. Reservations are based on a ‘first come-first serve’ basis.\nClass starts at 6:30pm sharp. Please be here at least 10 minutes early wearing comfortable clothes and closed-toed shoes. If you have long hair\, be sure to tie it behind your head.\nStudents will receive a full copy of all recipes for use at home.\nVisit our website calendar to see our other classes and events that we have scheduled! Gourmet Classes are just one of the many hands-on cooking classes we offer in Scottsdale\, AZ!\nTake a look at our staff and instructors page to get an idea on who may be teaching this class.\nTo see how our prior Gourmet Classes looked like\, visit our Instagram page!
URL:https://www.ccacademy.edu/calendar/gourmet-class-date-night-special-02-06-26/
CATEGORIES:Gourmet Class
ATTACH;FMTTYPE=image/png:https://www.ccacademy.edu/wp-content/uploads/2025/11/Gourmet-Class-–-Date-Night-Special-Featured-Image.png
END:VEVENT
BEGIN:VEVENT
DTSTART;TZID=UTC:20260220T183000
DTEND;TZID=UTC:20260220T210000
DTSTAMP:20260425T131044
CREATED:20260112T204856Z
LAST-MODIFIED:20260129T211849Z
UID:31226-1771612200-1771621200@www.ccacademy.edu
SUMMARY:Gourmet Class – À La Française (02/20/26)
DESCRIPTION:Gourmet Class Menu – À La Française:\n\nPear & Brie in Phyllo with Arugula & Dijon Vinaigrette\nChicken with Roasted Garlic\, Lemon & Beurre Blanc\nBaked Duchess Potatoes\nSautéed Spinach & Leeks\nRaspberry Financiers\n\nAbout:\nOur most popular stand-alone cooking class\, this is Classic Cooking Academy’s bread and butter. Guests come in\, find a seat\, have a drink\, and meet the chefs who go over each item on the menu. After our staff covers what each table will be cooking\, guests split up among the tables to prepare one dish of their choosing.  At the end\, our chefs take over the kitchen\, while guests return to the dining room and are served a delectable three-course dinner complete with an appetizer\, entrée\, and dessert. \nEach Gourmet Class includes complimentary wine\, beer\, and soft drinks. Alcoholic beverages will be available until dessert is served. \nMore Info:\n\nTo make a reservation\, please use the PayPal registration below. If the PayPal button has been removed to avoid overbooking or you wish to pay by phone\, please call us at 480-502-0177.\nCOST: $80 per person. Gratuity is not included in the class price.\n\nTips for our staff for this evening are not expected but are greatly appreciated. All gratuities are evenly distributed amongst our staff members.\nIf your party has six or more guests\, you can still reserve spots for any recreational class or event if you do not wish to do a private party. However\, we will charge your group an 18% service fee at the time of your reservation. With this in mind\, it is preferred that you register your entire guest count all at once.\n\n\nGourmet Cooking Classes are held on select Fridays\, 6:30 – 9:00pm. Attendees must be 21 years or older to consume any alcohol.\nWe have a 72-hour cancellation policy. This means that you have three days before the class starts to cancel or change your reservation.\n\n If you have to cancel within this time period\, you will not receive a credit to apply towards a different event. We do not issue monetary refunds.\n\n\nNo dietary restrictions or allergies will be accommodated for this class. If one or more items on tonight’s menu conflicts with your needs\, please reserve spots for an alternative Gourmet Cooking Class.\nClass size is limited to 20 people. Reservations are based on a ‘first come-first serve’ basis.\nClass starts at 6:30pm sharp. Please be here at least 10 minutes early wearing comfortable clothes and closed-toed shoes. If you have long hair\, be sure to tie it behind your head.\nStudents will receive a full copy of all recipes for use at home.\nVisit our website calendar to see our other classes and events that we have scheduled! Gourmet Classes are just one of the many hands-on cooking classes we offer in Scottsdale\, AZ!\nTake a look at our staff and instructors page to get an idea on who may be teaching this class.\nTo see how our prior Gourmet Classes looked like\, visit our Instagram page!\n\nREGISTER HERE:\n\n \n\n\n\n\nNumber of People\n\n\n1 Person $80.00 USD2 People $160.00 USD3 People $240.00 USD4 People $320.00 USD5 People $400.00 USD6 People $480.00 USD\n\n\n\nName\n\n\n\n\n\n\nPhone Number
URL:https://www.ccacademy.edu/calendar/gourmet-class-a-la-francaise-02-20-26/
CATEGORIES:Gourmet Class
END:VEVENT
BEGIN:VEVENT
DTSTART;TZID=UTC:20260227T183000
DTEND;TZID=UTC:20260227T210000
DTSTAMP:20260425T131044
CREATED:20260113T191155Z
LAST-MODIFIED:20260227T184524Z
UID:31269-1772217000-1772226000@www.ccacademy.edu
SUMMARY:Gourmet Class – Tuscan Delights (FIVE SPOTS LEFT!)
DESCRIPTION:ONLY FIVE SPOTS LEFT! CALL OR EMAIL TO REGISTER.\nGourmet Class Menu – Tuscan Delights:\n\nTuscan Kale and Cannellini Bean Soup with Toasted Garlic Rubbed Italian Bread\nChicken Involtini with Stuffed Mushroom Cheese and Spinach in Lemon White Wine Sauce\nSautéed Zucchini Squash and Cippolini Onions\nRoasted Garlic Rosemary Potatoes\nFig and Mascarpone Crostata with Orange Honey Drizzle\n\nAbout:\nOur most popular stand-alone cooking class\, this is Classic Cooking Academy’s bread and butter. Guests come in\, find a seat\, have a drink\, and meet the chefs who go over each item on the menu. After our staff covers what each table will be cooking\, guests split up among the tables to prepare one dish of their choosing.  At the end\, our chefs take over the kitchen\, while guests return to the dining room and are served a delectable three-course dinner complete with an appetizer\, entrée\, and dessert. \nEach Gourmet Class includes complimentary wine\, beer\, and soft drinks. Alcoholic beverages will be available until dessert is served. \nMore Info:\n\nTo make a reservation\, please use the PayPal registration below. If the PayPal button has been removed to avoid overbooking or you wish to pay by phone\, please call us at 480-502-0177.\nCOST: $80 per person. Gratuity is not included in the class price.\n\nTips for our staff for this evening are not expected but are greatly appreciated. All gratuities are evenly distributed amongst our staff members.\nIf your party has six or more guests\, you can still reserve spots for any recreational class or event if you do not wish to do a private party. However\, we will charge your group an 18% service fee at the time of your reservation. With this in mind\, it is preferred that you register your entire guest count all at once.\n\n\nGourmet Cooking Classes are held on select Fridays\, 6:30 – 9:00pm. Attendees must be 21 years or older to consume any alcohol.\nWe have a 72-hour cancellation policy. This means that you have three days before the class starts to cancel or change your reservation.\n\n If you have to cancel within this time period\, you will not receive a credit to apply towards a different event. We do not issue monetary refunds.\n\n\nNo dietary restrictions or allergies will be accommodated for this class. If one or more items on tonight’s menu conflicts with your needs\, please reserve spots for an alternative Gourmet Cooking Class.\nClass size is limited to 20 people. Reservations are based on a ‘first come-first serve’ basis.\nClass starts at 6:30pm sharp. Please be here at least 10 minutes early wearing comfortable clothes and closed-toed shoes. If you have long hair\, be sure to tie it behind your head.\nStudents will receive a full copy of all recipes for use at home.\nVisit our website calendar to see our other classes and events that we have scheduled! Gourmet Classes are just one of the many hands-on cooking classes we offer in Scottsdale\, AZ!\nTake a look at our staff and instructors page to get an idea on who may be teaching this class.\nTo see how our prior Gourmet Classes looked like\, visit our Instagram page!
URL:https://www.ccacademy.edu/calendar/gourmet-class-tuscan-delights-02-27-26/
CATEGORIES:Gourmet Class
ATTACH;FMTTYPE=image/png:https://www.ccacademy.edu/wp-content/uploads/2026/01/Gourmet-Class-–-Tuscan-Delights-Featured-Image-1.png
END:VEVENT
END:VCALENDAR