BEGIN:VCALENDAR
VERSION:2.0
PRODID:-//Classic Cooking Academy - An Arizona Culinary School - ECPv6.15.20//NONSGML v1.0//EN
CALSCALE:GREGORIAN
METHOD:PUBLISH
X-ORIGINAL-URL:https://www.ccacademy.edu
X-WR-CALDESC:Events for Classic Cooking Academy - An Arizona Culinary School
REFRESH-INTERVAL;VALUE=DURATION:PT1H
X-Robots-Tag:noindex
X-PUBLISHED-TTL:PT1H
BEGIN:VTIMEZONE
TZID:UTC
BEGIN:STANDARD
TZOFFSETFROM:+0000
TZOFFSETTO:+0000
TZNAME:UTC
DTSTART:20250101T000000
END:STANDARD
END:VTIMEZONE
BEGIN:VEVENT
DTSTART;TZID=UTC:20260303T183000
DTEND;TZID=UTC:20260303T210000
DTSTAMP:20260425T163114
CREATED:20250914T230453Z
LAST-MODIFIED:20260307T202413Z
UID:30093-1772562600-1772571600@www.ccacademy.edu
SUMMARY:Asian Series – Week 1 (03/03/26)
DESCRIPTION:Week 1 – Vietnam: \n\nShrimp Summer Rolls with Noc Cham Dipping Sauce\nClassic Pho with Beef Meatballs\nGreen Papaya Salad\nGrilled Corn with Scallion Oil\nVietnamese Coffee Cream Puffs\n\nAsian Series – About:\nJoin us in this six-week program as we take a specific look at regional Asian cuisines that have become fancied by the entire world. Hosted by Chef Jeanette Ling\, the Asian Series will educate students on parochial Asian cultures\, their culinary staples\, and the context behind it all! This series is open to all skill-levels\, ideal for those who really gravitate towards the food of Japan\, China\, Vietnam and other neighboring states! \nEach week follows the same structure: students will listen to the chef instructor’s lecture over the weekly topics and regions before heading into the kitchen to make the respective dishes themselves. Once the food is prepared and plated\, everyone gets to enjoy a family-style meal of what they’ve just made with a complimentary glass of wine. \nAsian Series – Cost:\nThe Asian Series is $600.00 for all six weeks of classes. Students may not sign up for individual classes. No chef jacket fee is added for this program. \nMore Info:\n\nCertain weeks of the program may be pushed back for other events. Classic Cooking keeps all currently enrolled students updated with any schedule changes.\nWe also offer a variety of stand-alone recreational cooking classes that focus on various Asian cuisines as well. To see which Asian cooking classes are currently being offered\, visit our calendar.\n\nRegister:\nClick here to register using the PayPal button on the Asian Series webpage.
URL:https://www.ccacademy.edu/calendar/asian-series-week-1-03-03-26/
CATEGORIES:Asian Series
ATTACH;FMTTYPE=image/png:https://www.ccacademy.edu/wp-content/uploads/2025/01/6-Week-Asian-Series-Featured-Image.png
END:VEVENT
BEGIN:VEVENT
DTSTART;TZID=UTC:20260310T183000
DTEND;TZID=UTC:20260310T210000
DTSTAMP:20260425T163114
CREATED:20250914T230955Z
LAST-MODIFIED:20260204T170053Z
UID:30095-1773167400-1773176400@www.ccacademy.edu
SUMMARY:Asian Series – Week 2 (03/10/26)
DESCRIPTION:Week 2 – Korea:\n\nScallion Salad\nWilted Spinach and Sesame Salad\nShredded Daikon and Cucumber Salad\nStir Fry Glass Noodles\nBeef Bulgogi\nAsian Pear Galette with Cardamom Whipped Cream\n\nAsian Series – About:\nJoin us in this six-week program as we take a specific look at regional Asian cuisines that have become fancied by the entire world. Hosted by Chef Jeanette Ling\, the Asian Series will educate students on parochial Asian cultures\, their culinary staples\, and the context behind it all! This series is open to all skill-levels\, ideal for those who really gravitate towards the food of Japan\, China\, Vietnam and other neighboring states! \nEach week follows the same structure: students will listen to the chef instructor’s lecture over the weekly topics and regions before heading into the kitchen to make the respective dishes themselves. Once the food is prepared and plated\, everyone gets to enjoy a family-style meal of what they’ve just made with a complimentary glass of wine. \nAsian Series – Cost:\nThe Asian Series is $600.00 for all six weeks of classes. Students may not sign up for individual classes. No chef jacket fee is added for this program. \nMore Info:\n\nCertain weeks of the program may be pushed back for other events. Classic Cooking keeps all currently enrolled students updated with any schedule changes.\nWe also offer a variety of stand-alone recreational cooking classes that focus on various Asian cuisines as well. To see which Asian cooking classes are currently being offered\, visit our calendar.\n\nRegister:\nClick here to register using the PayPal button on the Around the World Series webpage.
URL:https://www.ccacademy.edu/calendar/asian-series-week-2-03-10-26/
CATEGORIES:Asian Series
ATTACH;FMTTYPE=image/png:https://www.ccacademy.edu/wp-content/uploads/2025/01/6-Week-Asian-Series-Featured-Image.png
END:VEVENT
BEGIN:VEVENT
DTSTART;TZID=UTC:20260317T183000
DTEND;TZID=UTC:20260317T210000
DTSTAMP:20260425T163114
CREATED:20250914T231549Z
LAST-MODIFIED:20260204T171607Z
UID:30097-1773772200-1773781200@www.ccacademy.edu
SUMMARY:Asian Series – Week 3 (03/17/26)
DESCRIPTION:Week 3 – Japan Part I:\n\nSashimi: Salmon\, Tuna\, Amberjack\nNigiri: Salmon Tuna\, Amberjack\, Unagi\nRolls: Maki/Uramaki: California Roll\, Salmon Roll\, Spicy Tuna Roll\nGunkan Maki: Spicy Tuna\n\nAsian Series – About:\nJoin us in this six-week program as we take a specific look at regional Asian cuisines that have become fancied by the entire world. Hosted by Chef Jeanette Ling\, the Asian Series will educate students on parochial Asian cultures\, their culinary staples\, and the context behind it all! This series is open to all skill-levels\, ideal for those who really gravitate towards the food of Japan\, China\, Vietnam and other neighboring states! \nEach week follows the same structure: students will listen to the chef instructor’s lecture over the weekly topics and regions before heading into the kitchen to make the respective dishes themselves. Once the food is prepared and plated\, everyone gets to enjoy a family-style meal of what they’ve just made with a complimentary glass of wine. \nAsian Series – Cost:\nThe Asian Series is $600.00 for all six weeks of classes. Students may not sign up for individual classes. No chef jacket fee is added for this program. \nMore Info:\n\nCertain weeks of the program may be pushed back for other events. Classic Cooking keeps all currently enrolled students updated with any schedule changes.\nWe also offer a variety of stand-alone recreational cooking classes that focus on various Asian cuisines as well. To see which Asian cooking classes are currently being offered\, visit our calendar.\n\nRegister:\nClick here to register using the PayPal button on the Asian Series webpage.
URL:https://www.ccacademy.edu/calendar/asian-series-week-3-03-17-26/
CATEGORIES:Asian Series
ATTACH;FMTTYPE=image/png:https://www.ccacademy.edu/wp-content/uploads/2025/01/6-Week-Asian-Series-Featured-Image.png
END:VEVENT
BEGIN:VEVENT
DTSTART;TZID=UTC:20260324T183000
DTEND;TZID=UTC:20260324T210000
DTSTAMP:20260425T163114
CREATED:20250914T232010Z
LAST-MODIFIED:20260204T172842Z
UID:30099-1774377000-1774386000@www.ccacademy.edu
SUMMARY:Asian Series – Week 4 (03/24/26)
DESCRIPTION:Week 4 – Japan Part II:\n\nClassic Miso Soup\nJapanese House Salad\nChicken Gyoza with Dipping Sauce\nJapanese Curry with Sticky Rice and Breaded Pork Tonkatsu\nGreen Tea Matcha Crème Brûlée\n\nAsian Series – About:\nJoin us in this six-week program as we take a specific look at regional Asian cuisines that have become fancied by the entire world. Hosted by Chef Jeanette Ling\, the Asian Series will educate students on parochial Asian cultures\, their culinary staples\, and the context behind it all! This series is open to all skill-levels\, ideal for those who really gravitate towards the food of Japan\, China\, Vietnam and other neighboring states! \nEach week follows the same structure: students will listen to the chef instructor’s lecture over the weekly topics and regions before heading into the kitchen to make the respective dishes themselves. Once the food is prepared and plated\, everyone gets to enjoy a family-style meal of what they’ve just made with a complimentary glass of wine. \nAsian Series – Cost:\nThe Asian Series is $600.00 for all six weeks of classes. Students may not sign up for individual classes. No chef jacket fee is added for this program. \nMore Info:\n\nCertain weeks of the program may be pushed back for other events. Classic Cooking keeps all currently enrolled students updated with any schedule changes.\nWe also offer a variety of stand-alone recreational cooking classes that focus on various Asian cuisines as well. To see which Asian cooking classes are currently being offered\, visit our calendar.\n\nRegister:\nClick here to register using the PayPal button on the Asian Series webpage.
URL:https://www.ccacademy.edu/calendar/asian-series-week-4-03-24-26/
CATEGORIES:Asian Series
ATTACH;FMTTYPE=image/png:https://www.ccacademy.edu/wp-content/uploads/2025/01/6-Week-Asian-Series-Featured-Image.png
END:VEVENT
BEGIN:VEVENT
DTSTART;TZID=UTC:20260331T183000
DTEND;TZID=UTC:20260331T210000
DTSTAMP:20260425T163114
CREATED:20250914T235705Z
LAST-MODIFIED:20260204T173126Z
UID:30101-1774981800-1774990800@www.ccacademy.edu
SUMMARY:Asian Series – Week 5 (03/31/26)
DESCRIPTION:Week 5 – China:\n\nShredded Pork Bao Buns\nKung Pao Chicken\nStir-Fried Bok Choy\nDan Dan Noodles\nChinese Almond Cookies\n\nAsian Series – About:\nJoin us in this six-week program as we take a specific look at regional Asian cuisines that have become fancied by the entire world. Hosted by Chef Jeanette Ling\, the Asian Series will educate students on parochial Asian cultures\, their culinary staples\, and the context behind it all! This series is open to all skill-levels\, ideal for those who really gravitate towards the food of Japan\, China\, Vietnam and other neighboring states! \nEach week follows the same structure: students will listen to the chef instructor’s lecture over the weekly topics and regions before heading into the kitchen to make the respective dishes themselves. Once the food is prepared and plated\, everyone gets to enjoy a family-style meal of what they’ve just made with a complimentary glass of wine. \nAsian Series – Cost:\nThe Asian Series is $600.00 for all six weeks of classes. Students may not sign up for individual classes. No chef jacket fee is added for this program. \nMore Info:\n\nCertain weeks of the program may be pushed back for other events. Classic Cooking keeps all currently enrolled students updated with any schedule changes.\nWe also offer a variety of stand-alone recreational cooking classes that focus on various Asian cuisines as well. To see which Asian cooking classes are currently being offered\, visit our calendar.\n\nRegister:\nClick here to register using the PayPal button on the Around the World Series webpage.
URL:https://www.ccacademy.edu/calendar/asian-series-week-5-03-31-26/
CATEGORIES:Asian Series
ATTACH;FMTTYPE=image/png:https://www.ccacademy.edu/wp-content/uploads/2025/01/6-Week-Asian-Series-Featured-Image.png
END:VEVENT
END:VCALENDAR