BEGIN:VCALENDAR
VERSION:2.0
PRODID:-//Classic Cooking Academy - An Arizona Culinary School - ECPv6.15.20//NONSGML v1.0//EN
CALSCALE:GREGORIAN
METHOD:PUBLISH
X-WR-CALNAME:Classic Cooking Academy - An Arizona Culinary School
X-ORIGINAL-URL:https://www.ccacademy.edu
X-WR-CALDESC:Events for Classic Cooking Academy - An Arizona Culinary School
REFRESH-INTERVAL;VALUE=DURATION:PT1H
X-Robots-Tag:noindex
X-PUBLISHED-TTL:PT1H
BEGIN:VTIMEZONE
TZID:UTC
BEGIN:STANDARD
TZOFFSETFROM:+0000
TZOFFSETTO:+0000
TZNAME:UTC
DTSTART:20250101T000000
END:STANDARD
END:VTIMEZONE
BEGIN:VEVENT
DTSTART;TZID=UTC:20260423T103000
DTEND;TZID=UTC:20260423T123000
DTSTAMP:20260423T201750
CREATED:20260416T171726Z
LAST-MODIFIED:20260416T173155Z
UID:32315-1776940200-1776947400@www.ccacademy.edu
SUMMARY:Cooking for Homeschoolers – Week 1 (04/23/26)
DESCRIPTION:Menu – Weekend BBQ:\n\nBarbecued Chicken\nClassic Cole Slaw\nMini Cinnamon Roll Cookies\n\nAbout:\nJoin our 4-Week Cooking for Homeschoolers Series and whip up a delicious lunch! Each week\, a different menu will be prepared by students before they all sit down together to enjoy the meal. This is a great way for students to learn basic and advanced cooking techniques and develop a higher level of skill. Available to ages 8-17. \nMore Info:\n\nCOST: $280 for 4-week session. Individual class registration is prohibited.\nTo register\, use the PayPal button below. If the PayPal button has been removed or if you wish to pay via a different method\, please call or email us.\n\nWe also accept ESA payments through ClassWallet. If you need assistance with that\, please contact our staff.\n\n\nClass is limited to 16 students. Reservations are based on First Come-First Serve basis. Call (480)-502-0177 or email info@ccacademy.edu to register.  Cancellation must be made 72 hours in advance of course time for fee refund.\nAfter School Cooking Classes are held on Thursdays\, 10:30am – 12:30 pm.\nMenus vary each class. Students will prepare the meal and sit down and eat together. A copy of the recipes will be available to take home.\nA MEDICAL AUTHORIZATION FORM must be on file for your child to attend.\n\nIt is very important that we receive at least 72 hours advance notice of ANY food allergies or dietary restrictions. Please let us know at least 72 hours in advance; otherwise modifications will not be made.\n\n\nStudents MUST wear close-toed shoes and tie back long hair as per Arizona health code.\nAfter School Classes are DROP OFF ONLY. Sorry\, no parents allowed!\nPLEASE DROP OFF AND PICK UP IN A TIMELY MANNER.\n\nA late fee will be assessed for each 15 minutes of tardiness.\n\n\nVisit our website calendar to view the dates and menus of our other Cooking for Homeschoolers classes.\nVisit our Instagram page to see how prior Homeschoolers cooking classes looked like.\n\nREGISTER HERE:\n\n \n\n\n\n\nNumber of Students\n\n\n1 Student $280.00 USD2 Students $560.00 USD3 Students $840.00 USD4 Students $1\,120.00 USD\n\n\n\nName(s) of Student(s)\n\n\n\n\n\n\nAllergies/Dietary Restrictions?
URL:https://www.ccacademy.edu/calendar/cooking-for-homeschoolers-week-1-04-23-26/
CATEGORIES:Teens Class/Camp
ATTACH;FMTTYPE=image/png:https://www.ccacademy.edu/wp-content/uploads/2024/07/4-Week-Cooking-for-Homeschoolers-Series.png
END:VEVENT
BEGIN:VEVENT
DTSTART;TZID=UTC:20260423T183000
DTEND;TZID=UTC:20260423T210000
DTSTAMP:20260423T201750
CREATED:20260202T202039Z
LAST-MODIFIED:20260202T202137Z
UID:31478-1776969000-1776978000@www.ccacademy.edu
SUMMARY:Practical Series – Week 4 (04/23/26)
DESCRIPTION:Practical Series – Topic:\n\nSoups\n\nChowder\nMinestrone\nFrench Onion Soup\n\n\n\nAbout:\nThe Practical Series is Classic Cooking Academy’s flagship program. Spanning 24 weeks\, this series will educate you around the logistics of the kitchen one step at a time. In each class\, students will first learn their weekly topic(s) from the chef’s lecture before heading into the kitchen to cook dishes on what they’ve just learned. By the end of the course\, students will have a full understanding of nearly every facet of cooking. Don’t be hesitant if you think you’re not up to the task – this class is open for any and all skill levels. \nCosts:\nLump Sum Cost of Practical Series – $2\,500.00. \nPayment Plan of Practical Series – Deposit of $550.00 and then six payments of $325.00 on the first class of each month. \nChef Jacket Fee – $45 (automatically allocated into the deposit).  \n*NOTE*: If you already have a Classic Cooking chef jacket from a prior program and still wish to attend the Practical Series\, please call our staff to register. \nRegister:\nClick here to register on the main Practical Series webpage. \nMore Info:\n\nStudents will be learning techniques of cooking rather than looking at recipes.\n\nAs a result\, bring your own notes and a writing utensil.\n\n\nClass starts at 6:30pm (Thursday Evening sessions) or 1:00pm (Friday Afternoon sessions) sharp. Please be here at least 5 minutes early wearing your chef jacket.\n\nIf you know you will be late or absent entirely for this class\, please notify us beforehand. Our phone number is 480-502-0177 and our email is info@ccacademy.edu.\n\n\nIf you need to make up this class from a previous session\, please notify us beforehand. Our phone number is 480-502-0177 and our email is info@ccacademy.edu.\nTo view the overall curriculum of the this program\, click here.\nTo see how prior sessions looked like\, click here to visit our Instagram page!
URL:https://www.ccacademy.edu/calendar/practical-series-week-4-04-23-26/
CATEGORIES:Practical Series
ATTACH;FMTTYPE=image/jpeg:https://www.ccacademy.edu/wp-content/uploads/2022/01/minestrone-soup-4.jpeg
END:VEVENT
BEGIN:VEVENT
DTSTART;TZID=UTC:20260423T183000
DTEND;TZID=UTC:20260423T210000
DTSTAMP:20260423T201750
CREATED:20260314T184642Z
LAST-MODIFIED:20260420T212433Z
UID:31934-1776969000-1776978000@www.ccacademy.edu
SUMMARY:Pizza-Making Class (04/23/26)
DESCRIPTION:Pizza-Making Class – Menu: \n\nCaesar Salad\nHandmade Pizza with Custom Toppings\nClassic Biscotti with Affogato\n\nAbout:\nDough it yourself. In this class\, you’ll learn from the pros how to make the best home-baked pizza. No fancy ovens required! Once demos are over\, the chef takes in students to roll\, top\, and cook their own dough while others enjoy their salad as they wait for their turn. Once everyone has their own pie baked and ready to be eaten\, our staff then serves dessert.  \nChildren and teens are welcome to attend (with a parental guardian as we do serve complimentary wine and beer)! \nMore Info:\n\nCOST: $80 PER PERSON. Gratuity is not included in the class price.\n\nTips for our staff for this evening are not expected but are greatly appreciated. All gratuities are evenly distributed amongst our staff members.\nIf your party has six or more guests\, you can still reserve spots for any recreational class or event if you do not wish to do a private party. However\, we will charge your group an 18% service fee at the time of your reservation. With this in mind\, it is preferred that you register your entire guest count all at once.\n\n\nTo make a reservation\, please use the PayPal registration below. If the PayPal button has been removed to avoid overbooking or you wish to pay by phone\, please call us at 480-502-0177.\nPizza-Making Classes are typically held on select Thursdays\, 6:30 – 9:00pm but may be hosted on other weekdays. Attendees must be 21 years or older to consume any alcohol.\nWe have a 72-hour cancellation policy. This means that you have three days before the class starts to cancel or change your reservation.\n\nIf you have to cancel within this time period\, you will receive credit at Classic Cooking Academy.\n\n\nNo dietary restrictions or allergies will be accommodated for this class. If one or more items on tonight’s menu conflicts with your needs\, please reserve spots for an alternative Cooking Class.\nClass size is limited to 20 people. Reservations are based on a ‘first come-first serve’ basis.\nClass starts at 6:30pm sharp. Please be here at least 10 minutes early wearing comfortable clothes and closed-toed shoes. If you have long hair\, be sure to tie it behind your head.\nStudents will receive a full copy of all recipes for use at home.\nView our website calendar to view all of our other hands-on cooking classes and events! We tend to host our Pizza Classes at least once a month. \n\nIf you ever want to schedule your own Private Pizza Party\, consider scheduling a Private Cooking Party with us!\n\n\nTake a look at our staff and instructors page to get an idea on who may be teaching this class.\nTo see how our prior Pizza-Making Classes looked like\, visit our Instagram page!\n\nREGISTER HERE:\n\n \n\n\n\n\nNumber of People\n\n\n1 Person $80.00 USD2 People $160.00 USD3 People $240.00 USD4 People $320.00 USD5 People $400.00 USD6 People $480.00 USD\n\n\n\nName\n\n\n\n\n\n\nPhone Number
URL:https://www.ccacademy.edu/calendar/pizza-making-class-04-23-26/
CATEGORIES:Pizza Class
ATTACH;FMTTYPE=image/png:https://www.ccacademy.edu/wp-content/uploads/2024/10/Pizza-Making-Class-Featured-Image.png
END:VEVENT
END:VCALENDAR