BEGIN:VCALENDAR
VERSION:2.0
PRODID:-//Classic Cooking Academy - An Arizona Culinary School - ECPv6.15.20//NONSGML v1.0//EN
CALSCALE:GREGORIAN
METHOD:PUBLISH
X-WR-CALNAME:Classic Cooking Academy - An Arizona Culinary School
X-ORIGINAL-URL:https://www.ccacademy.edu
X-WR-CALDESC:Events for Classic Cooking Academy - An Arizona Culinary School
REFRESH-INTERVAL;VALUE=DURATION:PT1H
X-Robots-Tag:noindex
X-PUBLISHED-TTL:PT1H
BEGIN:VTIMEZONE
TZID:UTC
BEGIN:STANDARD
TZOFFSETFROM:+0000
TZOFFSETTO:+0000
TZNAME:UTC
DTSTART:20250101T000000
END:STANDARD
END:VTIMEZONE
BEGIN:VEVENT
DTSTART;TZID=UTC:20260329T160000
DTEND;TZID=UTC:20260329T183000
DTSTAMP:20260426T014455
CREATED:20250916T032247Z
LAST-MODIFIED:20260120T220706Z
UID:30202-1774800000-1774809000@www.ccacademy.edu
SUMMARY:Handmade Dumplings Class (03/29/26)
DESCRIPTION:Handmade Dumplings Class – Menu:\n\nSiu Mai (Pork and Shiitake Mushroom Dumplings)\nSzechuan-Style Shrimp Wontons in Chili Oil Sauce \nGyoza (Japanese Potstickers with Pork and Napa Cabbage)\nVarious Dipping Sauces\n\nAbout:\n\n\n\n\n\n\n\n\n\n\nCome for the dim sum! Join us for a fun and interactive Handmade Dumplings Class\, where you’ll learn the art of crafting perfect dumplings from scratch! In this hands-on cooking class\, you’ll be guided step-by-step by Chef Jeannette Ling\, mastering everything from preparing delicious fillings and folding big batches of Asian delights. Whether you’re a complete beginner or a seasoned home cook\, you’ll gain new skills and confidence as you create your own batch of dumplings to enjoy. Bring your friends\, roll up your sleeves\, and get ready for a flavorful experience filled with laughter\, learning\, and of course\, delicious food! \n\n\n\n\n\n\n\n\n\n\nBring containers if you want to take home your food! \nMore Info:\n\nTo make a reservation\, please use the PayPal button below. If the button has been removed or you wish to pay via another method\, call 480-502-0177.\nCOST: $85 PER PERSON.  Gratuity is not included in the class price.\n\nTips for our staff for this evening are not expected but are greatly appreciated. All gratuities are evenly distributed amongst our staff members.\nIf your party has six or more guests\, you can still reserve spots for any recreational class or event if you do not wish to do a private party. However\, we will charge your group an 18% service fee at the time of your reservation. With this in mind\, it is preferred that you register your entire guest count all at once.\n\n\nWe have a 72-hour cancellation policy. This means that you have three days before the class starts to cancel or change your reservation.\n\n If you have to cancel within this time period\, you will not receive a credit to apply towards a different event. We do not issue monetary refunds.\n\n\nNo dietary restrictions or allergies will be accommodated for this class. If one or more items on today’s menu conflicts with your needs\, please reserve spots for an alternative class.\nClass size is limited to 16 people. Reservations are based on a ‘first come-first serve’ basis.\nClass starts at 4:00pm sharp. Please be here at least 10 minutes early wearing comfortable clothes and closed-toed shoes. If you have long hair\, be sure to tie it behind your head.\nStudents will receive a full copy of all recipes for use at home.\nView our website calendar to explore all of our upcoming classes and events! Beyond our Dumplings Classes\, we offer a variety of Asian cooking classes and filled dough classes.\n\nIf you would like to use the dumplings menu for a Private Cooking Party\, contact our staff and we’ll work something out!\n\n\nTake a look at our staff and instructors page to get an idea on who may be teaching this class.\nTo view some dishes from our prior classes and events\, visit our Instagram page!\n\n\nREGISTER HERE:\n\n\n \n\n\n\n\nNumber of People\n\n\n1 Person $85.00 USD2 People $170.00 USD3 People $255.00 USD4 People $340.00 USD5 People $425.00 USD6 People $510.00 USD\n\n\n\nName\n\n\n\n\n\n\nPhone Number
URL:https://www.ccacademy.edu/calendar/handmade-dumplings-class-03-29-26/
CATEGORIES:Specialty Class
ATTACH;FMTTYPE=image/png:https://www.ccacademy.edu/wp-content/uploads/2025/09/Handmade-Dumplings-Class-Featured-Image-NEWEST.png
END:VEVENT
BEGIN:VEVENT
DTSTART;TZID=UTC:20260329T183000
DTEND;TZID=UTC:20260329T210000
DTSTAMP:20260426T014455
CREATED:20260226T203744Z
LAST-MODIFIED:20260226T203806Z
UID:31814-1774809000-1774818000@www.ccacademy.edu
SUMMARY:Private Event (03/29/26)
DESCRIPTION:Space reserved for an outside group to host a private cooking class event on March 29th\, 2026 at Classic Cooking.
URL:https://www.ccacademy.edu/calendar/private-event-03-29-26/
CATEGORIES:Private Event
END:VEVENT
END:VCALENDAR