BEGIN:VCALENDAR
VERSION:2.0
PRODID:-//Classic Cooking Academy - An Arizona Culinary School - ECPv6.15.20//NONSGML v1.0//EN
CALSCALE:GREGORIAN
METHOD:PUBLISH
X-WR-CALNAME:Classic Cooking Academy - An Arizona Culinary School
X-ORIGINAL-URL:https://www.ccacademy.edu
X-WR-CALDESC:Events for Classic Cooking Academy - An Arizona Culinary School
REFRESH-INTERVAL;VALUE=DURATION:PT1H
X-Robots-Tag:noindex
X-PUBLISHED-TTL:PT1H
BEGIN:VTIMEZONE
TZID:UTC
BEGIN:STANDARD
TZOFFSETFROM:+0000
TZOFFSETTO:+0000
TZNAME:UTC
DTSTART:20250101T000000
END:STANDARD
END:VTIMEZONE
BEGIN:VEVENT
DTSTART;TZID=UTC:20260316T100000
DTEND;TZID=UTC:20260319T120000
DTSTAMP:20260426T031330
CREATED:20260109T162523Z
LAST-MODIFIED:20260109T163727Z
UID:31133-1773655200-1773921600@www.ccacademy.edu
SUMMARY:2026 Kids Spring Break Camp
DESCRIPTION:About:\nSpring Break is here! Classic Cooking will host a fun four-day cooking camp\, where students will learn essential cooking techniques and work alongside their peers to gain and develop new culinary skills. Held every day from 10:00am to 12:00pm\, students will build on skills throughout the week\, and the daily changing menus will offer a wide variety of seasonal delights. Once they finish up each dish\, students will sit in the dining room and enjoy their works! \nOpen to ages 7 to 11! \nDaily Menus:\n\n\nMonday – Continental Cuisine: \n\n\nTurkey Meatloaf Muffins\nMashed Potatoes\nRoasted Cauliflower with Mornay Sauce\nBaked Apples with Streusel and Vanilla Ice Cream\n\nTuesday – Caribbean Flair: \n\nChorizo Breakfast Burritos\nElote Dip with Baked Tortilla Chips\nChocolate Crinkle Cookies\n\nWednesday – European Influence: \n\nGerman Bratwurst with Honey Mustard\nGerman Potato Salad\nBrownie with Dark Cherry Compote\n\nThursday – Pizza Party: \n\nHandmade Pizza with Custom Toppings\nCaesar Salad\nLemon Ricotta Cookies with Lemon Glaze\n\n\n\n\nMore Info:\n\nCOST: The cost for the 4-day Spring Break Cooking Camp is $280 per student\, and includes all ingredients and supplies\, along with beverages.\nAges 7-11 are welcome to register for this cooking camp. Classes are held Monday\, Tuesday\, Wednesday\, and Thursday\, and run from 10:00am – 12:00pm.\nStudents will prepare and enjoy a complete meal each day of camp\, and will receive daily recipes for future use.\n72 hour notice of cancellation must be given for fee refund.\nA MEDICAL AUTHORIZATION FORM must be filled out for your child to attend.\nIf your child has any food allergies or dietary restrictions\, we need to be notified at least 72 hours in advance in order to accommodate.\n\nStudents MUST wear close-toed shoes and tie back long hair as per Arizona health code.\n\nSpring Break Cooking Camp is DROP OFF ONLY.  Sorry\, no parents allowed!!\nA late fee will be assessed for each 15 minutes of tardiness.\n\nREGISTER HERE:\n\n \n\n\n\n\nNumber of Students\n\n\n1 Student $280.00 USD2 Students $560.00 USD3 Students $840.00 USD4 Students $1\,120.00 USD5 Students $1\,400.00 USD6 Students $1\,680.00 USD\n\n\n\nName(s) of Student(s)\n\n\n\n\n\n\nAllergies/Dietary Restrictions?
URL:https://www.ccacademy.edu/calendar/2026-kids-spring-break-camp/
CATEGORIES:Kids Class/Camp
ATTACH;FMTTYPE=image/png:https://www.ccacademy.edu/wp-content/uploads/2022/11/Constant-Contact-Header-Images-27.png
END:VEVENT
BEGIN:VEVENT
DTSTART;TZID=UTC:20260316T140000
DTEND;TZID=UTC:20260319T160000
DTSTAMP:20260426T031330
CREATED:20260109T162917Z
LAST-MODIFIED:20260109T163723Z
UID:31138-1773669600-1773936000@www.ccacademy.edu
SUMMARY:2026 Teens Spring Break Camp
DESCRIPTION:About:\nSpring Break is here! Classic Cooking will host a fun four-day cooking camp\, where students will learn essential cooking techniques and work alongside their peers to gain and develop new culinary skills. Held every day from 2:00pm to 4:00pm\, students will build on skills throughout the week\, and the daily changing menus will offer a wide variety of seasonal delights. Once they finish up each dish\, students will sit in the dining room and enjoy their works! \nOpen to ages 12-17! \nDaily Menus:\n\n\n\n\n\n\nMonday – Continental Cuisine: \n\n\nTurkey Meatloaf Muffins\nMashed Potatoes\nRoasted Cauliflower with Mornay Sauce\nBaked Apples with Streusel and Vanilla Ice Cream\n\nTuesday – Caribbean Flair: \n\nChorizo Breakfast Burritos\nElote Dip with Baked Tortilla Chips\nChocolate Crinkle Cookies\n\nWednesday – European Influence: \n\nGerman Bratwurst with Honey Mustard\nGerman Potato Salad\nBrownie with Dark Cherry Compote\n\nThursday – Pizza Party: \n\nHandmade Pizza with Custom Toppings\nCaesar Salad\nLemon Ricotta Cookies with Lemon Glaze\n\n\n\n\n\n\n\nMore Info:\n\n\nCOST: The cost for the 4-day Spring Break Cooking Camp is $280 per student\, and includes all ingredients and supplies\, along with beverages.\nAges 12-17 are welcome to register for this cooking camp. Classes are held Monday\, Tuesday\, Wednesday\, and Thursday\, and run from 2:00pm – 4:00pm.\nStudents will prepare and enjoy a complete meal each day of camp\, and will receive daily recipes for future use.\n72 hour notice of cancellation must be given for fee refund.\nA MEDICAL AUTHORIZATION FORM must be filled out for your child to attend.\nIf your child has any food allergies or dietary restrictions\, we need to be notified at least 72 hours in advance in order to accommodate.\n\nStudents MUST wear close-toed shoes and tie back long hair as per Arizona health code.\n\nSpring Break Cooking Camp is DROP OFF ONLY.  Sorry\, no parents allowed!!\nA late fee will be assessed for each 15 minutes of tardiness.\n\nREGISTER HERE:\n\n \n\n\n\n\nNumber of Students\n\n\n1 Student $280.00 USD2 Students $560.00 USD3 Students $840.00 USD4 Students $1\,120.00 USD5 Students $1\,400.00 USD6 Students $1\,680.00 USD\n\n\n\nName(s) of Student(s)\n\n\n\n\n\n\nAllergies/Dietary Restrictions?
URL:https://www.ccacademy.edu/calendar/2026-teens-spring-break-camp/
CATEGORIES:Teens Class/Camp
ATTACH;FMTTYPE=image/png:https://www.ccacademy.edu/wp-content/uploads/2022/11/Constant-Contact-Header-Images-28.png
END:VEVENT
BEGIN:VEVENT
DTSTART;TZID=UTC:20260318T183000
DTEND;TZID=UTC:20260318T210000
DTSTAMP:20260426T031330
CREATED:20251021T000222Z
LAST-MODIFIED:20251023T174453Z
UID:30537-1773858600-1773867600@www.ccacademy.edu
SUMMARY:Pastry Series – Week 9 (03/18/26)
DESCRIPTION:Pastry Series Weekly Topic – Large Cakes\n\n\n\nQueen of Sheba\nMarjolaine\n\n\n\nAbout:\nConsider yourself a chef with a sweet tooth? Put your skills to the test in our 12-week Pastry Series! With topics covering cakes\, pies\, tarts\, breads\, creams\, chocolates\, and so much more\, this class is as tantalizing as it is appetizing. Hosted by Chef Susan Kolman\, you will get a professional look inside the pastry world. \nCosts:\nLump Sum Cost of Pastry Series – $1\,250.00 \nPayment Plan of Pastry Series – Deposit of $275.00 and then three payments of $325.00 on the first class of each month. \n**NOTE**: In the event of cancellation\, please refer to our Enrollment Agreement for a complete breakdown of our cancellation policy. We do not issue refunds for the $50 enrollment fee or the $45 Chef Jacket. \nRegister:\nVisit our Pastry Series page here for more info on how to register. \nMore Info:\n\nThis class is part of a 12 week series\, and classes cannot be registered for individually. No vouchers accepted for registration.\nStudents will be learning both techniques of cooking and the specificities of adhering to pastry recipes. As a result\, bring your own notes and a writing utensil. We will provide cooking equipment and recipes for all respective dishes.\nClass starts at 6:30pm sharp. Please be here at least 10 minutes early wearing your chef jacket.\n\nIf you know you will be late or absent entirely for this class\, please notify us beforehand. If you need to make up this class from a previous Pastry Series session\, please notify us beforehand.  Our phone number is 480-502-0177 and our email is info@ccacademy.edu. If you miss one or multiple Pastry Series classes\, you can make them up in either a concurrent Pastry Series session or a future Pastry Series session.\n\n\nTo view the overall curriculum of the this program\, click here.
URL:https://www.ccacademy.edu/calendar/pastry-series-week-9-03-18-26/
CATEGORIES:Pastry Series
ATTACH;FMTTYPE=image/jpeg:https://www.ccacademy.edu/wp-content/uploads/2018/07/Week-9-Marjolaine-Cake.jpg
END:VEVENT
END:VCALENDAR