BEGIN:VCALENDAR
VERSION:2.0
PRODID:-//Classic Cooking Academy - An Arizona Culinary School - ECPv6.15.20//NONSGML v1.0//EN
CALSCALE:GREGORIAN
METHOD:PUBLISH
X-WR-CALNAME:Classic Cooking Academy - An Arizona Culinary School
X-ORIGINAL-URL:https://www.ccacademy.edu
X-WR-CALDESC:Events for Classic Cooking Academy - An Arizona Culinary School
REFRESH-INTERVAL;VALUE=DURATION:PT1H
X-Robots-Tag:noindex
X-PUBLISHED-TTL:PT1H
BEGIN:VTIMEZONE
TZID:UTC
BEGIN:STANDARD
TZOFFSETFROM:+0000
TZOFFSETTO:+0000
TZNAME:UTC
DTSTART:20250101T000000
END:STANDARD
END:VTIMEZONE
BEGIN:VEVENT
DTSTART;TZID=UTC:20260315T110000
DTEND;TZID=UTC:20260315T133000
DTSTAMP:20260426T031350
CREATED:20260113T233935Z
LAST-MODIFIED:20260313T193836Z
UID:31288-1773572400-1773581400@www.ccacademy.edu
SUMMARY:Hands-On Brunch – Hearty Pancake Party (CANCELLED)
DESCRIPTION:THIS CLASS HAS BEEN CANCELLED DUE TO A SCHEDULING CONFLICT.\nWE WILL REACH OUT TO PRIOR REGISTRANTS SHORTLY.\nHands-On Brunch Menu – Hearty Pancake Party:\n\nButtermilk Chocolate Chip Pancakes with Warm Maple Syrup\nFresh Fruit and Melon Salad with Mint and Honey\nHomemade Pork Breakfast Sausage\nBaked Country Egg Casserole\nMorning Glory Muffins\n\nAbout:\nTurn your brunch plans into an interactive experience. Join us for a fun\, Hands-On Brunch Class where cooking and connection come together. Guests will arrive to an introduction of the brunch menu and a walkthrough of the dishes they’ll be preparing. Then it’s time to roll up your sleeves and head into the kitchen\, working alongside others to bring each recipe to life. Once the cooking is complete\, everyone sits down to enjoy a relaxed buffet-style brunch featuring the delicious dishes they’ve just made—an engaging and appetizing experience that’s equal parts learning and indulgence. \nComplimentary coffee and mimosas will be served! \nMore Info:\n\nCOST: $80 PER PERSON.  Gratuity is not included in the class price.\n\nTips for our staff for this evening are not expected but are greatly appreciated. All gratuities are evenly distributed amongst our staff members.\nIf your party has six or more guests\, you can still reserve spots for any recreational class or event if you do not wish to do a private party. However\, we will charge your group a 20% service fee at the time of your reservation. With this in mind\, it is preferred that you register your entire guest count all at once.\n\n\nTo make a reservation\, please use the PayPal button below. If the PayPal button has been removed or you wish to pay another method\, call 480-502-0177 or email info@ccacademy.edu.\nBrunches are held on select Saturdays and Sundays\, 11am – 1:30pm. Attendees must be 21 years or older to consume any alcohol.\nWe have a 72-hour cancellation policy. This means that you have three days before the class starts to cancel or change your reservation.\n\n If you have to cancel within this time period\, you will not receive a credit to apply towards a different event. We do not issue monetary refunds.\n\n\nNo dietary restrictions or allergies will be accommodated for this class. If one or more items on today’s menu conflicts with your needs\, please reserve spots for an alternative Brunch Class or opt to schedule a Private Party with us.\nClass size is limited to 20 people. Reservations are based on a ‘first come-first serve’ basis.\nClass starts at 11am sharp. Please be here at least 10 minutes early wearing comfortable clothes and closed-toed shoes. If you have long hair\, be sure to tie it behind your head.\nStudents will receive a full copy of all recipes for use at home.\nView our website calendar to see all of our other scheduled classes and events! Aside from Weekend Brunches\, we host a variety of hands-on cooking classes.\n\nIf you would like to use a certain Weekend Brunch menu for a Private Cooking Party or a Reception\, reach out to us and we’ll make an accommodation!\n\n\nTake a look at our staff and instructors page to get an idea on who may be teaching this class.\nTo view some dishes from our prior classes and events\, visit our Instagram page!
URL:https://www.ccacademy.edu/calendar/hands-on-brunch-hearty-pancake-party-03-15-26/
CATEGORIES:Brunch
ATTACH;FMTTYPE=image/png:https://www.ccacademy.edu/wp-content/uploads/2026/01/Hands-On-Brunch-Hearty-Pancake-Party-Featured-Image-3.png
END:VEVENT
BEGIN:VEVENT
DTSTART;TZID=UTC:20260315T160000
DTEND;TZID=UTC:20260315T183000
DTSTAMP:20260426T031350
CREATED:20250916T031714Z
LAST-MODIFIED:20250916T032034Z
UID:30199-1773590400-1773599400@www.ccacademy.edu
SUMMARY:Handmade Pasta Class (03/15/26)
DESCRIPTION:Handmade Pasta Class – Menu:\n\nFilled Pastas (pick one):\n\nRavioli\nAgnolotti\n\n\nCut Pastas (pick one):\n\nFettuccine\nCapellini\n\n\nFilling:\n\nMushroom with Garlic Herb Parmesan\n\n\nSauces:\n\nAlfredo Cream Sauce (Fettuccine)\nBrown Butter Sauce with Sage (Ravioli\, Agnolotti)\nPasta Fresca (Capellini)\n\n\n\nAbout:\nLearn how to make homemade pasta from scratch with simple ingredients that you probably already have at home. Teams will pick one filled pasta and one cut pasta to make. Our chef instructor will demo fresh pasta from scratch\, showcasing the different pasta types with different fillings and sauces. At the end of the class\, enjoy your freshly made Italian creations!\nBring containers if you want to take home your food!\nMore Info:\n\nTo make a reservation\, please use the PayPal button below. If the button has been removed or you wish to pay via another method\, call 480-502-0177.\nCOST: $80 PER PERSON.  Gratuity is not included in the class price.\n\nTips for our staff for this evening are not expected but are greatly appreciated. All gratuities are evenly distributed amongst our staff members.\nIf your party has six or more guests\, you can still reserve spots for any recreational class or event if you do not wish to do a private party. However\, we will charge your group an 18% service fee at the time of your reservation. With this in mind\, it is preferred that you register your entire guest count all at once.\n\n\nWe have a 72-hour cancellation policy. This means that you have three days before the class starts to cancel or change your reservation.\n\n If you have to cancel within this time period\, you will not receive a credit to apply towards a different event. We do not issue monetary refunds.\n\n\nNo dietary restrictions or allergies will be accommodated for this class. If one or more items on today’s menu conflicts with your needs\, please reserve spots for an alternative class.\nClass size is limited to 20 people. Reservations are based on a ‘first come-first serve’ basis.\nClass starts at 4:00pm sharp. Please be here at least 10 minutes early wearing comfortable clothes and closed-toed shoes. If you have long hair\, be sure to tie it behind your head.\nStudents will receive a full copy of all recipes for use at home.\nView our website calendar to see all of our other scheduled classes and events. We offer a variety of other hands-on cooking classes featuring doughs from scratch!\n\nIf you would like to do a Handmade Pasta Class as a Private Cooking Party\, contact our staff and we’ll work something out!\n\n\nTake a look at our staff and instructors page to get an idea on who may be teaching this class.\nTo view some dishes from our prior classes and events\, visit our Instagram page!\n\nREGISTER HERE:\n\n \n\n\n\n\nNumber of People\n\n\n1 Person $80.00 USD2 People $160.00 USD3 People $240.00 USD4 People $320.00 USD5 People $400.00 USD6 People $480.00 USD\n\n\n\nName\n\n\n\n\n\n\nPhone Number
URL:https://www.ccacademy.edu/calendar/handmade-pasta-class-03-15-26/
CATEGORIES:Specialty Class
ATTACH;FMTTYPE=image/png:https://www.ccacademy.edu/wp-content/uploads/2024/11/Handmade-Pasta-Class-Featured-Image.png
END:VEVENT
END:VCALENDAR