BEGIN:VCALENDAR
VERSION:2.0
PRODID:-//Classic Cooking Academy - An Arizona Culinary School - ECPv6.15.20//NONSGML v1.0//EN
CALSCALE:GREGORIAN
METHOD:PUBLISH
X-WR-CALNAME:Classic Cooking Academy - An Arizona Culinary School
X-ORIGINAL-URL:https://www.ccacademy.edu
X-WR-CALDESC:Events for Classic Cooking Academy - An Arizona Culinary School
REFRESH-INTERVAL;VALUE=DURATION:PT1H
X-Robots-Tag:noindex
X-PUBLISHED-TTL:PT1H
BEGIN:VTIMEZONE
TZID:UTC
BEGIN:STANDARD
TZOFFSETFROM:+0000
TZOFFSETTO:+0000
TZNAME:UTC
DTSTART:20250101T000000
END:STANDARD
END:VTIMEZONE
BEGIN:VEVENT
DTSTART;TZID=UTC:20260301T093000
DTEND;TZID=UTC:20260301T133000
DTSTAMP:20260426T031329
CREATED:20251023T212308Z
LAST-MODIFIED:20251023T212413Z
UID:30585-1772357400-1772371800@www.ccacademy.edu
SUMMARY:Bread Series – Week 5 (03/01/26)
DESCRIPTION:Week 5:\n\nPretzels\n\nAbout:\nThe 6-Week Bread Series is designed for those who want to learn how to make\, knead\, and bake their own rolls\, loaves\, and other varieties of bread. This program is helmed by our Head Pastry Chef Instructor Susan Kolman who is ready and willing to bring their multiple years of experience to the table. Each week\, students will listen to Chef Susan’s lecture before working in the kitchen on their weekly topics. This program is open to any and all skill-levels. \n(If you do not wish to eat the dishes at class\, please bring your own to-go containers.) \nCost:\nThe 6-Week Bread Series is $555.00 for all six weeks of classes. Students may not sign up for individual classes. No chef jacket fee is added for this program. \nMore Info:\n\nTo see how prior Bread Series classes looked like\, visit our Instagram page!\n\nRegister:\nClick here to register using the PayPal button on the 6-Week Bread Series webpage.
URL:https://www.ccacademy.edu/calendar/bread-series-week-5-03-01-26/
CATEGORIES:Bread Series
ATTACH;FMTTYPE=image/jpeg:https://www.ccacademy.edu/wp-content/uploads/2023/10/6-Week-Bread-Series-Featured-Image.jpeg
END:VEVENT
BEGIN:VEVENT
DTSTART;TZID=UTC:20260301T160000
DTEND;TZID=UTC:20260301T183000
DTSTAMP:20260426T031329
CREATED:20250916T025759Z
LAST-MODIFIED:20260301T160251Z
UID:30189-1772380800-1772389800@www.ccacademy.edu
SUMMARY:Handmade Dumplings Class (SOLD OUT)
DESCRIPTION:THIS CLASS IS SOLD OUT. CALL OR EMAIL TO BE PLACED ON OUR WAITLIST.\nHandmade Dumplings Class – Menu:\n\nSiu Mai (Pork and Shiitake Mushroom Dumplings)\nSzechuan-Style Shrimp Wontons in Chili Oil Sauce \nGyoza (Japanese Potstickers with Pork and Napa Cabbage)\nVarious Dipping Sauces\n\nAbout:\n\n\n\n\n\n\n\n\n\n\nCome for the dim sum! Join us for a fun and interactive Handmade Dumplings Class\, where you’ll learn the art of crafting perfect dumplings from scratch! In this hands-on cooking class\, you’ll be guided step-by-step by Chef Jeannette Ling\, mastering everything from preparing delicious fillings and folding big batches of Asian delights. Whether you’re a complete beginner or a seasoned home cook\, you’ll gain new skills and confidence as you create your own batch of dumplings to enjoy. Bring your friends\, roll up your sleeves\, and get ready for a flavorful experience filled with laughter\, learning\, and of course\, delicious food! \n\n\n\n\n\n\n\n\n\n\nMore Info:\n\nTo make a reservation\, please use the PayPal button below. If the button has been removed or you wish to pay via another method\, call 480-502-0177.\nCOST: $85 PER PERSON.  Gratuity is not included in the class price.\n\nTips for our staff for this evening are not expected but are greatly appreciated. All gratuities are evenly distributed amongst our staff members.\nIf your party has six or more guests\, you can still reserve spots for any recreational class or event if you do not wish to do a private party. However\, we will charge your group an 18% service fee at the time of your reservation. With this in mind\, it is preferred that you register your entire guest count all at once.\n\n\nWe have a 72-hour cancellation policy. This means that you have three days before the class starts to cancel or change your reservation.\n\n If you have to cancel within this time period\, you will not receive a credit to apply towards a different event. We do not issue monetary refunds.\n\n\nNo dietary restrictions or allergies will be accommodated for this class. If one or more items on today’s menu conflicts with your needs\, please reserve spots for an alternative class.\nClass size is limited to 16 people. Reservations are based on a ‘first come-first serve’ basis.\nClass starts at 4:00pm sharp. Please be here at least 10 minutes early wearing comfortable clothes and closed-toed shoes. If you have long hair\, be sure to tie it behind your head.\nStudents will receive a full copy of all recipes for use at home.\nView our website calendar to explore all of our upcoming classes and events! Beyond our Dumplings Classes\, we offer a variety of Asian cooking classes and filled dough classes.\n\nIf you would like to use the dumplings menu for a Private Cooking Party\, contact our staff and we’ll work something out!\n\n\nTake a look at our staff and instructors page to get an idea on who may be teaching this class.\nTo view some dishes from our prior classes and events\, visit our Instagram page!
URL:https://www.ccacademy.edu/calendar/handmade-dumplings-class-03-01-26/
CATEGORIES:Specialty Class
ATTACH;FMTTYPE=image/png:https://www.ccacademy.edu/wp-content/uploads/2025/09/Handmade-Dumplings-Class-Featured-Image-NEWEST.png
END:VEVENT
END:VCALENDAR