BEGIN:VCALENDAR
VERSION:2.0
PRODID:-//Classic Cooking Academy - An Arizona Culinary School - ECPv6.15.20//NONSGML v1.0//EN
CALSCALE:GREGORIAN
METHOD:PUBLISH
X-WR-CALNAME:Classic Cooking Academy - An Arizona Culinary School
X-ORIGINAL-URL:https://www.ccacademy.edu
X-WR-CALDESC:Events for Classic Cooking Academy - An Arizona Culinary School
REFRESH-INTERVAL;VALUE=DURATION:PT1H
X-Robots-Tag:noindex
X-PUBLISHED-TTL:PT1H
BEGIN:VTIMEZONE
TZID:UTC
BEGIN:STANDARD
TZOFFSETFROM:+0000
TZOFFSETTO:+0000
TZNAME:UTC
DTSTART:20250101T000000
END:STANDARD
END:VTIMEZONE
BEGIN:VEVENT
DTSTART;TZID=UTC:20260221T090000
DTEND;TZID=UTC:20260222T150000
DTSTAMP:20260426T043759
CREATED:20250916T202624Z
LAST-MODIFIED:20250916T203441Z
UID:30222-1771664400-1771772400@www.ccacademy.edu
SUMMARY:Devour Culinary Classis
DESCRIPTION:Classic Cooking Academy will be present at the Devour Culinary Classic at Desert Botanical Gardens. \nCome see our booth
URL:https://www.ccacademy.edu/calendar/devour-culinary-classis/
CATEGORIES:Special Event
END:VEVENT
BEGIN:VEVENT
DTSTART;TZID=UTC:20260221T170000
DTEND;TZID=UTC:20260221T193000
DTSTAMP:20260426T043759
CREATED:20260202T194832Z
LAST-MODIFIED:20260202T194832Z
UID:31459-1771693200-1771702200@www.ccacademy.edu
SUMMARY:Bachelorette Party (02/21/26)
DESCRIPTION:Space reserved for a private group to host a bachelorette party hands-on cooking class with Classic Cooking Academy later in the day.
URL:https://www.ccacademy.edu/calendar/bachelorette-party-02-21-26/
CATEGORIES:Private Event
END:VEVENT
END:VCALENDAR