BEGIN:VCALENDAR
VERSION:2.0
PRODID:-//Classic Cooking Academy - An Arizona Culinary School - ECPv6.15.20//NONSGML v1.0//EN
CALSCALE:GREGORIAN
METHOD:PUBLISH
X-ORIGINAL-URL:https://www.ccacademy.edu
X-WR-CALDESC:Events for Classic Cooking Academy - An Arizona Culinary School
REFRESH-INTERVAL;VALUE=DURATION:PT1H
X-Robots-Tag:noindex
X-PUBLISHED-TTL:PT1H
BEGIN:VTIMEZONE
TZID:UTC
BEGIN:STANDARD
TZOFFSETFROM:+0000
TZOFFSETTO:+0000
TZNAME:UTC
DTSTART:20250101T000000
END:STANDARD
END:VTIMEZONE
BEGIN:VEVENT
DTSTART;TZID=UTC:20260215T093000
DTEND;TZID=UTC:20260215T133000
DTSTAMP:20260426T044023
CREATED:20251023T210251Z
LAST-MODIFIED:20251023T210338Z
UID:30581-1771147800-1771162200@www.ccacademy.edu
SUMMARY:Bread Series – Week 3 (02/15/26)
DESCRIPTION:Week 3:\n\nShape and Bake Brioche and Babka\nHawaiian Rolls\n\nAbout:\nThe 6-Week Bread Series is designed for those who want to learn how to make\, knead\, and bake their own rolls\, loaves\, and other varieties of bread. This program is helmed by our Head Pastry Chef Instructor Susan Kolman who is ready and willing to bring their multiple years of experience to the table. Each week\, students will listen to Chef Susan’s lecture before working in the kitchen on their weekly topics. This program is open to any and all skill-levels. \n(If you do not wish to eat the dishes at class\, please bring your own to-go containers.) \nCost:\nThe 6-Week Bread Series is $555.00 for all six weeks of classes. Students may not sign up for individual classes. No chef jacket fee is added for this program. \nMore Info:\n\nTo see how prior Bread Series classes looked like\, visit our Instagram page!\n\nRegister:\nClick here to register using the PayPal button on the 6-Week Bread Series webpage.
URL:https://www.ccacademy.edu/calendar/bread-series-week-3-02-15-26/
CATEGORIES:Bread Series
ATTACH;FMTTYPE=image/jpeg:https://www.ccacademy.edu/wp-content/uploads/2023/10/6-Week-Bread-Series-Featured-Image.jpeg
END:VEVENT
BEGIN:VEVENT
DTSTART;TZID=UTC:20260215T160000
DTEND;TZID=UTC:20260215T183000
DTSTAMP:20260426T044023
CREATED:20250916T031253Z
LAST-MODIFIED:20260210T200220Z
UID:30196-1771171200-1771180200@www.ccacademy.edu
SUMMARY:Handmade Pasta Class (TWO SPOTS LEFT!)
DESCRIPTION:ONLY TWO SPOTS LEFT! CALL OR EMAIL TO REGISTER!\nONLINE REGISTRATION HAS BEEN REMOVED TO AVOID OVERBOOKING.\nHandmade Pasta Class – Menu:\n\nFilled Pastas (pick one):\n\nRavioli\nAgnolotti\n\n\nCut Pastas (pick one):\n\nFettuccine\nCapellini\n\n\nFilling:\n\nMushroom with Garlic Herb Parmesan\n\n\nSauces:\n\nAlfredo Cream Sauce (Fettuccine)\nBrown Butter Sauce with Sage (Ravioli\, Agnolotti)\nPasta Fresca (Capellini)\n\n\n\nAbout:\nLearn how to make homemade pasta from scratch with simple ingredients that you probably already have at home. Teams will pick one filled pasta and one cut pasta to make. Our chef instructor will demo fresh pasta from scratch\, showcasing the different pasta types with different fillings and sauces. At the end of the class\, enjoy your freshly made Italian creations!\nBring containers if you want to take home your food!\nMore Info:\n\nTo make a reservation\, please use the PayPal button below. If the button has been removed or you wish to pay via another method\, call 480-502-0177.\nCOST: $80 PER PERSON.  Gratuity is not included in the class price.\n\nTips for our staff for this evening are not expected but are greatly appreciated. All gratuities are evenly distributed amongst our staff members.\nIf your party has six or more guests\, you can still reserve spots for any recreational class or event if you do not wish to do a private party. However\, we will charge your group an 18% service fee at the time of your reservation. With this in mind\, it is preferred that you register your entire guest count all at once.\n\n\nWe have a 72-hour cancellation policy. This means that you have three days before the class starts to cancel or change your reservation.\n\n If you have to cancel within this time period\, you will not receive a credit to apply towards a different event. We do not issue monetary refunds.\n\n\nNo dietary restrictions or allergies will be accommodated for this class. If one or more items on today’s menu conflicts with your needs\, please reserve spots for an alternative class.\nClass size is limited to 20 people. Reservations are based on a ‘first come-first serve’ basis.\nClass starts at 4:00pm sharp. Please be here at least 10 minutes early wearing comfortable clothes and closed-toed shoes. If you have long hair\, be sure to tie it behind your head.\nStudents will receive a full copy of all recipes for use at home.\nView our website calendar to see all of our other scheduled classes and events. We offer a variety of other hands-on cooking classes featuring doughs from scratch!\n\nIf you would like to do a Handmade Pasta Class as a Private Cooking Party\, contact our staff and we’ll work something out!\n\n\nTake a look at our staff and instructors page to get an idea on who may be teaching this class.\nTo view some dishes from our prior classes and events\, visit our Instagram page!
URL:https://www.ccacademy.edu/calendar/handmade-pasta-class-02-15-26/
CATEGORIES:Specialty Class
ATTACH;FMTTYPE=image/png:https://www.ccacademy.edu/wp-content/uploads/2024/11/Handmade-Pasta-Class-Featured-Image.png
END:VEVENT
END:VCALENDAR