BEGIN:VCALENDAR
VERSION:2.0
PRODID:-//Classic Cooking Academy - An Arizona Culinary School - ECPv6.15.20//NONSGML v1.0//EN
CALSCALE:GREGORIAN
METHOD:PUBLISH
X-WR-CALNAME:Classic Cooking Academy - An Arizona Culinary School
X-ORIGINAL-URL:https://www.ccacademy.edu
X-WR-CALDESC:Events for Classic Cooking Academy - An Arizona Culinary School
REFRESH-INTERVAL;VALUE=DURATION:PT1H
X-Robots-Tag:noindex
X-PUBLISHED-TTL:PT1H
BEGIN:VTIMEZONE
TZID:UTC
BEGIN:STANDARD
TZOFFSETFROM:+0000
TZOFFSETTO:+0000
TZNAME:UTC
DTSTART:20250101T000000
END:STANDARD
END:VTIMEZONE
BEGIN:VEVENT
DTSTART;TZID=UTC:20260213T130000
DTEND;TZID=UTC:20260213T153000
DTSTAMP:20260426T043703
CREATED:20250909T173949Z
LAST-MODIFIED:20250909T174049Z
UID:30006-1770987600-1770996600@www.ccacademy.edu
SUMMARY:Practical Series – Week 18 (02/13/26)
DESCRIPTION:Practical Series – Topic:\n\nLamb\n\nDebone Leg\nRack of Lamb\nJus\n\n\n\nAbout:\nThe Practical Series is Classic Cooking Academy’s flagship program. Spanning 24 weeks\, this series will educate you around the logistics of the kitchen one step at a time. In each class\, students will first learn their weekly topic(s) from the chef’s lecture before heading into the kitchen to cook dishes on what they’ve just learned. By the end of the course\, students will have a full understanding of nearly every facet of cooking. Don’t be hesitant if you think you’re not up to the task – this class is open for any and all skill levels. \nCosts:\nLump Sum Cost of Practical Series – $2\,500.00. \nPayment Plan of Practical Series – Deposit of $550.00 and then six payments of $325.00 on the first class of each month. \nChef Jacket Fee – $45 (automatically allocated into the deposit).  \n*NOTE*: If you already have a Classic Cooking chef jacket from a prior program and still wish to attend the Practical Series\, please call our staff to register. \nRegister:\nVisit our Practical Series webpage for the step-by-step process on how to officially register. \nMore Info:\n\nStudents will be learning techniques of cooking rather than looking at recipes.\n\nAs a result\, bring your own notes and a writing utensil.\n\n\nClass starts at 6:30pm (Thursday Evening sessions) or 1:00pm (Friday Afternoon sessions) sharp. Please be here at least 5 minutes early wearing your chef jacket.\n\nIf you know you will be late or absent entirely for this class\, please notify us beforehand. Our phone number is 480-502-0177 and our email is info@ccacademy.edu.\n\n\nIf you need to make up this class from a previous Practical Series session\, please notify us beforehand. Our phone number is 480-502-0177 and our email is info@ccacademy.edu.\nTo check the overall curriculum of the this program\, click here.
URL:https://www.ccacademy.edu/calendar/practical-series-week-18-02-13-26-2/
CATEGORIES:Practical Series
ATTACH;FMTTYPE=image/jpeg:https://www.ccacademy.edu/wp-content/uploads/2018/05/Lamb.jpeg
END:VEVENT
BEGIN:VEVENT
DTSTART;TZID=UTC:20260213T183000
DTEND;TZID=UTC:20260213T210000
DTSTAMP:20260426T043703
CREATED:20251031T210436Z
LAST-MODIFIED:20251229T191258Z
UID:30638-1771007400-1771016400@www.ccacademy.edu
SUMMARY:Gourmet Class – Valentine Delights (SOLD OUT)
DESCRIPTION:THIS CLASS IS SOLD OUT. PLEASE CALL OR EMAIL TO BE PLACED ON OUR WAIT-LIST.\nGourmet Class Menu – Valentine Delights:\n\nBaltimore-Style Crab Cakes with Roasted Red Pepper Sauce\nSteak au Poivre with Cognac Pan Reduction\nTwice Baked Potatoes\nCreamed Spinach\nClassic Crème Brûlée\n\nAbout:\nShare a meal\, share the love. Join us for this Valentine’s-themed Gourmet Class featuring dishes that are sure to stoke those romantic flames! Guests come in\, find a seat\, have a drink\, and meet the chefs who go over each item on the menu. After our staff covers what each table will be cooking\, guests split up among the tables to prepare one dish of their choosing.  At the end\, our chefs take over the kitchen\, while guests return to the dining room and are served a delectable three-course dinner complete with an appetizer\, entrée\, and dessert. \nEach Gourmet Class includes complimentary wine\, beer\, and soft drinks. Alcoholic beverages will be available until dessert is served. \nMore Info:\n\nTo make a reservation\, please use the PayPal registration below. If the PayPal button has been removed to avoid overbooking or you wish to pay by phone\, please call us at 480-502-0177.\nCOST: $80 per person. Gratuity is not included in the class price.\n\nTips for our staff for this evening are not expected but are greatly appreciated. All gratuities are evenly distributed amongst our staff members.\nIf your party has six or more guests\, you can still reserve spots for any recreational class or event if you do not wish to do a private party. However\, we will charge your group an 18% service fee at the time of your reservation. With this in mind\, it is preferred that you register your entire guest count all at once.\n\n\nGourmet Cooking Classes are held on select Fridays\, 6:30 – 9:00pm. Attendees must be 21 years or older to consume any alcohol.\nWe have a 72-hour cancellation policy. This means that you have three days before the class starts to cancel or change your reservation.\n\n If you have to cancel within this time period\, you will not receive a credit to apply towards a different event. We do not issue monetary refunds.\n\n\nNo dietary restrictions or allergies will be accommodated for this class. If one or more items on tonight’s menu conflicts with your needs\, please reserve spots for an alternative Gourmet Cooking Class.\nClass size is limited to 20 people. Reservations are based on a ‘first come-first serve’ basis.\nClass starts at 6:30pm sharp. Please be here at least 10 minutes early wearing comfortable clothes and closed-toed shoes. If you have long hair\, be sure to tie it behind your head.\nStudents will receive a full copy of all recipes for use at home.\nVisit our website calendar to see our other classes and events that we have scheduled! Gourmet Classes are just one of the many hands-on cooking classes we offer in Scottsdale\, AZ!\n\nIf you wish to use any pre-existing Gourmet Class menu for a Private Cooking Party\, simply let our staff know and we can work something out!\n\n\nTake a look at our staff and instructors page to get an idea on who may be teaching this class.\nTo see how our prior Gourmet Classes looked like\, visit our Instagram page!
URL:https://www.ccacademy.edu/calendar/gourmet-class-valentine-delights-02-13-26/
CATEGORIES:Valentines
ATTACH;FMTTYPE=image/jpeg:https://www.ccacademy.edu/wp-content/uploads/2025/10/Gourmet-Class-Valentine-Delights-Featured-Image-copy-2.jpg
END:VEVENT
END:VCALENDAR