BEGIN:VCALENDAR
VERSION:2.0
PRODID:-//Classic Cooking Academy - An Arizona Culinary School - ECPv6.15.20//NONSGML v1.0//EN
CALSCALE:GREGORIAN
METHOD:PUBLISH
X-WR-CALNAME:Classic Cooking Academy - An Arizona Culinary School
X-ORIGINAL-URL:https://www.ccacademy.edu
X-WR-CALDESC:Events for Classic Cooking Academy - An Arizona Culinary School
REFRESH-INTERVAL;VALUE=DURATION:PT1H
X-Robots-Tag:noindex
X-PUBLISHED-TTL:PT1H
BEGIN:VTIMEZONE
TZID:UTC
BEGIN:STANDARD
TZOFFSETFROM:+0000
TZOFFSETTO:+0000
TZNAME:UTC
DTSTART:20250101T000000
END:STANDARD
END:VTIMEZONE
BEGIN:VEVENT
DTSTART;TZID=UTC:20260202T160000
DTEND;TZID=UTC:20260202T180000
DTSTAMP:20260426T043812
CREATED:20251030T232734Z
LAST-MODIFIED:20251031T180608Z
UID:30619-1770048000-1770055200@www.ccacademy.edu
SUMMARY:After-School Cooking Series – Week 4 (02/02/26)
DESCRIPTION:After-School Cooking Series Week 4 Menu:\n\nBeef & Broccoli\nVegetable & Noodle Stir Fry\nChinese Almond Cookies\n\nAbout:\n6-WEEK SESSION BEGINS JANUARY 5TH AND ENDS FEBRUARY 23RD! \nCLASS WILL NOT BE HELD ON JANUARY 19TH DUE TO MARTIN LUTHER KING JR. DAY AND FEBRUARY 16TH DUE TO PRESIDENTS DAY.  \nJoin our After-School Cooking Series and whip up delicious meals! Each week\, a different menu will be prepared by the students and then they’ll all sit down and enjoy their dishes together together. A great way for students to learn both basic and advanced culinary techniques and develop a higher level of know-how.  \nAvailable to ages 8-17. All skill-levels welcome. \nMore Info:\n\nCOST: $420 for 6-week session. Class is limited to 16 students. Reservations are based on First Come-First Serve basis. \nTo register\, use the PayPal button below. If the button has been removed\, please call (480)-502-0177. \nThe After-School Cooking Series is held on Mondays\, 4:00 – 6:00 p.m. and includes all supplies\, ingredients and beverages.\nCancellation must be made 72 hours in advance of course time for fee refund. If you do not cancel within the 3 days\, you will receive credit at Classic Cooking. \nClasses WILL NOT be held on school holidays. Please check our website calendar to view the scheduled classes.\nMenus vary each class. Students will prepare the meal and sit down and eat together. Recipes/menus will be sent via email beforehand.\nStudents MUST wear close-toed shoes and tie back long hair as per Arizona health code.\nAfter School Classes are DROP OFF ONLY. Sorry\, no parents allowed!\nPLEASE DROP OFF AND PICK UP IN A TIMELY MANNER.\n\nA late fee will be assessed for each 15 minutes of tardiness.\n\n\nView our website calendar to explore all of our upcoming classes and events.\nTake a look at our staff and instructors page to get an idea on who may be teaching this class.\nTo view some dishes from our prior classes and events\, visit our Instagram page!\n\nA MEDICAL AUTHORIZATION FORM must be on file for your child to attend.\n\nIt is very important that we receive at least 72 hours advance notice of ANY food allergies or dietary restrictions. Please let us know at least 72 hours in advance; otherwise modifications will not be made.\n\nTO REGISTER:\nVisit the webpage for the first week of class and scroll down to find the PayPal button. Otherwise\, feel free to call our office (480-502-0177).
URL:https://www.ccacademy.edu/calendar/after-school-cooking-series-week-4-02-02-26/
CATEGORIES:Kids Class/Camp
ATTACH;FMTTYPE=image/png:https://www.ccacademy.edu/wp-content/uploads/2024/11/After-School-Cooking-Series-Featured-Image.png
END:VEVENT
BEGIN:VEVENT
DTSTART;TZID=UTC:20260202T183000
DTEND;TZID=UTC:20260202T210000
DTSTAMP:20260426T043812
CREATED:20251201T210022Z
LAST-MODIFIED:20251201T210656Z
UID:30918-1770057000-1770066000@www.ccacademy.edu
SUMMARY:Carb-Conscious Series - Week 2 (02/02/26)
DESCRIPTION:Weekly Topic – Carb-Conscious Series:\nWeek 2 – Pasta and Starch Replacements\nAbout – Carb-Conscious Series:\nLooking to eat healthier and make more informed food choices? Interested in learning how to incorporate lower glycemic ingredients into your meals? Join our Carb-Conscious Cooking Series for hands-on instruction and practical demonstrations. This 3-week series will focus on the fundamentals of cooking with low glycemic foods and carb-conscious techniques. \nThroughout the series\, you’ll explore the benefits of whole grains\, smart pasta and rice substitutions\, and delicious lower-carb desserts. While not required\, our introductory class is a great starting point for understanding the nutritional aspects of carb-conscious eating. \nIn this series\, you’ll dive into the history of whole grains\, discover what qualifies as a ‘superfood\,’ and learn kitchen techniques that help retain the essential nutrients in your ingredients. You’ll also learn how to make healthier swaps for common starchy foods. To wrap things up\, we’ll explore creating mouthwatering desserts that are low in sugar and carbs. \nAdditional Notes:\n\nEach session is limited to 16 students maximum.\nNo prerequisite classes or prior kitchen experience required. The Carb-Conscious Series is geared for beginner level chefs and food enthusiasts!\nIt is not necessary for students to enroll in other weekly programs. You may pick and choose each of our offered weekly programs.\nIf you are unable to attend any class for any reason\, you are more than welcome to make it up in a following\, respective Carb-Conscious Series session. Just check our schedule\, confirm the date that you need to sit in on\, and contact our staff by phone or email so that we can mark you down.\nCertain weeks of the program may be pushed back for other events. Classic Cooking keeps all currently enrolled students updated with any schedule changes.\n\nLinks:\n\nClick here to view our other weekly programs.\nClick here to view our Instagram page and see how some of our prior cooking programs looked like.\n\nREGISTER:\nTo register for the Carb-Conscious Series\, visit the program’s webpage!
URL:https://www.ccacademy.edu/calendar/carb-conscious-series-week-2-02-02-26/
CATEGORIES:Carb-Conscious Series
ATTACH;FMTTYPE=image/png:https://www.ccacademy.edu/wp-content/uploads/2025/12/3-Week-Carb-Conscious-Series-Featured-Image.png
END:VEVENT
END:VCALENDAR