BEGIN:VCALENDAR
VERSION:2.0
PRODID:-//Classic Cooking Academy - An Arizona Culinary School - ECPv6.15.20//NONSGML v1.0//EN
CALSCALE:GREGORIAN
METHOD:PUBLISH
X-ORIGINAL-URL:https://www.ccacademy.edu
X-WR-CALDESC:Events for Classic Cooking Academy - An Arizona Culinary School
REFRESH-INTERVAL;VALUE=DURATION:PT1H
X-Robots-Tag:noindex
X-PUBLISHED-TTL:PT1H
BEGIN:VTIMEZONE
TZID:UTC
BEGIN:STANDARD
TZOFFSETFROM:+0000
TZOFFSETTO:+0000
TZNAME:UTC
DTSTART:20200101T000000
END:STANDARD
END:VTIMEZONE
BEGIN:VEVENT
DTSTART;TZID=UTC:20210308T120000
DTEND;TZID=UTC:20210311T140000
DTSTAMP:20260426T014906
CREATED:20201223T181632Z
LAST-MODIFIED:20210308T164444Z
UID:16035-1615204800-1615471200@www.ccacademy.edu
SUMMARY:Kids & Teens Spring Break Cooking Camp (SOLD OUT)
DESCRIPTION:About:\nSpring Break is here!  Classic Cooking introduces a fun four-day cooking camp\, where students will learn essential cooking techniques and work alongside their peers to gain and develop new culinary skills. Students will build on skills throughout the week\, and the daily changing menus will offer a wide variety of seasonal delights. Once they finish up each dish\, students will sit in the dining room and enjoy their creations! \nDaily Menus:\nMonday \n\n\nChicken Cordon Bleu\nDuchess Potatoes\nPalmiers\n\nTuesday \n\nShrimp and Fennel Pasta\nBrown Butter Peas and Carrots\nLemon Ricotta Cookies\n\nWednesday \n\nBeef Broccoli\nAsian Salad with Wonton Chips\nMolasses Cookies with a Kick\n\nThursday \n\nChicken and Cheese Enchiladas\nBlack Bean and Corn Salad\nDouble Chocolate Chip Cupcakes\n\n\nMore Info:\n\nAges 8-17 are welcome to register for this cooking camp. Students will be grouped according to their ages.  Classes are held Monday\, Tuesday\, Wednesday\, and Thursday\, and run from 12:00pm – 2:00pm.\nThe cost for the 4-day Spring Break Cooking Camp is $160 per student\, and includes all ingredients and supplies\, along with beverages.\nStudents will prepare and enjoy a complete meal each day of camp\, and will take home a packet of recipes for future use.\n72 hour notice of cancellation must be given for fee refund.\nA MEDICAL AUTHORIZATION FORM must be on file for your child to attend.\nIf your child has any food allergies or dietary restrictions\, we need to be notified at least 72 hours in advance in order to accommodate.\n\nStudents MUST wear close-toed shoes and tie back long hair as per Arizona health code.\n\nSpring Break Cooking Camp is DROP OFF ONLY.  Sorry\, no parents allowed!!\nA late fee will be assessed for each 15 minutes of tardiness.\n\nSOLD OUT. CLICK HERE FOR MORE AVAILABLE EVENTS.\n 
URL:https://www.ccacademy.edu/calendar/kids-teens-spring-break-cooking-camp/
LOCATION:Classic Cooking Academy\, 10411 East McDowell Mountain Ranch Road\, Scottsdale\, AZ\, 85255\, United States
CATEGORIES:Teens Class/Camp
ATTACH;FMTTYPE=image/png:https://www.ccacademy.edu/wp-content/uploads/2020/12/Constant-Contact-Header-Images-8.png
END:VEVENT
BEGIN:VEVENT
DTSTART;TZID=UTC:20210311T183000
DTEND;TZID=UTC:20210311T210000
DTSTAMP:20260426T014906
CREATED:20200612T182907Z
LAST-MODIFIED:20200612T183338Z
UID:14274-1615487400-1615496400@www.ccacademy.edu
SUMMARY:Practical Series – Week 23 (03/11/21)
DESCRIPTION:Practical Series – Topic:\n\nDessert\n\nCookies\nLemon Curd\n\n\n\nAbout:\nThe Practical Series is Classic Cooking Academy’s flagship program. Spanning 24 weeks and hosted by Chef Josh Hebert\, this series will educate you around the logistics of the kitchen one step at a time. In each class\, students will first learn their weekly topic(s) from the chef’s lecture before heading into the kitchen to cook dishes on what they’ve just learned. By the end of the course\, students will have a full understanding of nearly every facet of cooking. Don’t be hesitant if you think you’re not up to the task – this class is open for any and all skill levels. \nCosts:\nLump Sum Cost of Practical Series – $2\,500.00 \nPayment Plan of Practical Series – Deposit of $550.00 and then three payments of $325.00 on the first class of each month. \n**NOTE**: In the event of cancellation\, 15% of the total cost will be retained by Classic Cooking Academy to cover administrative costs. \nRegister:\nStep 1: Download and return your completed Application Form and Enrollment Agreement. \nClick to Download our Enrollment Agreement and send a completed copy to our staff. \nClick to Download our Catalog to have on file for reference. \nStep 2: Place your initial deposit of $550.00 plus the $35.00 chef jacket fee. You can pay the deposit via two ways: \nUse the PayPal button for your intended session by visiting the main Practical Series page. \nContact our staff to discuss financials. Our contact info can be found below. \nLogistics:\n\nStudents will be learning techniques of cooking rather than looking at recipes.\n\nAs a result\, bring your own notes and a writing utensil.\n\n\nIf you still need to enroll\, fill out our Enrollment Agreement and send it to us via email or in-person.\nClass starts at 6:30pm sharp. Please be here at least 5 minutes early wearing your chef jacket.\n\nIf you know you will be late or absent entirely for this class\, please notify us beforehand. Our phone number is 480-502-0177 and our email is info@ccacademy.edu.\n\n\nIf you need to make up this class from a previous Practical Series session\, please notify us beforehand. Our phone number is 480-502-0177 and our email is info@ccacademy.edu.\nTo check the overall curriculum of the this program\, click here.\nThe instructor of this series is Chef Josh Hebert.
URL:https://www.ccacademy.edu/calendar/practical-series-week-23-03-11-21/
CATEGORIES:Practical Series
ATTACH;FMTTYPE=image/jpeg:https://www.ccacademy.edu/wp-content/uploads/2018/05/Lemon-Curd.jpeg
END:VEVENT
END:VCALENDAR