BEGIN:VCALENDAR
VERSION:2.0
PRODID:-//Classic Cooking Academy - An Arizona Culinary School - ECPv6.15.20//NONSGML v1.0//EN
CALSCALE:GREGORIAN
METHOD:PUBLISH
X-ORIGINAL-URL:https://www.ccacademy.edu
X-WR-CALDESC:Events for Classic Cooking Academy - An Arizona Culinary School
REFRESH-INTERVAL;VALUE=DURATION:PT1H
X-Robots-Tag:noindex
X-PUBLISHED-TTL:PT1H
BEGIN:VTIMEZONE
TZID:UTC
BEGIN:STANDARD
TZOFFSETFROM:+0000
TZOFFSETTO:+0000
TZNAME:UTC
DTSTART:20200101T000000
END:STANDARD
END:VTIMEZONE
BEGIN:VEVENT
DTSTART;TZID=UTC:20210207T090000
DTEND;TZID=UTC:20210207T113000
DTSTAMP:20260426T000713
CREATED:20201119T193522Z
LAST-MODIFIED:20201124T212531Z
UID:15828-1612688400-1612697400@www.ccacademy.edu
SUMMARY:Advanced Pastry Series - Week 5 (02/07/21)
DESCRIPTION:Advanced Pastry Series – Topic(s):\n\nDecorated Birthday Cake\nSwiss Meringue Buttercream\n\nAbout:\nLooking to take your pastry knowledge to the next level? Consider the Advanced Pastry Series! You will gain a deeper understanding on some of the more expert-level techniques behind baking. \nMore Info:\n\nThis class is designed primarily for graduates of our Pastry Series. While it is not a requirement to have finished it for this program\, its completion is preferable. Otherwise\, we expect previous pastry experience for our students.\nThis is part of an 6-week series\, not a stand-alone cooking class.\n\nAs a result\, deal vouchers are not accepted.\n\n\n$100 per person; $600 total for 6 weeks.\n\nWe encourage you to sign up for the entire series; two payment options are available. A 50% deposit can be placed down or by halfway through the series\, the total amount must be paid.\n\n\nClass is held on Sundays at 9:00am sharp. Please be here at least 10 minutes early wearing your chef jacket.\n\nIf you know you will be late or absent entirely for this class\, please notify us beforehand. Our phone number is 480-502-0177 and our email is info@ccacademy.edu.\n\n\nIf you need to make up this class from a previous Advanced Pastry Series session\, please notify us beforehand. Our phone number is 480-502-0177 and our email is info@ccacademy.edu.\nTo check the overall curriculum of the this program\, click here.\nThe instructor of this series is Chef Susan Kolman\, assisted by Jen Decker.
URL:https://www.ccacademy.edu/calendar/advanced-pastry-series-week-5-02-07-21/
LOCATION:Classic Cooking Academy\, 10411 East McDowell Mountain Ranch Road\, Scottsdale\, AZ\, 85255\, United States
CATEGORIES:Advanced Pastry Series
ATTACH;FMTTYPE=image/png:https://www.ccacademy.edu/wp-content/uploads/2020/11/Week-5.png
END:VEVENT
BEGIN:VEVENT
DTSTART;TZID=UTC:20210207T170000
DTEND;TZID=UTC:20210207T193000
DTSTAMP:20260426T000713
CREATED:20201223T172235Z
LAST-MODIFIED:20210129T165416Z
UID:16015-1612717200-1612726200@www.ccacademy.edu
SUMMARY:Italian Dinner (02/07/21) (CANCELLED)
DESCRIPTION:Menu:\n\nPasta e Piselli (Pasta and Peas)\nProsciutto Wrapped Stuffed Pork Tenderloin\nCreamy Parmesan and Asparagus Risotto\nRoasted Italian Vegetables\nAffogato with Lady Fingers\n\nAbout:\nJoin us on a delicious culinary journey to Italy!  In this hands-on cooking class\, guests are invited in\, offered a drink\, and will meet the chefs who go over each item on the menu. After our staff covers what each table will be cooking\, guests split up to prepare the dish of their choosing. At the end\, our chefs take over the kitchen\, while guests return to the dining room and are served a delectable Italian-themed feast\, complete with a beverage of choice. \nMore Info:\n\nItalian Dinners are held on select Sundays\, 5:00 – 7:30pm. Attendees must be 21 years or older to consume any alcohol.\nTo make a reservation\, please call 480-502-0177 or email info@ccacademy.edu.\n$100 per person. SPECIAL RATE $50 PER PERSON – SEE DETAILS BELOW.  Gratuity is not included in the class price.\n\nTips for our staff for this evening are not expected but are greatly appreciated. All gratuities are evenly distributed amongst our staff members.\n\n\nWe have a 72-hour cancellation policy. This means that you have three days before the class starts to cancel or change your reservation.\n\nIf you have to cancel within this time period\, you are subject to forfeiture of any payments made to this class or voucher usage.\n\n\nNo dietary restrictions or allergies will be accommodated for this class. If one or more items on tonight’s menu conflicts with your needs\, please reserve spots for an alternative Cooking Class.\nClass size is limited to 16 people. Reservations are based on a ‘first come-first serve’ basis.\nClass starts at 5:00pm sharp. Please be here at least 10 minutes early wearing comfortable clothes and closed-toed shoes. If you have long hair\, be sure to tie it behind your head.\nGroupon vouchers are no longer accepted.  If you have an unused voucher\, please request a refund from the purchase site.\nStudents will receive a full copy of all recipes for use at home.\nTake a look at our staff and instructors page to get a feel over who may be teaching this class.\n\nTHIS CLASS HAS BEEN CANCELLED. CHECK OUT MORE AVAILABLE EVENTS HERE.
URL:https://www.ccacademy.edu/calendar/italian-dinner-02-07-21/
LOCATION:Classic Cooking Academy\, 10411 East McDowell Mountain Ranch Road\, Scottsdale\, AZ\, 85255\, United States
CATEGORIES:Asian Series,Specialty Class
END:VEVENT
END:VCALENDAR