BEGIN:VCALENDAR
VERSION:2.0
PRODID:-//Classic Cooking Academy - An Arizona Culinary School - ECPv6.15.20//NONSGML v1.0//EN
CALSCALE:GREGORIAN
METHOD:PUBLISH
X-WR-CALNAME:Classic Cooking Academy - An Arizona Culinary School
X-ORIGINAL-URL:https://www.ccacademy.edu
X-WR-CALDESC:Events for Classic Cooking Academy - An Arizona Culinary School
REFRESH-INTERVAL;VALUE=DURATION:PT1H
X-Robots-Tag:noindex
X-PUBLISHED-TTL:PT1H
BEGIN:VTIMEZONE
TZID:UTC
BEGIN:STANDARD
TZOFFSETFROM:+0000
TZOFFSETTO:+0000
TZNAME:UTC
DTSTART:20200101T000000
END:STANDARD
END:VTIMEZONE
BEGIN:VEVENT
DTSTART;TZID=UTC:20210206T100000
DTEND;TZID=UTC:20210206T130000
DTSTAMP:20260426T000408
CREATED:20201030T190756Z
LAST-MODIFIED:20210205T161437Z
UID:15568-1612605600-1612616400@www.ccacademy.edu
SUMMARY:Chocolate Valentine Desserts (02/06/21) (ONLY 1 SPOT LEFT)
DESCRIPTION:Chocolate Valentine Desserts – Menu:\n\nPâte Sucrée\nChocolate Ganache Raspberry Tart\nChocolate Mesquite Cake (Gluten-Free)\n\nAbout:\nThis is recommended for students with some previous baking experience.  Students will work in groups up to 4.  Following an instructor lead demo\, students will make all the desserts with the opportunity to enjoy their creations with a complimentary beverage\, or take their items home.  Bring to-go containers. \nMore Info:\n\n\n\nPastry Classes are held on select Saturdays\, 10am – 1:00pm. Attendees must be 21 years or older to consume any alcohol.\nTo make a reservation\, please call 480-502-0177 or email info@ccacademy.edu.\nSPECIAL DISCOUNT: $50 per person.  Gratuity is not included in the class price.\n\nTips for our staff for this event are not expected but are greatly appreciated. All gratuities are evenly distributed amongst our staff members.\n\n\nWe have a 72-hour cancellation policy. This means that you have three days before the class starts to cancel or change your reservation.\n\nIf you have to cancel within this time period\, you are subject to forfeiture of any payments made to this class or voucher usage.\n\n\nNo dietary restrictions or allergies will be accommodated for this class. If one or more items on today’s menu conflicts with your needs\, please reserve spots for an alternative Pastry Class.\nClass size is limited to 16 people. Reservations are based on a ‘first come-first serve’ basis.\nClass starts at 10am sharp. Please be here at least 10 minutes early wearing comfortable clothes and closed-toed shoes. If you have long hair\, be sure to tie it behind your head.\nGroupon vouchers are no longer accepted.  If you have an unused voucher\, please request a refund from the purchase site.\nStudents will receive a full copy of all recipes for use at home.\nClass will be led by Chef Sharon Lunardi.\n\n\n\nONLY 1 SPOT LEFT. CALL (480)-502-0177 IF INTERESTED.
URL:https://www.ccacademy.edu/calendar/chocolate-valentine-desserts-02-06-21/
LOCATION:Classic Cooking Academy\, 10411 East McDowell Mountain Ranch Road\, Scottsdale\, AZ\, 85255\, United States
CATEGORIES:Pastry Class (Stand-Alone)
END:VEVENT
BEGIN:VEVENT
DTSTART;TZID=UTC:20210206T170000
DTEND;TZID=UTC:20210206T193000
DTSTAMP:20260426T000408
CREATED:20201223T171327Z
LAST-MODIFIED:20210129T161720Z
UID:16009-1612630800-1612639800@www.ccacademy.edu
SUMMARY:Five Course Wine Dinner (02/06/21) CANCELLED
DESCRIPTION:THIS WINE DINNER HAS BEEN CANCELLED.\nMenu:\n\nNew England Clam Chowder\nRisotto with Shrimp and Spanish Chorizo\nDuck Confit with Greens\nBeef Shirt Ribs Braised in Merlot\nApricot Almond Tart with Sabayon\n\nAbout:\nOne of our few classes that does not incorporate hands-on cooking. Instead\, guests sit down\, meet our chef(s) and sommelier\, and enjoy a five-course tasting menu with specially paired wines. With each course\, our head chef will talk about the food\, while our sommelier will discuss the wine’s taste\, variety\, background\, and vintage. \nMore Info:\n\nFive-Course Wine Dinners are held on select Saturdays\, 5:00 – 7:30pm. Attendees must be 21 years or older to consume any alcohol.\nThis class is not a cooking class. There is no portion of the class that is hands-on or demonstrative.\nTo make a reservation\, please call 480-502-0177 or email info@ccacademy.edu.\n$50 per person. Gratuity is not included in the class price.\n\nTips for our staff for this evening are not expected but are greatly appreciated. All gratuities are evenly distributed amongst our staff members.\n\n\nWe have a 72-hour cancellation policy. This means that you have three days before the class starts to cancel or change your reservation.\n\nIf you have to cancel within this time period\, you are subject to forfeiture of any payments made to this class or voucher usage.\n\n\nNo dietary restrictions or allergies will be accommodated for this class. If one or more items on tonight’s menu conflicts with your needs\, please reserve spots for an alternative Five-Course Wine Dinner.\nClass size is limited to 24 people. Reservations are based on a ‘first come-first serve’ basis.\nDinner starts at 5:00pm sharp. Please be here at least 10 minutes early wearing comfortable clothing.\nGroupon vouchers are no longer accepted.  If you have an unused voucher\, please request a refund from the purchase site.\nIf interested\, students are more than welcome to ask for the recipes of the dishes that they will enjoy tonight.\nTake a look at our staff and instructors page to get a feel over who may be teaching this class.
URL:https://www.ccacademy.edu/calendar/five-course-wine-dinner-02-06-21/
LOCATION:Classic Cooking Academy\, 10411 East McDowell Mountain Ranch Road\, Scottsdale\, AZ\, 85255\, United States
CATEGORIES:Wine Dinner
END:VEVENT
END:VCALENDAR