BEGIN:VCALENDAR
VERSION:2.0
PRODID:-//Classic Cooking Academy - An Arizona Culinary School - ECPv6.15.20//NONSGML v1.0//EN
CALSCALE:GREGORIAN
METHOD:PUBLISH
X-ORIGINAL-URL:https://www.ccacademy.edu
X-WR-CALDESC:Events for Classic Cooking Academy - An Arizona Culinary School
REFRESH-INTERVAL;VALUE=DURATION:PT1H
X-Robots-Tag:noindex
X-PUBLISHED-TTL:PT1H
BEGIN:VTIMEZONE
TZID:UTC
BEGIN:STANDARD
TZOFFSETFROM:+0000
TZOFFSETTO:+0000
TZNAME:UTC
DTSTART:20200101T000000
END:STANDARD
END:VTIMEZONE
BEGIN:VEVENT
DTSTART;TZID=UTC:20210205T090000
DTEND;TZID=UTC:20210205T113000
DTSTAMP:20260426T000711
CREATED:20201028T175530Z
LAST-MODIFIED:20201028T175530Z
UID:15469-1612515600-1612524600@www.ccacademy.edu
SUMMARY:Practical Series - Week 4 (02/05/21)
DESCRIPTION:Practical Series – Topic:\n\nSauces\n\nDemi-Glace\nSmall Sauces\nRoux\nBéchamel\nVelouté\n\n\n\nAbout:\nThe Practical Series is Classic Cooking Academy’s flagship program. Spanning 24 weeks and hosted by Chef Josh Hebert\, this series will educate you around the logistics of the kitchen one step at a time. In each class\, students will first learn their weekly topic(s) from the chef’s lecture before heading into the kitchen to cook dishes on what they’ve just learned. By the end of the course\, students will have a full understanding of nearly every facet of cooking. Don’t be hesitant if you think you’re not up to the task – this class is open for any and all skill levels. \nCosts:\nLump Sum Cost of Practical Series – $2\,500.00 \nPayment Plan of Practical Series – Deposit of $550.00 and then three payments of $325.00 on the first class of each month. \n**NOTE**: In the event of cancellation\, 15% of the total cost will be retained by Classic Cooking Academy to cover administrative costs. \nRegister:\nStep 1: Download and return your completed Application Form and Enrollment Agreement. \nClick to Download our Enrollment Agreement and send a completed copy to our staff. \nClick to Download our Catalog to have on file for reference. \nStep 2: Place your initial deposit of $550.00 plus the $35.00 chef jacket fee. You can pay the deposit via two ways: \nUse the PayPal button for your intended session by visiting the main Practical Series page. \nContact our staff to discuss financials. Our contact info can be found below. \nLogistics:\n\nStudents will be learning techniques of cooking rather than looking at recipes.\n\nAs a result\, bring your own notes and a writing utensil.\n\n\nIf you still need to enroll\, fill out our Enrollment Agreement and send it to us via email or in-person.\nClass starts at 6:30pm sharp. Please be here at least 5 minutes early wearing your chef jacket.\n\nIf you know you will be late or absent entirely for this class\, please notify us beforehand. Our phone number is 480-502-0177 and our email is info@ccacademy.edu.\n\n\nIf you need to make up this class from a previous Practical Series session\, please notify us beforehand. Our phone number is 480-502-0177 and our email is info@ccacademy.edu.\nTo check the overall curriculum of the this program\, click here.\nThe instructor of this series is Chef Josh Hebert.
URL:https://www.ccacademy.edu/calendar/practical-series-week-4-02-05-21/
LOCATION:Classic Cooking Academy\, 10411 East McDowell Mountain Ranch Road\, Scottsdale\, AZ\, 85255\, United States
CATEGORIES:Practical Series
ATTACH;FMTTYPE=image/jpeg:https://www.ccacademy.edu/wp-content/uploads/2018/05/Demi-Glace.jpg
END:VEVENT
BEGIN:VEVENT
DTSTART;TZID=UTC:20210205T130000
DTEND;TZID=UTC:20210205T153000
DTSTAMP:20260426T000711
CREATED:20200611T231403Z
LAST-MODIFIED:20210120T165735Z
UID:14249-1612530000-1612539000@www.ccacademy.edu
SUMMARY:Practical Series – Week 18 (02/05/21)
DESCRIPTION:Practical Series – Topic:\n\nGrains\n\nRice – Long\, Short\, Jasmine\, Basmati\, Risotto\nPasta – Pasta Sauces \nPolenta\n\n\n\nAbout:\nThe Practical Series is Classic Cooking Academy’s flagship program. Spanning 24 weeks and hosted by Chef Josh Hebert\, this series will educate you around the logistics of the kitchen one step at a time. In each class\, students will first learn their weekly topic(s) from the chef’s lecture before heading into the kitchen to cook dishes on what they’ve just learned. By the end of the course\, students will have a full understanding of nearly every facet of cooking. Don’t be hesitant if you think you’re not up to the task – this class is open for any and all skill levels. \nCosts:\nLump Sum Cost of Practical Series – $2\,500.00 \nPayment Plan of Practical Series – Deposit of $550.00 and then three payments of $325.00 on the first class of each month. \n**NOTE**: In the event of cancellation\, 15% of the total cost will be retained by Classic Cooking Academy to cover administrative costs. \nRegister:\nStep 1: Download and return your completed Application Form and Enrollment Agreement. \nClick to Download our Enrollment Agreement and send a completed copy to our staff. \nClick to Download our Catalog to have on file for reference. \nStep 2: Place your initial deposit of $550.00 plus the $35.00 chef jacket fee. You can pay the deposit via two ways: \nUse the PayPal button for your intended session by visiting the main Practical Series page. \nContact our staff to discuss financials. Our contact info can be found below. \nLogistics:\n\nStudents will be learning techniques of cooking rather than looking at recipes.\n\nAs a result\, bring your own notes and a writing utensil.\n\n\nIf you still need to enroll\, fill out our Enrollment Agreement and send it to us via email or in-person.\nClass starts at 6:30pm sharp. Please be here at least 5 minutes early wearing your chef jacket.\n\nIf you know you will be late or absent entirely for this class\, please notify us beforehand. Our phone number is 480-502-0177 and our email is info@ccacademy.edu.\n\n\nIf you need to make up this class from a previous Practical Series session\, please notify us beforehand. Our phone number is 480-502-0177 and our email is info@ccacademy.edu.\nTo check the overall curriculum of the this program\, click here.\nThe instructor of this series is Chef Josh Hebert.
URL:https://www.ccacademy.edu/calendar/practical-series-week-18-02-05-21/
CATEGORIES:Practical Series
ATTACH;FMTTYPE=image/jpeg:https://www.ccacademy.edu/wp-content/uploads/2018/05/Rice.jpg
END:VEVENT
BEGIN:VEVENT
DTSTART;TZID=UTC:20210205T130000
DTEND;TZID=UTC:20210205T153000
DTSTAMP:20260426T000711
CREATED:20200612T182417Z
LAST-MODIFIED:20200612T182453Z
UID:14271-1612530000-1612539000@www.ccacademy.edu
SUMMARY:Practical Series – Week 22 (03/05/21)
DESCRIPTION:Practical Series – Topic:\n\nPastry\n\nCreams – Pastry\, Bavarian\, Gelatin\, Buttercream\nCake Assembly\n\n\n\nAbout:\nThe Practical Series is Classic Cooking Academy’s flagship program. Spanning 24 weeks and hosted by Chef Josh Hebert\, this series will educate you around the logistics of the kitchen one step at a time. In each class\, students will first learn their weekly topic(s) from the chef’s lecture before heading into the kitchen to cook dishes on what they’ve just learned. By the end of the course\, students will have a full understanding of nearly every facet of cooking. Don’t be hesitant if you think you’re not up to the task – this class is open for any and all skill levels. \nCosts:\nLump Sum Cost of Practical Series – $2\,500.00 \nPayment Plan of Practical Series – Deposit of $550.00 and then three payments of $325.00 on the first class of each month. \n**NOTE**: In the event of cancellation\, 15% of the total cost will be retained by Classic Cooking Academy to cover administrative costs. \nRegister:\nStep 1: Download and return your completed Application Form and Enrollment Agreement. \nClick to Download our Enrollment Agreement and send a completed copy to our staff. \nClick to Download our Catalog to have on file for reference. \nStep 2: Place your initial deposit of $550.00 plus the $35.00 chef jacket fee. You can pay the deposit via two ways: \nUse the PayPal button for your intended session by visiting the main Practical Series page. \nContact our staff to discuss financials. Our contact info can be found below. \nLogistics:\n\nStudents will be learning techniques of cooking rather than looking at recipes.\n\nAs a result\, bring your own notes and a writing utensil.\n\n\nIf you still need to enroll\, fill out our Enrollment Agreement and send it to us via email or in-person.\nClass starts at 6:30pm sharp. Please be here at least 5 minutes early wearing your chef jacket.\n\nIf you know you will be late or absent entirely for this class\, please notify us beforehand. Our phone number is 480-502-0177 and our email is info@ccacademy.edu.\n\n\nIf you need to make up this class from a previous Practical Series session\, please notify us beforehand. Our phone number is 480-502-0177 and our email is info@ccacademy.edu.\nTo check the overall curriculum of the this program\, click here.\nThe instructor of this series is Chef Josh Hebert.
URL:https://www.ccacademy.edu/calendar/practical-series-week-22-03-05-21/
CATEGORIES:Practical Series
ATTACH;FMTTYPE=image/jpeg:https://www.ccacademy.edu/wp-content/uploads/2018/05/Cake-Assembly.jpg
END:VEVENT
BEGIN:VEVENT
DTSTART;TZID=UTC:20210205T183000
DTEND;TZID=UTC:20210205T210000
DTSTAMP:20260426T000711
CREATED:20201030T193146Z
LAST-MODIFIED:20210203T182958Z
UID:15583-1612549800-1612558800@www.ccacademy.edu
SUMMARY:Gourmet Cooking Class - Parisian (02/05/21) (SOLD OUT)
DESCRIPTION:Menu – Parisian:\n\n\nBacon and Onion Tart\nSteak Diane\nPomme Purée\nHaricot Verts\nTomato Tartar\nChocolate Éclairs\n\n\nAbout:\nOur most popular stand-alone cooking class\, this is Classic Cooking Academy’s bread and butter. Guests come in\, find a seat\, have a drink\, and meet the chefs who go over each item on the menu. After our staff covers what each table will be cooking\, guests split up among the tables to prepare one dish of their choosing.  At the end\, our chefs take over the kitchen\, while guests return to the dining room and are served a delectable three-course dinner complete with an appetizer\, entrée\, and dessert. \nMore Info:\n\nGourmet Cooking Classes are held on select Fridays\, 6:30 – 9:00pm. Attendees must be 21 years or older to consume any alcohol.\nTo make a reservation\, please call 480-502-0177 or email info@ccacademy.edu.\nSPECIAL DISCOUNT: $50 per person. Gratuity is not included in the class price.\n\nTips for our staff for this evening are not expected but are greatly appreciated. All gratuities are evenly distributed amongst our staff members.\n\n\nWe have a 72-hour cancellation policy. This means that you have three days before the class starts to cancel or change your reservation.\n\nIf you have to cancel within this time period\, you are subject to forfeiture of any payments made to this class or voucher usage.\n\n\nNo dietary restrictions or allergies will be accommodated for this class. If one or more items on tonight’s menu conflicts with your needs\, please reserve spots for an alternative Gourmet Cooking Class.\nClass size is limited to 16 people. Reservations are based on a ‘first come-first serve’ basis.\nClass starts at 6:30pm sharp. Please be here at least 10 minutes early wearing comfortable clothes and closed-toed shoes. If you have long hair\, be sure to tie it behind your head.\nGroupon vouchers are no longer accepted.  If you have an unused voucher\, please request a refund from the purchase site.\nStudents will receive a full copy of all recipes for use at home.\nThis class will be led by Chef Sharon Lunardi. \n\nSOLD OUT. CLICK HERE FOR MORE AVAILABLE EVENTS.
URL:https://www.ccacademy.edu/calendar/gourmet-cooking-class-parisian-02-05-21/
LOCATION:Classic Cooking Academy\, 10411 East McDowell Mountain Ranch Road\, Scottsdale\, AZ\, 85255\, United States
CATEGORIES:Gourmet Class
ATTACH;FMTTYPE=image/png:https://www.ccacademy.edu/wp-content/uploads/2020/10/Screen-Shot-2020-11-03-at-9.53.09-AM.png
END:VEVENT
END:VCALENDAR