BEGIN:VCALENDAR
VERSION:2.0
PRODID:-//Classic Cooking Academy - An Arizona Culinary School - ECPv6.15.20//NONSGML v1.0//EN
CALSCALE:GREGORIAN
METHOD:PUBLISH
X-WR-CALNAME:Classic Cooking Academy - An Arizona Culinary School
X-ORIGINAL-URL:https://www.ccacademy.edu
X-WR-CALDESC:Events for Classic Cooking Academy - An Arizona Culinary School
REFRESH-INTERVAL;VALUE=DURATION:PT1H
X-Robots-Tag:noindex
X-PUBLISHED-TTL:PT1H
BEGIN:VTIMEZONE
TZID:UTC
BEGIN:STANDARD
TZOFFSETFROM:+0000
TZOFFSETTO:+0000
TZNAME:UTC
DTSTART:20200101T000000
END:STANDARD
END:VTIMEZONE
BEGIN:VEVENT
DTSTART;TZID=UTC:20210116T100000
DTEND;TZID=UTC:20210116T130000
DTSTAMP:20260426T014456
CREATED:20201029T205511Z
LAST-MODIFIED:20210114T172630Z
UID:15559-1610791200-1610802000@www.ccacademy.edu
SUMMARY:Pastry Class - Breakfast Favorites (01/16/21) CANCELLED
DESCRIPTION:Breakfast Favorites – Menu:\n\nCinnamon Rolls with Cream Cheese Frosting\nOrange Chocolate Chip Scones\nOrange Curd\n\nAbout:\nThis is recommended for students with some previous baking experience.  Students will work in groups up to 4.  Following an instructor lead demo\, students will make all the desserts with the opportunity to enjoy their creations with a complimentary beverage\, or take their items home.  Bring to-go containers. \nMore Info:\n\n\n\nPastry Classes are held on select Saturdays\, 10am – 1:00pm. Attendees must be 21 years or older to consume any alcohol.\nTo make a reservation\, please call 480-502-0177 or email info@ccacademy.edu.\nSPECIAL DISCOUNT: $50 per person.  Gratuity is not included in the class price.\n\nTips for our staff for this event are not expected but are greatly appreciated. All gratuities are evenly distributed amongst our staff members.\n\n\nWe have a 72-hour cancellation policy. This means that you have three days before the class starts to cancel or change your reservation.\n\nIf you have to cancel within this time period\, you are subject to forfeiture of any payments made to this class or voucher usage.\n\n\nNo dietary restrictions or allergies will be accommodated for this class. If one or more items on today’s menu conflicts with your needs\, please reserve spots for an alternative Pastry Class.\nClass size is limited to 16 people. Reservations are based on a ‘first come-first serve’ basis.\nClass starts at 10am sharp. Please be here at least 10 minutes early wearing comfortable clothes and closed-toed shoes. If you have long hair\, be sure to tie it behind your head.\nGroupon vouchers are no longer accepted.  If you have an unused voucher\, please request a refund from the purchase site.\nStudents will receive a full copy of all recipes for use at home.\nClass will be led by Chef Sharon Lunardi.\n\n\n\nCANCELLED. CLICK HERE FOR MORE AVAILABLE EVENTS.
URL:https://www.ccacademy.edu/calendar/pastry-class-breakfast-favorites-01-16-21/
LOCATION:Classic Cooking Academy\, 10411 East McDowell Mountain Ranch Road\, Scottsdale\, AZ\, 85255\, United States
CATEGORIES:Pastry Class (Stand-Alone)
ATTACH;FMTTYPE=image/png:https://www.ccacademy.edu/wp-content/uploads/2020/10/Screen-Shot-2020-11-03-at-10.02.03-AM.png
END:VEVENT
END:VCALENDAR